BEGIN:VCALENDAR
VERSION:2.0
PRODID:-//St. John&#039;s Academy - ECPv6.15.17//NONSGML v1.0//EN
CALSCALE:GREGORIAN
METHOD:PUBLISH
X-WR-CALNAME:St. John&#039;s Academy
X-ORIGINAL-URL:https://sjahillsdale.org
X-WR-CALDESC:Events for St. John&#039;s Academy
REFRESH-INTERVAL;VALUE=DURATION:PT1H
X-Robots-Tag:noindex
X-PUBLISHED-TTL:PT1H
BEGIN:VTIMEZONE
TZID:America/New_York
BEGIN:DAYLIGHT
TZOFFSETFROM:-0500
TZOFFSETTO:-0400
TZNAME:EDT
DTSTART:20220313T070000
END:DAYLIGHT
BEGIN:STANDARD
TZOFFSETFROM:-0400
TZOFFSETTO:-0500
TZNAME:EST
DTSTART:20221106T060000
END:STANDARD
BEGIN:DAYLIGHT
TZOFFSETFROM:-0500
TZOFFSETTO:-0400
TZNAME:EDT
DTSTART:20230312T070000
END:DAYLIGHT
BEGIN:STANDARD
TZOFFSETFROM:-0400
TZOFFSETTO:-0500
TZNAME:EST
DTSTART:20231105T060000
END:STANDARD
BEGIN:DAYLIGHT
TZOFFSETFROM:-0500
TZOFFSETTO:-0400
TZNAME:EDT
DTSTART:20240310T070000
END:DAYLIGHT
BEGIN:STANDARD
TZOFFSETFROM:-0400
TZOFFSETTO:-0500
TZNAME:EST
DTSTART:20241103T060000
END:STANDARD
BEGIN:DAYLIGHT
TZOFFSETFROM:-0500
TZOFFSETTO:-0400
TZNAME:EDT
DTSTART:20250309T070000
END:DAYLIGHT
BEGIN:STANDARD
TZOFFSETFROM:-0400
TZOFFSETTO:-0500
TZNAME:EST
DTSTART:20251102T060000
END:STANDARD
BEGIN:DAYLIGHT
TZOFFSETFROM:-0500
TZOFFSETTO:-0400
TZNAME:EDT
DTSTART:20260308T070000
END:DAYLIGHT
BEGIN:STANDARD
TZOFFSETFROM:-0400
TZOFFSETTO:-0500
TZNAME:EST
DTSTART:20261101T060000
END:STANDARD
END:VTIMEZONE
BEGIN:VEVENT
DTSTART;TZID=America/New_York:20251017T183000
DTEND;TZID=America/New_York:20251017T200000
DTSTAMP:20260420T202415
CREATED:20251015T015241Z
LAST-MODIFIED:20251017T232517Z
UID:905482-1760725800-1760731200@sjahillsdale.org
SUMMARY:Basketball uniform tryons
DESCRIPTION:
URL:https://sjahillsdale.org/event/basketball-uniform-tryons-3/
LOCATION:HFR
CATEGORIES:SJSA
END:VEVENT
BEGIN:VEVENT
DTSTART;TZID=America/New_York:20250130T160000
DTEND;TZID=America/New_York:20250130T173000
DTSTAMP:20260420T202415
CREATED:20241104T170740Z
LAST-MODIFIED:20250130T214953Z
UID:47404-1738252800-1738258200@sjahillsdale.org
SUMMARY:Cheer practice
DESCRIPTION:
URL:https://sjahillsdale.org/event/cheer-practice-67/
LOCATION:HFR
CATEGORIES:SJSA
END:VEVENT
BEGIN:VEVENT
DTSTART;TZID=America/New_York:20250123T160000
DTEND;TZID=America/New_York:20250123T173000
DTSTAMP:20260420T202415
CREATED:20241104T170735Z
LAST-MODIFIED:20250123T215111Z
UID:47403-1737648000-1737653400@sjahillsdale.org
SUMMARY:Cheer practice
DESCRIPTION:
URL:https://sjahillsdale.org/event/cheer-practice-66/
LOCATION:HFR
CATEGORIES:SJSA
END:VEVENT
BEGIN:VEVENT
DTSTART;TZID=America/New_York:20250102T160000
DTEND;TZID=America/New_York:20250102T173000
DTSTAMP:20260420T202415
CREATED:20241104T170714Z
LAST-MODIFIED:20250102T211859Z
UID:47400-1735833600-1735839000@sjahillsdale.org
SUMMARY:Cheer practice
DESCRIPTION:
URL:https://sjahillsdale.org/event/cheer-practice-63/
LOCATION:HFR
CATEGORIES:SJSA
END:VEVENT
BEGIN:VEVENT
DTSTART;TZID=America/New_York:20241210T160000
DTEND;TZID=America/New_York:20241210T173000
DTSTAMP:20260420T202415
CREATED:20241104T170656Z
LAST-MODIFIED:20241210T222242Z
UID:47397-1733846400-1733851800@sjahillsdale.org
SUMMARY:Cheer practice
DESCRIPTION:
URL:https://sjahillsdale.org/event/cheer-practice-60/
LOCATION:HFR
CATEGORIES:SJSA
END:VEVENT
BEGIN:VEVENT
DTSTART;TZID=America/New_York:20241125T163000
DTEND;TZID=America/New_York:20241125T180000
DTSTAMP:20260420T202415
CREATED:20241027T065251Z
LAST-MODIFIED:20241125T223620Z
UID:46817-1732552200-1732557600@sjahillsdale.org
SUMMARY:Cheer practice
DESCRIPTION:
URL:https://sjahillsdale.org/event/cheer-practice-56/
LOCATION:HFR
CATEGORIES:SJSA
END:VEVENT
BEGIN:VEVENT
DTSTART;TZID=America/New_York:20241104T163000
DTEND;TZID=America/New_York:20241104T180000
DTSTAMP:20260420T202415
CREATED:20241027T065245Z
LAST-MODIFIED:20241104T225100Z
UID:46816-1730737800-1730743200@sjahillsdale.org
SUMMARY:Cheer uniform try-on
DESCRIPTION:
URL:https://sjahillsdale.org/event/cheer-uniform-try-on/
LOCATION:HFR
CATEGORIES:SJSA
END:VEVENT
BEGIN:VEVENT
DTSTART;TZID=America/New_York:20240610T190000
DTEND;TZID=America/New_York:20240610T200000
DTSTAMP:20260420T202415
CREATED:20240604T035110Z
LAST-MODIFIED:20240610T233218Z
UID:40787-1718046000-1718049600@sjahillsdale.org
SUMMARY:Track team medals ceremony
DESCRIPTION:
URL:https://sjahillsdale.org/event/track-team-medals-ceremony/
LOCATION:HFR
CATEGORIES:SJSA
END:VEVENT
BEGIN:VEVENT
DTSTART;TZID=America/New_York:20240227T160000
DTEND;TZID=America/New_York:20240227T173000
DTSTAMP:20260420T202415
CREATED:20240127T023035Z
LAST-MODIFIED:20240227T223109Z
UID:36000-1709049600-1709055000@sjahillsdale.org
SUMMARY:Cheer practice
DESCRIPTION:
URL:https://sjahillsdale.org/event/cheer-practice-54/
LOCATION:HFR
CATEGORIES:SJSA
END:VEVENT
BEGIN:VEVENT
DTSTART;TZID=America/New_York:20240220T160000
DTEND;TZID=America/New_York:20240220T173000
DTSTAMP:20260420T202415
CREATED:20240127T023031Z
LAST-MODIFIED:20240217T021508Z
UID:35999-1708444800-1708450200@sjahillsdale.org
SUMMARY:Cheer practice
DESCRIPTION:
URL:https://sjahillsdale.org/event/cheer-practice-53/
LOCATION:HFR
CATEGORIES:SJSA
END:VEVENT
BEGIN:VEVENT
DTSTART;TZID=America/New_York:20240213T160000
DTEND;TZID=America/New_York:20240213T173000
DTSTAMP:20260420T202415
CREATED:20240127T023026Z
LAST-MODIFIED:20240213T200305Z
UID:35998-1707840000-1707845400@sjahillsdale.org
SUMMARY:Cheer practice
DESCRIPTION:
URL:https://sjahillsdale.org/event/cheer-practice-52/
LOCATION:HFR
CATEGORIES:SJSA
END:VEVENT
BEGIN:VEVENT
DTSTART;TZID=America/New_York:20240206T160000
DTEND;TZID=America/New_York:20240206T173000
DTSTAMP:20260420T202415
CREATED:20240127T023020Z
LAST-MODIFIED:20240206T220206Z
UID:35997-1707235200-1707240600@sjahillsdale.org
SUMMARY:Cheer practice
DESCRIPTION:
URL:https://sjahillsdale.org/event/cheer-practice-51/
LOCATION:HFR
CATEGORIES:SJSA
END:VEVENT
BEGIN:VEVENT
DTSTART;TZID=America/New_York:20240130T160000
DTEND;TZID=America/New_York:20240130T173000
DTSTAMP:20260420T202415
CREATED:20240127T023012Z
LAST-MODIFIED:20240130T213107Z
UID:35996-1706630400-1706635800@sjahillsdale.org
SUMMARY:Cheer practice
DESCRIPTION:
URL:https://sjahillsdale.org/event/cheer-practice-50/
LOCATION:HFR
CATEGORIES:SJSA
END:VEVENT
BEGIN:VEVENT
DTSTART;TZID=America/New_York:20240102T160000
DTEND;TZID=America/New_York:20240102T173000
DTSTAMP:20260420T202415
CREATED:20231227T214710Z
LAST-MODIFIED:20240102T222008Z
UID:34906-1704211200-1704216600@sjahillsdale.org
SUMMARY:Cheer practice
DESCRIPTION:
URL:https://sjahillsdale.org/event/cheer-practice-27/
LOCATION:HFR
CATEGORIES:SJSA
END:VEVENT
BEGIN:VEVENT
DTSTART;TZID=America/New_York:20231226T160000
DTEND;TZID=America/New_York:20231226T173000
DTSTAMP:20260420T202415
CREATED:20231217T032021Z
LAST-MODIFIED:20231226T223305Z
UID:34618-1703606400-1703611800@sjahillsdale.org
SUMMARY:Cheer practice
DESCRIPTION:
URL:https://sjahillsdale.org/event/cheer-practice-16/
LOCATION:HFR
CATEGORIES:SJSA
END:VEVENT
BEGIN:VEVENT
DTSTART;TZID=America/New_York:20231219T160000
DTEND;TZID=America/New_York:20231219T173000
DTSTAMP:20260420T202415
CREATED:20231217T032017Z
LAST-MODIFIED:20231219T214809Z
UID:34617-1703001600-1703007000@sjahillsdale.org
SUMMARY:Cheer practice
DESCRIPTION:
URL:https://sjahillsdale.org/event/cheer-practice-15/
LOCATION:HFR
CATEGORIES:SJSA
END:VEVENT
BEGIN:VEVENT
DTSTART;TZID=America/New_York:20231212T160000
DTEND;TZID=America/New_York:20231212T173000
DTSTAMP:20260420T202415
CREATED:20231208T174513Z
LAST-MODIFIED:20231210T030009Z
UID:34553-1702396800-1702402200@sjahillsdale.org
SUMMARY:Cheer practice
DESCRIPTION:
URL:https://sjahillsdale.org/event/cheer-practice-2/
LOCATION:HFR
CATEGORIES:SJSA
END:VEVENT
END:VCALENDAR