BEGIN:VCALENDAR
VERSION:2.0
PRODID:-//St. John&#039;s Academy - ECPv6.15.20//NONSGML v1.0//EN
CALSCALE:GREGORIAN
METHOD:PUBLISH
X-WR-CALNAME:St. John&#039;s Academy
X-ORIGINAL-URL:https://sjahillsdale.org
X-WR-CALDESC:Events for St. John&#039;s Academy
REFRESH-INTERVAL;VALUE=DURATION:PT1H
X-Robots-Tag:noindex
X-PUBLISHED-TTL:PT1H
BEGIN:VTIMEZONE
TZID:America/New_York
BEGIN:DAYLIGHT
TZOFFSETFROM:-0500
TZOFFSETTO:-0400
TZNAME:EDT
DTSTART:20250309T070000
END:DAYLIGHT
BEGIN:STANDARD
TZOFFSETFROM:-0400
TZOFFSETTO:-0500
TZNAME:EST
DTSTART:20251102T060000
END:STANDARD
BEGIN:DAYLIGHT
TZOFFSETFROM:-0500
TZOFFSETTO:-0400
TZNAME:EDT
DTSTART:20260308T070000
END:DAYLIGHT
BEGIN:STANDARD
TZOFFSETFROM:-0400
TZOFFSETTO:-0500
TZNAME:EST
DTSTART:20261101T060000
END:STANDARD
BEGIN:DAYLIGHT
TZOFFSETFROM:-0500
TZOFFSETTO:-0400
TZNAME:EDT
DTSTART:20270314T070000
END:DAYLIGHT
BEGIN:STANDARD
TZOFFSETFROM:-0400
TZOFFSETTO:-0500
TZNAME:EST
DTSTART:20271107T060000
END:STANDARD
END:VTIMEZONE
BEGIN:VEVENT
DTSTART;VALUE=DATE:20260525
DTEND;VALUE=DATE:20260526
DTSTAMP:20260423T110026
CREATED:20250730T160925Z
LAST-MODIFIED:20250730T160925Z
UID:902453-1779667200-1779753599@sjahillsdale.org
SUMMARY:Memorial Day- School Closed
DESCRIPTION:
URL:https://sjahillsdale.org/event/memorial-day-school-closed-2/
CATEGORIES:General
END:VEVENT
BEGIN:VEVENT
DTSTART;TZID=America/New_York:20260526T141500
DTEND;TZID=America/New_York:20260526T151500
DTSTAMP:20260423T110026
CREATED:20260422T180336Z
LAST-MODIFIED:20260422T180336Z
UID:915639-1779804900-1779808500@sjahillsdale.org
SUMMARY:Dance Caravan
DESCRIPTION:
URL:https://sjahillsdale.org/event/dance-caravan-2/
CATEGORIES:General
END:VEVENT
BEGIN:VEVENT
DTSTART;TZID=America/New_York:20260529T130000
DTEND;TZID=America/New_York:20260529T210000
DTSTAMP:20260423T110026
CREATED:20260309T183933Z
LAST-MODIFIED:20260423T145108Z
UID:912000-1780059600-1780088400@sjahillsdale.org
SUMMARY:3rd - 5th Grade Event (Former Glow Dance) - Time TBA
DESCRIPTION:Join with Google Meet: https://meet.google.com/ynj-ybbd-vqh\nOr dial: (US) +1 301-969-4591 PIN: 957315966#\nLearn more about Meet at: https://support.google.com/a/users/answer/9282720
URL:https://sjahillsdale.org/event/3rd-5th-grade-event-former-glow-dance-time-tba/
CATEGORIES:SJSA
ORGANIZER;CN="amitchell@sja-hillsdale.org":MAILTO:amitchell@sja-hillsdale.org
END:VEVENT
BEGIN:VEVENT
DTSTART;TZID=America/New_York:20260529T163000
DTEND;TZID=America/New_York:20260529T210000
DTSTAMP:20260423T110026
CREATED:20260305T185130Z
LAST-MODIFIED:20260423T145108Z
UID:911844-1780072200-1780088400@sjahillsdale.org
SUMMARY:Gym closed: 3-5th Dance
DESCRIPTION:
URL:https://sjahillsdale.org/event/gym-closed-3-5th-dance/
CATEGORIES:SJSA
END:VEVENT
BEGIN:VEVENT
DTSTART;TZID=America/New_York:20260529T163000
DTEND;TZID=America/New_York:20260529T210000
DTSTAMP:20260423T110026
CREATED:20260310T161932Z
LAST-MODIFIED:20260310T161932Z
UID:912023-1780072200-1780088400@sjahillsdale.org
SUMMARY:3rd - 5th Grade Dance (Former Glow Dance)
DESCRIPTION:
URL:https://sjahillsdale.org/event/3rd-5th-grade-dance-former-glow-dance/
CATEGORIES:General
END:VEVENT
END:VCALENDAR