BEGIN:VCALENDAR
VERSION:2.0
PRODID:-//St. John&#039;s Academy - ECPv6.15.17//NONSGML v1.0//EN
CALSCALE:GREGORIAN
METHOD:PUBLISH
X-WR-CALNAME:St. John&#039;s Academy
X-ORIGINAL-URL:https://sjahillsdale.org
X-WR-CALDESC:Events for St. John&#039;s Academy
REFRESH-INTERVAL;VALUE=DURATION:PT1H
X-Robots-Tag:noindex
X-PUBLISHED-TTL:PT1H
BEGIN:VTIMEZONE
TZID:America/New_York
BEGIN:DAYLIGHT
TZOFFSETFROM:-0500
TZOFFSETTO:-0400
TZNAME:EDT
DTSTART:20230312T070000
END:DAYLIGHT
BEGIN:STANDARD
TZOFFSETFROM:-0400
TZOFFSETTO:-0500
TZNAME:EST
DTSTART:20231105T060000
END:STANDARD
BEGIN:DAYLIGHT
TZOFFSETFROM:-0500
TZOFFSETTO:-0400
TZNAME:EDT
DTSTART:20240310T070000
END:DAYLIGHT
BEGIN:STANDARD
TZOFFSETFROM:-0400
TZOFFSETTO:-0500
TZNAME:EST
DTSTART:20241103T060000
END:STANDARD
BEGIN:DAYLIGHT
TZOFFSETFROM:-0500
TZOFFSETTO:-0400
TZNAME:EDT
DTSTART:20250309T070000
END:DAYLIGHT
BEGIN:STANDARD
TZOFFSETFROM:-0400
TZOFFSETTO:-0500
TZNAME:EST
DTSTART:20251102T060000
END:STANDARD
END:VTIMEZONE
BEGIN:VEVENT
DTSTART;TZID=America/New_York:20241020T100000
DTEND;TZID=America/New_York:20241020T123000
DTSTAMP:20260421T131949
CREATED:20240508T143713Z
LAST-MODIFIED:20240508T143708Z
UID:39607-1729418400-1729427400@sjahillsdale.org
SUMMARY:HSPT prep course
DESCRIPTION:
URL:https://sjahillsdale.org/event/hspt-prep-course-2/2024-10-20/
LOCATION:St. John’s Academy\, 460 Hillsdale Avenue\, Hillsdale\, New Jersey\, 07642
CATEGORIES:General
END:VEVENT
BEGIN:VEVENT
DTSTART;TZID=America/New_York:20241020T130000
DTEND;TZID=America/New_York:20241020T150000
DTSTAMP:20260421T131949
CREATED:20240904T141046Z
LAST-MODIFIED:20240904T141046Z
UID:44186-1729429200-1729436400@sjahillsdale.org
SUMMARY:Don Bosco Open House
DESCRIPTION:
URL:https://sjahillsdale.org/event/don-bosco-open-house-2/
LOCATION:Don Bosco Preparatory High School\, 492 Franklin Turnpike\, Ramsey\, New Jersey\, 07446\, United States
CATEGORIES:General
END:VEVENT
BEGIN:VEVENT
DTSTART;TZID=America/New_York:20241020T130000
DTEND;TZID=America/New_York:20241020T160000
DTSTAMP:20260421T131949
CREATED:20240926T130033Z
LAST-MODIFIED:20240926T130033Z
UID:45057-1729429200-1729440000@sjahillsdale.org
SUMMARY:St. Peter's Prep - Open House
DESCRIPTION:
URL:https://sjahillsdale.org/event/st-peters-prep-open-house-6/
LOCATION:St. Peter’s Prep\, 144 Grand St.\, Jersey City\, New Jersey\, United States
CATEGORIES:General
END:VEVENT
BEGIN:VEVENT
DTSTART;TZID=America/New_York:20241020T170000
DTEND;TZID=America/New_York:20241020T193000
DTSTAMP:20260421T131949
CREATED:20241020T043623Z
LAST-MODIFIED:20241020T062047Z
UID:46501-1729443600-1729452600@sjahillsdale.org
SUMMARY:VB practice (EG)
DESCRIPTION:
URL:https://sjahillsdale.org/event/vb-practice-eg-101/
CATEGORIES:SJSA
END:VEVENT
BEGIN:VEVENT
DTSTART;TZID=America/New_York:20241021T141500
DTEND;TZID=America/New_York:20241021T151500
DTSTAMP:20260421T131949
CREATED:20240920T133246Z
LAST-MODIFIED:20240920T133246Z
UID:44814-1729520100-1729523700@sjahillsdale.org
SUMMARY:Little Ivy Enrichment (grades 3-5 RobotMakers)
DESCRIPTION:
URL:https://sjahillsdale.org/event/little-ivy-enrichment-grades-3-5-robotmakers-2/2024-10-21/
CATEGORIES:General
END:VEVENT
BEGIN:VEVENT
DTSTART;TZID=America/New_York:20241021T141500
DTEND;TZID=America/New_York:20241021T153000
DTSTAMP:20260421T131949
CREATED:20240822T155610Z
LAST-MODIFIED:20240822T155610Z
UID:43343-1729520100-1729524600@sjahillsdale.org
SUMMARY:Cooking Enrichment 7th/8th grade with Ms. Winter
DESCRIPTION:
URL:https://sjahillsdale.org/event/cooking-enrichment-7th-8th-grade-with-ms-winter-2/2024-10-21/
LOCATION:St. John’s Academy\, 460 Hillsdale Avenue\, Hillsdale\, New Jersey\, 07642
CATEGORIES:General
END:VEVENT
BEGIN:VEVENT
DTSTART;TZID=America/New_York:20241021T141500
DTEND;TZID=America/New_York:20241021T153000
DTSTAMP:20260421T131949
CREATED:20241008T154828Z
LAST-MODIFIED:20241020T062047Z
UID:45736-1729520100-1729524600@sjahillsdale.org
SUMMARY:Gym Closed- Soccer Enrichment
DESCRIPTION:
URL:https://sjahillsdale.org/event/gym-closed-soccer-enrichment-12/
CATEGORIES:SJSA
END:VEVENT
BEGIN:VEVENT
DTSTART;TZID=America/New_York:20241021T142000
DTEND;TZID=America/New_York:20241021T152000
DTSTAMP:20260421T131949
CREATED:20240703T152124Z
LAST-MODIFIED:20240703T152124Z
UID:42034-1729520400-1729524000@sjahillsdale.org
SUMMARY:Soccer Enrichment
DESCRIPTION:
URL:https://sjahillsdale.org/event/soccer-enrichment-2/2024-10-21/
CATEGORIES:General
END:VEVENT
BEGIN:VEVENT
DTSTART;TZID=America/New_York:20241021T173000
DTEND;TZID=America/New_York:20241021T183000
DTSTAMP:20260421T131949
CREATED:20241013T160643Z
LAST-MODIFIED:20241020T062048Z
UID:46021-1729531800-1729535400@sjahillsdale.org
SUMMARY:VB practice (JL)
DESCRIPTION:
URL:https://sjahillsdale.org/event/vb-practice-jl-16/
CATEGORIES:SJSA
END:VEVENT
BEGIN:VEVENT
DTSTART;TZID=America/New_York:20241021T190000
DTEND;TZID=America/New_York:20241021T200000
DTSTAMP:20260421T131949
CREATED:20240924T052004Z
LAST-MODIFIED:20241020T062048Z
UID:44948-1729537200-1729540800@sjahillsdale.org
SUMMARY:VB Game: JV Black
DESCRIPTION:
URL:https://sjahillsdale.org/event/vb-game-jv-black-7/
CATEGORIES:SJSA
END:VEVENT
BEGIN:VEVENT
DTSTART;TZID=America/New_York:20241021T200000
DTEND;TZID=America/New_York:20241021T210000
DTSTAMP:20260421T131949
CREATED:20240924T052003Z
LAST-MODIFIED:20241020T062048Z
UID:44947-1729540800-1729544400@sjahillsdale.org
SUMMARY:VB Game: JV White
DESCRIPTION:
URL:https://sjahillsdale.org/event/vb-game-jv-white-8/
CATEGORIES:SJSA
END:VEVENT
BEGIN:VEVENT
DTSTART;TZID=America/New_York:20241022T090000
DTEND;TZID=America/New_York:20241022T103000
DTSTAMP:20260421T131949
CREATED:20240925T182209Z
LAST-MODIFIED:20241015T181235Z
UID:45012-1729587600-1729593000@sjahillsdale.org
SUMMARY:SJA Fall Open House
DESCRIPTION:Register for your Visit				\n				\n				\n				\n							\n			\n			\n			\n\n			\n			\n								\n													\n											\n								\n													\n											\n								\n												\n								Parent Name							\n														\n											\n								\n												\n								Email Address							\n														\n											\n								\n												\n								Phone Number							\n								\n\n						\n								\n												\n								Town/City of Residence							\n														\n											\n								\n												\n								How did you hear about SJA?							\n														\n											\n								\n					Children				\n								\n												\n								First Name							\n														\n											\n								\n												\n								Last Name							\n														\n											\n								\n												\n								Current Grade							\n								\n			\n							\n			\n									\n									PreK3\n									PreK4\n									K\n									1\n									2\n									3\n									4\n									5\n									6\n									7\n									8\n							\n		\n						\n								\n												\n								Birthdate							\n						\n		\n						\n								\n												\n								First Name							\n														\n											\n								\n												\n								Last Name							\n														\n											\n								\n												\n								Current Grade							\n								\n			\n							\n			\n									\n									PreK3\n									PreK4\n									K\n									1\n									2\n									3\n									4\n									5\n									6\n									7\n									8\n							\n		\n						\n								\n												\n								Birthdate							\n						\n		\n						\n								\n												\n								First Name							\n														\n											\n								\n												\n								Last Name							\n														\n											\n								\n												\n								Current Grade							\n								\n			\n							\n			\n									\n									PreK3\n									PreK4\n									K\n									1\n									2\n									3\n									4\n									5\n									6\n									7\n									8\n							\n		\n						\n								\n												\n								Birthdate							\n						\n		\n						\n								\n					\n						\n																						Register
URL:https://sjahillsdale.org/event/sja-fall-open-house-2024/
LOCATION:St. John’s Academy\, 460 Hillsdale Avenue\, Hillsdale\, New Jersey\, 07642
CATEGORIES:General
END:VEVENT
BEGIN:VEVENT
DTSTART;TZID=America/New_York:20241022T141500
DTEND;TZID=America/New_York:20241022T151500
DTSTAMP:20260421T131951
CREATED:20240920T135841Z
LAST-MODIFIED:20240920T135840Z
UID:44823-1729606500-1729610100@sjahillsdale.org
SUMMARY:Little Ivy Enrichment (grades 6-8) Design Makers
DESCRIPTION:
URL:https://sjahillsdale.org/event/little-ivy-enrichment-grades-6-8-design-makers/2024-10-22/
CATEGORIES:General
END:VEVENT
BEGIN:VEVENT
DTSTART;TZID=America/New_York:20241022T141500
DTEND;TZID=America/New_York:20241022T153000
DTSTAMP:20260421T131951
CREATED:20240911T131243Z
LAST-MODIFIED:20240911T131242Z
UID:44540-1729606500-1729611000@sjahillsdale.org
SUMMARY:Benvenuti - Italian Enrichment Class (Grades 3rd-5th)
DESCRIPTION:
URL:https://sjahillsdale.org/event/benvenuti-italian-enrichment-class-grades-3rd-5th/2024-10-22/
CATEGORIES:General
END:VEVENT
BEGIN:VEVENT
DTSTART;TZID=America/New_York:20241022T170000
DTEND;TZID=America/New_York:20241022T183000
DTSTAMP:20260421T131951
CREATED:20241022T035846Z
LAST-MODIFIED:20241022T035846Z
UID:46625-1729616400-1729621800@sjahillsdale.org
SUMMARY:VB practice (EG)
DESCRIPTION:
URL:https://sjahillsdale.org/event/vb-practice-eg-102/
CATEGORIES:SJSA
END:VEVENT
BEGIN:VEVENT
DTSTART;TZID=America/New_York:20241022T190000
DTEND;TZID=America/New_York:20241022T200000
DTSTAMP:20260421T131951
CREATED:20240924T052004Z
LAST-MODIFIED:20241022T035847Z
UID:44950-1729623600-1729627200@sjahillsdale.org
SUMMARY:VB Game: JV Red
DESCRIPTION:
URL:https://sjahillsdale.org/event/vb-game-jv-red-11/
CATEGORIES:SJSA
END:VEVENT
BEGIN:VEVENT
DTSTART;TZID=America/New_York:20241022T200000
DTEND;TZID=America/New_York:20241022T210000
DTSTAMP:20260421T131951
CREATED:20240924T052004Z
LAST-MODIFIED:20241022T035847Z
UID:44949-1729627200-1729630800@sjahillsdale.org
SUMMARY:VB Game: V G7 Wht
DESCRIPTION:
URL:https://sjahillsdale.org/event/vb-game-v-g7-wht-4/
CATEGORIES:SJSA
END:VEVENT
BEGIN:VEVENT
DTSTART;TZID=America/New_York:20241023T130000
DTEND;TZID=America/New_York:20241023T140000
DTSTAMP:20260421T131951
CREATED:20241015T180307Z
LAST-MODIFIED:20241015T181350Z
UID:46108-1729688400-1729692000@sjahillsdale.org
SUMMARY:SJA Fall Open House
DESCRIPTION:Register for your Visit				\n				\n				\n				\n							\n			\n			\n			\n\n			\n			\n								\n													\n											\n								\n													\n											\n								\n												\n								Parent Name							\n														\n											\n								\n												\n								Email Address							\n														\n											\n								\n												\n								Phone Number							\n								\n\n						\n								\n												\n								Town/City of Residence							\n														\n											\n								\n												\n								How did you hear about SJA?							\n														\n											\n								\n					Children				\n								\n												\n								First Name							\n														\n											\n								\n												\n								Last Name							\n														\n											\n								\n												\n								Current Grade							\n								\n			\n							\n			\n									\n									PreK3\n									PreK4\n									K\n									1\n									2\n									3\n									4\n									5\n									6\n									7\n									8\n							\n		\n						\n								\n												\n								Birthdate							\n						\n		\n						\n								\n												\n								First Name							\n														\n											\n								\n												\n								Last Name							\n														\n											\n								\n												\n								Current Grade							\n								\n			\n							\n			\n									\n									PreK3\n									PreK4\n									K\n									1\n									2\n									3\n									4\n									5\n									6\n									7\n									8\n							\n		\n						\n								\n												\n								Birthdate							\n						\n		\n						\n								\n												\n								First Name							\n														\n											\n								\n												\n								Last Name							\n														\n											\n								\n												\n								Current Grade							\n								\n			\n							\n			\n									\n									PreK3\n									PreK4\n									K\n									1\n									2\n									3\n									4\n									5\n									6\n									7\n									8\n							\n		\n						\n								\n												\n								Birthdate							\n						\n		\n						\n								\n					\n						\n																						Register
URL:https://sjahillsdale.org/event/sja-fall-open-house-2024-2/
LOCATION:St. John’s Academy\, 460 Hillsdale Avenue\, Hillsdale\, New Jersey\, 07642
CATEGORIES:General
END:VEVENT
BEGIN:VEVENT
DTSTART;TZID=America/New_York:20241023T141500
DTEND;TZID=America/New_York:20241023T151500
DTSTAMP:20260421T131952
CREATED:20240911T125658Z
LAST-MODIFIED:20240911T125656Z
UID:44531-1729692900-1729696500@sjahillsdale.org
SUMMARY:Math Enrichment begins grades 3-5
DESCRIPTION:
URL:https://sjahillsdale.org/event/math-enrichment-begins-grades-3-5/2024-10-23/
CATEGORIES:General
END:VEVENT
BEGIN:VEVENT
DTSTART;TZID=America/New_York:20241023T141500
DTEND;TZID=America/New_York:20241023T153000
DTSTAMP:20260421T131952
CREATED:20240911T131543Z
LAST-MODIFIED:20240911T131541Z
UID:44553-1729692900-1729697400@sjahillsdale.org
SUMMARY:Benvenuti - Italian Enrichment Class (Grades K-2nd)
DESCRIPTION:
URL:https://sjahillsdale.org/event/benvenuti-italian-enrichment-class-grades-k-2nd/2024-10-23/
CATEGORIES:General
END:VEVENT
BEGIN:VEVENT
DTSTART;TZID=America/New_York:20241023T163000
DTEND;TZID=America/New_York:20241023T173000
DTSTAMP:20260421T131952
CREATED:20241004T133548Z
LAST-MODIFIED:20241022T035847Z
UID:45460-1729701000-1729704600@sjahillsdale.org
SUMMARY:VB practice (RE)
DESCRIPTION:
URL:https://sjahillsdale.org/event/vb-practice-re-39/
CATEGORIES:SJSA
END:VEVENT
BEGIN:VEVENT
DTSTART;TZID=America/New_York:20241023T173000
DTEND;TZID=America/New_York:20241023T190000
DTSTAMP:20260421T131952
CREATED:20241004T133548Z
LAST-MODIFIED:20241022T035847Z
UID:45461-1729704600-1729710000@sjahillsdale.org
SUMMARY:VB practice (MG)
DESCRIPTION:
URL:https://sjahillsdale.org/event/vb-practice-mg-36/
CATEGORIES:SJSA
END:VEVENT
BEGIN:VEVENT
DTSTART;TZID=America/New_York:20241023T190000
DTEND;TZID=America/New_York:20241023T203000
DTSTAMP:20260421T131952
CREATED:20241022T035847Z
LAST-MODIFIED:20241022T035847Z
UID:46626-1729710000-1729715400@sjahillsdale.org
SUMMARY:Uniform tryons
DESCRIPTION:
URL:https://sjahillsdale.org/event/uniform-tryons/
CATEGORIES:SJSA
END:VEVENT
BEGIN:VEVENT
DTSTART;TZID=America/New_York:20241024T141500
DTEND;TZID=America/New_York:20241024T153000
DTSTAMP:20260421T131952
CREATED:20240815T134236Z
LAST-MODIFIED:20240815T134232Z
UID:43076-1729779300-1729783800@sjahillsdale.org
SUMMARY:Art/Gardening Enrichment (PK4-8th)
DESCRIPTION:
URL:https://sjahillsdale.org/event/art-gardening-enrichment-pk4-8th/2024-10-24/
CATEGORIES:General
END:VEVENT
BEGIN:VEVENT
DTSTART;TZID=America/New_York:20241024T163000
DTEND;TZID=America/New_York:20241024T180000
DTSTAMP:20260421T131952
CREATED:20241004T133549Z
LAST-MODIFIED:20241022T035848Z
UID:45462-1729787400-1729792800@sjahillsdale.org
SUMMARY:VB practice (ST)
DESCRIPTION:
URL:https://sjahillsdale.org/event/vb-practice-st-50/
CATEGORIES:SJSA
END:VEVENT
BEGIN:VEVENT
DTSTART;TZID=America/New_York:20241024T180000
DTEND;TZID=America/New_York:20241024T193000
DTSTAMP:20260421T131952
CREATED:20241022T035848Z
LAST-MODIFIED:20241022T035848Z
UID:46627-1729792800-1729798200@sjahillsdale.org
SUMMARY:VB practice (CB)
DESCRIPTION:
URL:https://sjahillsdale.org/event/vb-practice-cb-62/
CATEGORIES:SJSA
END:VEVENT
BEGIN:VEVENT
DTSTART;TZID=America/New_York:20241024T193000
DTEND;TZID=America/New_York:20241024T203000
DTSTAMP:20260421T131952
CREATED:20241022T035848Z
LAST-MODIFIED:20241022T035848Z
UID:46628-1729798200-1729801800@sjahillsdale.org
SUMMARY:VB practice (VS)
DESCRIPTION:
URL:https://sjahillsdale.org/event/vb-practice-vs-11/
CATEGORIES:SJSA
END:VEVENT
BEGIN:VEVENT
DTSTART;TZID=America/New_York:20241025T141500
DTEND;TZID=America/New_York:20241025T153000
DTSTAMP:20260421T131952
CREATED:20240905T175740Z
LAST-MODIFIED:20240905T175740Z
UID:44350-1729865700-1729870200@sjahillsdale.org
SUMMARY:Aftercare End @ 3:30 p.m.
DESCRIPTION:
URL:https://sjahillsdale.org/event/aftercare-end-330-p-m/
CATEGORIES:General
END:VEVENT
BEGIN:VEVENT
DTSTART;TZID=America/New_York:20241025T160000
DTEND;TZID=America/New_York:20241025T180000
DTSTAMP:20260421T131952
CREATED:20240904T145209Z
LAST-MODIFIED:20241008T220349Z
UID:44212-1729872000-1729879200@sjahillsdale.org
SUMMARY:Trunk or Treat 2024
DESCRIPTION:We hope to see you for this spooktacular event! Learn more and register below. View flyer \nDetails\n\nThis event is open only to current SJA students and families.\nOnly ONE ticket is needed per family (either decorating or attending).\nThe first 200 children to arrive will receive a Trunk or Treat bag courtesy of the Camilleri Family.\nPizza is available for $16/pie to order ahead when you register (will not be available to purchase at event).\nWater will be available to purchase at the event.\nAn email will be sent to you once you have completed registration. (Check spam folders if not received.)\nVolunteers are needed for the event day. Please sign up to volunteer here!\n\nIf you are decorating your car/table: \n\nBring enough candy for 200 children.\nFeel free to offer candy alternatives (stickers\, pencils\, etc)\nArrive by 3:30 PM to set up before the event.\nEnter via Hillsdale Avenue – the Orchard Street entrance will be closed.\nSpots will be assigned in order of arrival.\nThe lot will close promptly at 4:00 PM.\n\nIf you are only attending (not decorating): \n\nPark outside the SJA lot and walk to the check-in table.\nYou do NOT need to bring candy to the event.\n\n		\n			\n					\n				\n				\n									Registration available from Oct 3 – Oct 20
URL:https://sjahillsdale.org/event/trunk-or-treat-2024/
LOCATION:St. John’s Academy\, 460 Hillsdale Avenue\, Hillsdale\, New Jersey\, 07642
CATEGORIES:General,PTG
ATTACH;FMTTYPE=image/png:https://sjahillsdale.org/wp-content/uploads/2024/09/sja-trunk-or-treat.png
END:VEVENT
BEGIN:VEVENT
DTSTART;TZID=America/New_York:20241025T160000
DTEND;TZID=America/New_York:20241025T180000
DTSTAMP:20260421T131952
CREATED:20240916T134823Z
LAST-MODIFIED:20241022T035849Z
UID:44715-1729872000-1729879200@sjahillsdale.org
SUMMARY:SJA Trunk or Treat
DESCRIPTION:
URL:https://sjahillsdale.org/event/sja-trunk-or-treat/
CATEGORIES:SJSA
END:VEVENT
BEGIN:VEVENT
DTSTART;TZID=America/New_York:20241025T163000
DTEND;TZID=America/New_York:20241025T173000
DTSTAMP:20260421T131952
CREATED:20241004T133549Z
LAST-MODIFIED:20241022T035849Z
UID:45463-1729873800-1729877400@sjahillsdale.org
SUMMARY:VB practice (ST)
DESCRIPTION:
URL:https://sjahillsdale.org/event/vb-practice-st-51/
CATEGORIES:SJSA
END:VEVENT
BEGIN:VEVENT
DTSTART;TZID=America/New_York:20241025T173000
DTEND;TZID=America/New_York:20241025T190000
DTSTAMP:20260421T131952
CREATED:20241004T133549Z
LAST-MODIFIED:20241022T035848Z
UID:45464-1729877400-1729882800@sjahillsdale.org
SUMMARY:VB practice (MG)
DESCRIPTION:
URL:https://sjahillsdale.org/event/vb-practice-mg-37/
CATEGORIES:SJSA
END:VEVENT
BEGIN:VEVENT
DTSTART;TZID=America/New_York:20241026T090000
DTEND;TZID=America/New_York:20241026T100000
DTSTAMP:20260421T131952
CREATED:20240924T052005Z
LAST-MODIFIED:20241022T035849Z
UID:44951-1729933200-1729936800@sjahillsdale.org
SUMMARY:VB Game: V G8 Wht
DESCRIPTION:
URL:https://sjahillsdale.org/event/vb-game-v-g8-wht-6/
CATEGORIES:SJSA
END:VEVENT
BEGIN:VEVENT
DTSTART;TZID=America/New_York:20241026T090000
DTEND;TZID=America/New_York:20241026T113000
DTSTAMP:20260421T131952
CREATED:20240508T143418Z
LAST-MODIFIED:20240508T143411Z
UID:39599-1729933200-1729942200@sjahillsdale.org
SUMMARY:HSPT prep course
DESCRIPTION:
URL:https://sjahillsdale.org/event/hspt-prep-course/2024-10-26/
LOCATION:St. John’s Academy\, 460 Hillsdale Avenue\, Hillsdale\, 07642
CATEGORIES:General
END:VEVENT
BEGIN:VEVENT
DTSTART;TZID=America/New_York:20241026T100000
DTEND;TZID=America/New_York:20241026T110000
DTSTAMP:20260421T131952
CREATED:20240924T052005Z
LAST-MODIFIED:20241022T035849Z
UID:44953-1729936800-1729940400@sjahillsdale.org
SUMMARY:VB Game: V G8 Red
DESCRIPTION:
URL:https://sjahillsdale.org/event/vb-game-v-g8-red-6/
CATEGORIES:SJSA
END:VEVENT
BEGIN:VEVENT
DTSTART;TZID=America/New_York:20241026T110000
DTEND;TZID=America/New_York:20241026T120000
DTSTAMP:20260421T131952
CREATED:20240924T052005Z
LAST-MODIFIED:20241022T035849Z
UID:44952-1729940400-1729944000@sjahillsdale.org
SUMMARY:VB Game: V G7 Wht
DESCRIPTION:
URL:https://sjahillsdale.org/event/vb-game-v-g7-wht-5/
CATEGORIES:SJSA
END:VEVENT
BEGIN:VEVENT
DTSTART;TZID=America/New_York:20241026T120000
DTEND;TZID=America/New_York:20241026T130000
DTSTAMP:20260421T131952
CREATED:20240924T052006Z
LAST-MODIFIED:20241022T035850Z
UID:44955-1729944000-1729947600@sjahillsdale.org
SUMMARY:VB Game: JV Gold
DESCRIPTION:
URL:https://sjahillsdale.org/event/vb-game-jv-gold-12/
CATEGORIES:SJSA
END:VEVENT
BEGIN:VEVENT
DTSTART;TZID=America/New_York:20241026T130000
DTEND;TZID=America/New_York:20241026T140000
DTSTAMP:20260421T131952
CREATED:20240924T052005Z
LAST-MODIFIED:20241022T035850Z
UID:44954-1729947600-1729951200@sjahillsdale.org
SUMMARY:VB Game: JV Gold
DESCRIPTION:
URL:https://sjahillsdale.org/event/vb-game-jv-gold-11/
CATEGORIES:SJSA
END:VEVENT
BEGIN:VEVENT
DTSTART;TZID=America/New_York:20241026T143000
DTEND;TZID=America/New_York:20241026T153000
DTSTAMP:20260421T131952
CREATED:20240924T052006Z
LAST-MODIFIED:20241022T035851Z
UID:44956-1729953000-1729956600@sjahillsdale.org
SUMMARY:VB Game: JV Red
DESCRIPTION:
URL:https://sjahillsdale.org/event/vb-game-jv-red-12/
CATEGORIES:SJSA
END:VEVENT
BEGIN:VEVENT
DTSTART;TZID=America/New_York:20241026T153000
DTEND;TZID=America/New_York:20241026T163000
DTSTAMP:20260421T131952
CREATED:20240924T052006Z
LAST-MODIFIED:20241022T035850Z
UID:44958-1729956600-1729960200@sjahillsdale.org
SUMMARY:VB Game: JV Red
DESCRIPTION:
URL:https://sjahillsdale.org/event/vb-game-jv-red-13/
CATEGORIES:SJSA
END:VEVENT
BEGIN:VEVENT
DTSTART;TZID=America/New_York:20241026T163000
DTEND;TZID=America/New_York:20241026T173000
DTSTAMP:20260421T131952
CREATED:20240924T052006Z
LAST-MODIFIED:20241022T035850Z
UID:44957-1729960200-1729963800@sjahillsdale.org
SUMMARY:VB Game: V G7 Red
DESCRIPTION:
URL:https://sjahillsdale.org/event/vb-game-v-g7-red-6/
CATEGORIES:SJSA
END:VEVENT
BEGIN:VEVENT
DTSTART;TZID=America/New_York:20241026T173000
DTEND;TZID=America/New_York:20241026T183000
DTSTAMP:20260421T131952
CREATED:20240924T052007Z
LAST-MODIFIED:20241022T035850Z
UID:44959-1729963800-1729967400@sjahillsdale.org
SUMMARY:VB Game: JV White
DESCRIPTION:
URL:https://sjahillsdale.org/event/vb-game-jv-white-9/
CATEGORIES:SJSA
END:VEVENT
BEGIN:VEVENT
DTSTART;TZID=America/New_York:20241026T183000
DTEND;TZID=America/New_York:20241026T193000
DTSTAMP:20260421T131952
CREATED:20240924T052007Z
LAST-MODIFIED:20241022T035851Z
UID:44960-1729967400-1729971000@sjahillsdale.org
SUMMARY:VB Game: JV Black
DESCRIPTION:
URL:https://sjahillsdale.org/event/vb-game-jv-black-8/
CATEGORIES:SJSA
END:VEVENT
END:VCALENDAR