BEGIN:VCALENDAR
VERSION:2.0
PRODID:-//St. John&#039;s Academy - ECPv6.15.17//NONSGML v1.0//EN
CALSCALE:GREGORIAN
METHOD:PUBLISH
X-ORIGINAL-URL:https://sjahillsdale.org
X-WR-CALDESC:Events for St. John&#039;s Academy
REFRESH-INTERVAL;VALUE=DURATION:PT1H
X-Robots-Tag:noindex
X-PUBLISHED-TTL:PT1H
BEGIN:VTIMEZONE
TZID:America/New_York
BEGIN:DAYLIGHT
TZOFFSETFROM:-0500
TZOFFSETTO:-0400
TZNAME:EDT
DTSTART:20230312T070000
END:DAYLIGHT
BEGIN:STANDARD
TZOFFSETFROM:-0400
TZOFFSETTO:-0500
TZNAME:EST
DTSTART:20231105T060000
END:STANDARD
BEGIN:DAYLIGHT
TZOFFSETFROM:-0500
TZOFFSETTO:-0400
TZNAME:EDT
DTSTART:20240310T070000
END:DAYLIGHT
BEGIN:STANDARD
TZOFFSETFROM:-0400
TZOFFSETTO:-0500
TZNAME:EST
DTSTART:20241103T060000
END:STANDARD
BEGIN:DAYLIGHT
TZOFFSETFROM:-0500
TZOFFSETTO:-0400
TZNAME:EDT
DTSTART:20250309T070000
END:DAYLIGHT
BEGIN:STANDARD
TZOFFSETFROM:-0400
TZOFFSETTO:-0500
TZNAME:EST
DTSTART:20251102T060000
END:STANDARD
END:VTIMEZONE
BEGIN:VEVENT
DTSTART;TZID=America/New_York:20240922T100000
DTEND;TZID=America/New_York:20240922T123000
DTSTAMP:20260421T100549
CREATED:20240508T143710Z
LAST-MODIFIED:20240508T143708Z
UID:39603-1726999200-1727008200@sjahillsdale.org
SUMMARY:HSPT prep course
DESCRIPTION:
URL:https://sjahillsdale.org/event/hspt-prep-course-2/2024-09-22/
LOCATION:St. John’s Academy\, 460 Hillsdale Avenue\, Hillsdale\, New Jersey\, 07642
CATEGORIES:General
END:VEVENT
BEGIN:VEVENT
DTSTART;TZID=America/New_York:20240923T141500
DTEND;TZID=America/New_York:20240923T153000
DTSTAMP:20260421T100549
CREATED:20240822T155318Z
LAST-MODIFIED:20240822T155318Z
UID:43340-1727100900-1727105400@sjahillsdale.org
SUMMARY:Cooking Enrichment 7th/8th grade with Ms. Winter
DESCRIPTION:
URL:https://sjahillsdale.org/event/cooking-enrichment-7th-8th-grade-with-ms-winter/2024-09-23/
LOCATION:St. John’s Academy\, 460 Hillsdale Avenue\, Hillsdale\, New Jersey\, 07642
CATEGORIES:General
END:VEVENT
BEGIN:VEVENT
DTSTART;TZID=America/New_York:20240923T173000
DTEND;TZID=America/New_York:20240923T190000
DTSTAMP:20260421T100549
CREATED:20240829T144521Z
LAST-MODIFIED:20240923T220625Z
UID:43558-1727112600-1727118000@sjahillsdale.org
SUMMARY:VB practice (JL)
DESCRIPTION:
URL:https://sjahillsdale.org/event/vb-practice-jl-5/
CATEGORIES:SJSA
END:VEVENT
BEGIN:VEVENT
DTSTART;TZID=America/New_York:20240923T193000
DTEND;TZID=America/New_York:20240923T203000
DTSTAMP:20260421T100549
CREATED:20240829T144520Z
LAST-MODIFIED:20240923T232145Z
UID:43557-1727119800-1727123400@sjahillsdale.org
SUMMARY:VB practice (EG)
DESCRIPTION:
URL:https://sjahillsdale.org/event/vb-practice-eg-87/
CATEGORIES:SJSA
END:VEVENT
BEGIN:VEVENT
DTSTART;VALUE=DATE:20240924
DTEND;VALUE=DATE:20240925
DTSTAMP:20260421T100549
CREATED:20240904T143541Z
LAST-MODIFIED:20240904T143541Z
UID:44193-1727136000-1727222399@sjahillsdale.org
SUMMARY:PTG Cherrydale Wrap Fundraiser Begins
DESCRIPTION:
URL:https://sjahillsdale.org/event/ptg-cherrydale-wrap-fundraiser-begins/
CATEGORIES:General,PTG
END:VEVENT
BEGIN:VEVENT
DTSTART;TZID=America/New_York:20240924T180000
DTEND;TZID=America/New_York:20240924T190000
DTSTAMP:20260421T100549
CREATED:20240829T144521Z
LAST-MODIFIED:20240924T223620Z
UID:43560-1727200800-1727204400@sjahillsdale.org
SUMMARY:VB practice (CB)
DESCRIPTION:
URL:https://sjahillsdale.org/event/vb-practice-cb-51/
CATEGORIES:SJSA
END:VEVENT
BEGIN:VEVENT
DTSTART;TZID=America/New_York:20240924T193000
DTEND;TZID=America/New_York:20240924T203000
DTSTAMP:20260421T100549
CREATED:20240829T144521Z
LAST-MODIFIED:20240924T234919Z
UID:43559-1727206200-1727209800@sjahillsdale.org
SUMMARY:VB practice (VS)
DESCRIPTION:
URL:https://sjahillsdale.org/event/vb-practice-vs-3/
CATEGORIES:SJSA
END:VEVENT
BEGIN:VEVENT
DTSTART;TZID=America/New_York:20240925T163000
DTEND;TZID=America/New_York:20240925T173000
DTSTAMP:20260421T100549
CREATED:20240829T144521Z
LAST-MODIFIED:20240925T210557Z
UID:43561-1727281800-1727285400@sjahillsdale.org
SUMMARY:VB practice (RE)
DESCRIPTION:
URL:https://sjahillsdale.org/event/vb-practice-re-30/
CATEGORIES:SJSA
END:VEVENT
BEGIN:VEVENT
DTSTART;TZID=America/New_York:20240925T173000
DTEND;TZID=America/New_York:20240925T190000
DTSTAMP:20260421T100549
CREATED:20240829T144521Z
LAST-MODIFIED:20240925T222105Z
UID:43562-1727285400-1727290800@sjahillsdale.org
SUMMARY:VB practice (MG)
DESCRIPTION:
URL:https://sjahillsdale.org/event/vb-practice-mg-15/
CATEGORIES:SJSA
END:VEVENT
BEGIN:VEVENT
DTSTART;TZID=America/New_York:20240926T141500
DTEND;TZID=America/New_York:20240926T153000
DTSTAMP:20260421T100549
CREATED:20240815T134233Z
LAST-MODIFIED:20240815T134232Z
UID:43071-1727360100-1727364600@sjahillsdale.org
SUMMARY:Art/Gardening Enrichment (PK4-8th)
DESCRIPTION:
URL:https://sjahillsdale.org/event/art-gardening-enrichment-pk4-8th/2024-09-26/
CATEGORIES:General
END:VEVENT
BEGIN:VEVENT
DTSTART;TZID=America/New_York:20240926T163000
DTEND;TZID=America/New_York:20240926T180000
DTSTAMP:20260421T100549
CREATED:20240829T144522Z
LAST-MODIFIED:20240926T210522Z
UID:43563-1727368200-1727373600@sjahillsdale.org
SUMMARY:VB practice (ST)
DESCRIPTION:
URL:https://sjahillsdale.org/event/vb-practice-st-29/
CATEGORIES:SJSA
END:VEVENT
BEGIN:VEVENT
DTSTART;TZID=America/New_York:20240926T183000
DTEND;TZID=America/New_York:20240926T203000
DTSTAMP:20260421T100549
CREATED:20240904T135742Z
LAST-MODIFIED:20240904T135742Z
UID:44184-1727375400-1727382600@sjahillsdale.org
SUMMARY:Don Bosco Open House
DESCRIPTION:
URL:https://sjahillsdale.org/event/don-bosco-open-house/
LOCATION:Don Bosco Preparatory High School\, 492 Franklin Turnpike\, Ramsey\, New Jersey\, 07446\, United States
CATEGORIES:General
END:VEVENT
BEGIN:VEVENT
DTSTART;VALUE=DATE:20240927
DTEND;VALUE=DATE:20240928
DTSTAMP:20260421T100549
CREATED:20240927T170329Z
LAST-MODIFIED:20240927T170329Z
UID:45143-1727395200-1727481599@sjahillsdale.org
SUMMARY:PTG Cherrydale Wrap Fundraiser
DESCRIPTION:For more information\, please click here: Cherrydale Fundraiser
URL:https://sjahillsdale.org/event/ptg-cherrydale-wrap-fundraiser/2024-09-27/
CATEGORIES:General,PTG
END:VEVENT
BEGIN:VEVENT
DTSTART;TZID=America/New_York:20240927T163000
DTEND;TZID=America/New_York:20240927T173000
DTSTAMP:20260421T100549
CREATED:20240829T155157Z
LAST-MODIFIED:20240927T204725Z
UID:43567-1727454600-1727458200@sjahillsdale.org
SUMMARY:VB practice (ST)
DESCRIPTION:
URL:https://sjahillsdale.org/event/vb-practice-st-32/
CATEGORIES:SJSA
END:VEVENT
BEGIN:VEVENT
DTSTART;TZID=America/New_York:20240927T163000
DTEND;TZID=America/New_York:20240927T173000
DTSTAMP:20260421T100549
CREATED:20240926T141818Z
LAST-MODIFIED:20240927T204726Z
UID:45061-1727454600-1727458200@sjahillsdale.org
SUMMARY:VB practice (ST)
DESCRIPTION:
URL:https://sjahillsdale.org/event/vb-practice-st-33/
CATEGORIES:SJSA
END:VEVENT
BEGIN:VEVENT
DTSTART;TZID=America/New_York:20240927T173000
DTEND;TZID=America/New_York:20240927T190000
DTSTAMP:20260421T100549
CREATED:20240926T153336Z
LAST-MODIFIED:20240927T220253Z
UID:45104-1727458200-1727463600@sjahillsdale.org
SUMMARY:VB practice (MG)
DESCRIPTION:
URL:https://sjahillsdale.org/event/vb-practice-mg-31/
CATEGORIES:SJSA
END:VEVENT
BEGIN:VEVENT
DTSTART;TZID=America/New_York:20240927T190000
DTEND;TZID=America/New_York:20240927T203000
DTSTAMP:20260421T100549
CREATED:20240926T153336Z
LAST-MODIFIED:20240928T000333Z
UID:45105-1727463600-1727469000@sjahillsdale.org
SUMMARY:VB practice (EG)
DESCRIPTION:
URL:https://sjahillsdale.org/event/vb-practice-eg-96/
CATEGORIES:SJSA
END:VEVENT
BEGIN:VEVENT
DTSTART;VALUE=DATE:20240928
DTEND;VALUE=DATE:20240929
DTSTAMP:20260421T100549
CREATED:20240927T170330Z
LAST-MODIFIED:20240927T170329Z
UID:45144-1727481600-1727567999@sjahillsdale.org
SUMMARY:PTG Cherrydale Wrap Fundraiser
DESCRIPTION:For more information\, please click here: Cherrydale Fundraiser
URL:https://sjahillsdale.org/event/ptg-cherrydale-wrap-fundraiser/2024-09-28/
CATEGORIES:General,PTG
END:VEVENT
BEGIN:VEVENT
DTSTART;TZID=America/New_York:20240928T090000
DTEND;TZID=America/New_York:20240928T113000
DTSTAMP:20260421T100549
CREATED:20240508T143414Z
LAST-MODIFIED:20240508T143411Z
UID:39595-1727514000-1727523000@sjahillsdale.org
SUMMARY:HSPT prep course
DESCRIPTION:
URL:https://sjahillsdale.org/event/hspt-prep-course/2024-09-28/
LOCATION:St. John’s Academy\, 460 Hillsdale Avenue\, Hillsdale\, 07642
CATEGORIES:General
END:VEVENT
BEGIN:VEVENT
DTSTART;TZID=America/New_York:20240928T110000
DTEND;TZID=America/New_York:20240928T120000
DTSTAMP:20260421T100549
CREATED:20240924T051955Z
LAST-MODIFIED:20240928T151926Z
UID:44913-1727521200-1727524800@sjahillsdale.org
SUMMARY:VB Game: V G8 Red
DESCRIPTION:
URL:https://sjahillsdale.org/event/vb-game-v-g8-red/
CATEGORIES:SJSA
END:VEVENT
BEGIN:VEVENT
DTSTART;TZID=America/New_York:20240928T120000
DTEND;TZID=America/New_York:20240928T130000
DTSTAMP:20260421T100550
CREATED:20240924T051954Z
LAST-MODIFIED:20240928T161945Z
UID:44912-1727524800-1727528400@sjahillsdale.org
SUMMARY:VB Game: V G8 Wht
DESCRIPTION:
URL:https://sjahillsdale.org/event/vb-game-v-g8-wht/
CATEGORIES:SJSA
END:VEVENT
END:VCALENDAR