BEGIN:VCALENDAR
VERSION:2.0
PRODID:-//St. John&#039;s Academy - ECPv6.15.20//NONSGML v1.0//EN
CALSCALE:GREGORIAN
METHOD:PUBLISH
X-ORIGINAL-URL:https://sjahillsdale.org
X-WR-CALDESC:Events for St. John&#039;s Academy
REFRESH-INTERVAL;VALUE=DURATION:PT1H
X-Robots-Tag:noindex
X-PUBLISHED-TTL:PT1H
BEGIN:VTIMEZONE
TZID:America/New_York
BEGIN:DAYLIGHT
TZOFFSETFROM:-0500
TZOFFSETTO:-0400
TZNAME:EDT
DTSTART:20230312T070000
END:DAYLIGHT
BEGIN:STANDARD
TZOFFSETFROM:-0400
TZOFFSETTO:-0500
TZNAME:EST
DTSTART:20231105T060000
END:STANDARD
BEGIN:DAYLIGHT
TZOFFSETFROM:-0500
TZOFFSETTO:-0400
TZNAME:EDT
DTSTART:20240310T070000
END:DAYLIGHT
BEGIN:STANDARD
TZOFFSETFROM:-0400
TZOFFSETTO:-0500
TZNAME:EST
DTSTART:20241103T060000
END:STANDARD
BEGIN:DAYLIGHT
TZOFFSETFROM:-0500
TZOFFSETTO:-0400
TZNAME:EDT
DTSTART:20250309T070000
END:DAYLIGHT
BEGIN:STANDARD
TZOFFSETFROM:-0400
TZOFFSETTO:-0500
TZNAME:EST
DTSTART:20251102T060000
END:STANDARD
END:VTIMEZONE
BEGIN:VEVENT
DTSTART;TZID=America/New_York:20240915T100000
DTEND;TZID=America/New_York:20240915T123000
DTSTAMP:20260425T160010
CREATED:20240508T143709Z
LAST-MODIFIED:20240508T143708Z
UID:39602-1726394400-1726403400@sjahillsdale.org
SUMMARY:HSPT prep course
DESCRIPTION:
URL:https://sjahillsdale.org/event/hspt-prep-course-2/2024-09-15/
LOCATION:St. John’s Academy\, 460 Hillsdale Avenue\, Hillsdale\, New Jersey\, 07642
CATEGORIES:General
END:VEVENT
BEGIN:VEVENT
DTSTART;TZID=America/New_York:20240916T183000
DTEND;TZID=America/New_York:20240916T193000
DTSTAMP:20260425T160010
CREATED:20240829T144519Z
LAST-MODIFIED:20240916T232515Z
UID:43550-1726511400-1726515000@sjahillsdale.org
SUMMARY:VB practice (JL)
DESCRIPTION:
URL:https://sjahillsdale.org/event/vb-practice-jl-4/
CATEGORIES:SJSA
END:VEVENT
BEGIN:VEVENT
DTSTART;TZID=America/New_York:20240916T193000
DTEND;TZID=America/New_York:20240916T203000
DTSTAMP:20260425T160010
CREATED:20240829T144519Z
LAST-MODIFIED:20240916T232514Z
UID:43551-1726515000-1726518600@sjahillsdale.org
SUMMARY:VB practice (EG)
DESCRIPTION:
URL:https://sjahillsdale.org/event/vb-practice-eg-86/
CATEGORIES:SJSA
END:VEVENT
BEGIN:VEVENT
DTSTART;TZID=America/New_York:20240917T180000
DTEND;TZID=America/New_York:20240917T190000
DTSTAMP:20260425T160010
CREATED:20240829T144520Z
LAST-MODIFIED:20240917T225338Z
UID:43553-1726596000-1726599600@sjahillsdale.org
SUMMARY:VB practice (CB)
DESCRIPTION:
URL:https://sjahillsdale.org/event/vb-practice-cb-50/
CATEGORIES:SJSA
END:VEVENT
BEGIN:VEVENT
DTSTART;TZID=America/New_York:20240917T193000
DTEND;TZID=America/New_York:20240917T203000
DTSTAMP:20260425T160010
CREATED:20240829T144519Z
LAST-MODIFIED:20240918T000829Z
UID:43552-1726601400-1726605000@sjahillsdale.org
SUMMARY:VB practice (VS)
DESCRIPTION:
URL:https://sjahillsdale.org/event/vb-practice-vs-2/
CATEGORIES:SJSA
END:VEVENT
BEGIN:VEVENT
DTSTART;TZID=America/New_York:20240918T163000
DTEND;TZID=America/New_York:20240918T173000
DTSTAMP:20260425T160010
CREATED:20240829T144520Z
LAST-MODIFIED:20240918T212015Z
UID:43554-1726677000-1726680600@sjahillsdale.org
SUMMARY:VB practice (RE)
DESCRIPTION:
URL:https://sjahillsdale.org/event/vb-practice-re-29/
CATEGORIES:SJSA
END:VEVENT
BEGIN:VEVENT
DTSTART;TZID=America/New_York:20240918T173000
DTEND;TZID=America/New_York:20240918T190000
DTSTAMP:20260425T160010
CREATED:20240829T144520Z
LAST-MODIFIED:20240918T223759Z
UID:43555-1726680600-1726686000@sjahillsdale.org
SUMMARY:VB practice (MG)
DESCRIPTION:
URL:https://sjahillsdale.org/event/vb-practice-mg-14/
CATEGORIES:SJSA
END:VEVENT
BEGIN:VEVENT
DTSTART;TZID=America/New_York:20240919T141500
DTEND;TZID=America/New_York:20240919T153000
DTSTAMP:20260425T160010
CREATED:20240815T134233Z
LAST-MODIFIED:20240815T134232Z
UID:43070-1726755300-1726759800@sjahillsdale.org
SUMMARY:Art/Gardening Enrichment (PK4-8th)
DESCRIPTION:
URL:https://sjahillsdale.org/event/art-gardening-enrichment-pk4-8th/2024-09-19/
CATEGORIES:General
END:VEVENT
BEGIN:VEVENT
DTSTART;TZID=America/New_York:20240919T163000
DTEND;TZID=America/New_York:20240919T180000
DTSTAMP:20260425T160010
CREATED:20240829T144520Z
LAST-MODIFIED:20240919T205043Z
UID:43556-1726763400-1726768800@sjahillsdale.org
SUMMARY:VB practice (ST)
DESCRIPTION:
URL:https://sjahillsdale.org/event/vb-practice-st-28/
CATEGORIES:SJSA
END:VEVENT
BEGIN:VEVENT
DTSTART;TZID=America/New_York:20240919T180000
DTEND;TZID=America/New_York:20240919T200000
DTSTAMP:20260425T160010
CREATED:20240903T131909Z
LAST-MODIFIED:20240903T131909Z
UID:44070-1726768800-1726776000@sjahillsdale.org
SUMMARY:SJA Back To School Night (K thru 8th)
DESCRIPTION:
URL:https://sjahillsdale.org/event/sja-back-to-school-night-k-thru-8th/
LOCATION:St. John’s Academy\, 460 Hillsdale Avenue\, Hillsdale\, New Jersey\, 07642
CATEGORIES:General
END:VEVENT
BEGIN:VEVENT
DTSTART;TZID=America/New_York:20240919T180000
DTEND;TZID=America/New_York:20240919T230000
DTSTAMP:20260425T160010
CREATED:20240916T123513Z
LAST-MODIFIED:20240920T023231Z
UID:44712-1726768800-1726786800@sjahillsdale.org
SUMMARY:Gym Closed- Back To School Night
DESCRIPTION:
URL:https://sjahillsdale.org/event/gym-closed-back-to-school-night/
CATEGORIES:SJSA
END:VEVENT
BEGIN:VEVENT
DTSTART;TZID=America/New_York:20240920T163000
DTEND;TZID=America/New_York:20240920T173000
DTSTAMP:20260425T160010
CREATED:20240829T155155Z
LAST-MODIFIED:20240920T205235Z
UID:43566-1726849800-1726853400@sjahillsdale.org
SUMMARY:VB practice (ST)
DESCRIPTION:
URL:https://sjahillsdale.org/event/vb-practice-st-31/
CATEGORIES:SJSA
END:VEVENT
BEGIN:VEVENT
DTSTART;TZID=America/New_York:20240920T173000
DTEND;TZID=America/New_York:20240920T190000
DTSTAMP:20260425T160010
CREATED:20240829T180909Z
LAST-MODIFIED:20240920T220340Z
UID:43608-1726853400-1726858800@sjahillsdale.org
SUMMARY:VB practice (MG)
DESCRIPTION:
URL:https://sjahillsdale.org/event/vb-practice-mg-17/
CATEGORIES:SJSA
END:VEVENT
BEGIN:VEVENT
DTSTART;TZID=America/New_York:20240921T090000
DTEND;TZID=America/New_York:20240921T113000
DTSTAMP:20260425T160010
CREATED:20240508T143413Z
LAST-MODIFIED:20240508T143411Z
UID:39593-1726909200-1726918200@sjahillsdale.org
SUMMARY:HSPT prep course
DESCRIPTION:
URL:https://sjahillsdale.org/event/hspt-prep-course/2024-09-21/
LOCATION:St. John’s Academy\, 460 Hillsdale Avenue\, Hillsdale\, 07642
CATEGORIES:General
END:VEVENT
BEGIN:VEVENT
DTSTART;TZID=America/New_York:20240921T130000
DTEND;TZID=America/New_York:20240921T143000
DTSTAMP:20260425T160010
CREATED:20240918T223800Z
LAST-MODIFIED:20240921T173455Z
UID:44775-1726923600-1726929000@sjahillsdale.org
SUMMARY:VB practice (EG)
DESCRIPTION:
URL:https://sjahillsdale.org/event/vb-practice-eg-89/
CATEGORIES:SJSA
END:VEVENT
END:VCALENDAR