BEGIN:VCALENDAR
VERSION:2.0
PRODID:-//St. John&#039;s Academy - ECPv6.15.20//NONSGML v1.0//EN
CALSCALE:GREGORIAN
METHOD:PUBLISH
X-WR-CALNAME:St. John&#039;s Academy
X-ORIGINAL-URL:https://sjahillsdale.org
X-WR-CALDESC:Events for St. John&#039;s Academy
REFRESH-INTERVAL;VALUE=DURATION:PT1H
X-Robots-Tag:noindex
X-PUBLISHED-TTL:PT1H
BEGIN:VTIMEZONE
TZID:America/New_York
BEGIN:DAYLIGHT
TZOFFSETFROM:-0500
TZOFFSETTO:-0400
TZNAME:EDT
DTSTART:20230312T070000
END:DAYLIGHT
BEGIN:STANDARD
TZOFFSETFROM:-0400
TZOFFSETTO:-0500
TZNAME:EST
DTSTART:20231105T060000
END:STANDARD
BEGIN:DAYLIGHT
TZOFFSETFROM:-0500
TZOFFSETTO:-0400
TZNAME:EDT
DTSTART:20240310T070000
END:DAYLIGHT
BEGIN:STANDARD
TZOFFSETFROM:-0400
TZOFFSETTO:-0500
TZNAME:EST
DTSTART:20241103T060000
END:STANDARD
BEGIN:DAYLIGHT
TZOFFSETFROM:-0500
TZOFFSETTO:-0400
TZNAME:EDT
DTSTART:20250309T070000
END:DAYLIGHT
BEGIN:STANDARD
TZOFFSETFROM:-0400
TZOFFSETTO:-0500
TZNAME:EST
DTSTART:20251102T060000
END:STANDARD
END:VTIMEZONE
BEGIN:VEVENT
DTSTART;TZID=America/New_York:20240908T100000
DTEND;TZID=America/New_York:20240908T123000
DTSTAMP:20260425T111635
CREATED:20240508T143708Z
LAST-MODIFIED:20240508T143708Z
UID:39601-1725789600-1725798600@sjahillsdale.org
SUMMARY:HSPT prep course
DESCRIPTION:
URL:https://sjahillsdale.org/event/hspt-prep-course-2/2024-09-08/
LOCATION:St. John’s Academy\, 460 Hillsdale Avenue\, Hillsdale\, New Jersey\, 07642
CATEGORIES:General
END:VEVENT
BEGIN:VEVENT
DTSTART;VALUE=DATE:20240909
DTEND;VALUE=DATE:20240910
DTSTAMP:20260425T111635
CREATED:20240828T123614Z
LAST-MODIFIED:20240828T123613Z
UID:43491-1725840000-1725926399@sjahillsdale.org
SUMMARY:First Day of Aftercare
DESCRIPTION:
URL:https://sjahillsdale.org/event/first-day-of-aftercare/
CATEGORIES:General
END:VEVENT
BEGIN:VEVENT
DTSTART;TZID=America/New_York:20240909T183000
DTEND;TZID=America/New_York:20240909T193000
DTSTAMP:20260425T111635
CREATED:20240829T143840Z
LAST-MODIFIED:20240909T224802Z
UID:43540-1725906600-1725910200@sjahillsdale.org
SUMMARY:VB practice (JL)
DESCRIPTION:
URL:https://sjahillsdale.org/event/vb-practice-jl/
CATEGORIES:SJSA
END:VEVENT
BEGIN:VEVENT
DTSTART;TZID=America/New_York:20240909T193000
DTEND;TZID=America/New_York:20240909T203000
DTSTAMP:20260425T111635
CREATED:20240829T144518Z
LAST-MODIFIED:20240910T000515Z
UID:43544-1725910200-1725913800@sjahillsdale.org
SUMMARY:VB practice (EG)
DESCRIPTION:
URL:https://sjahillsdale.org/event/vb-practice-eg-85/
CATEGORIES:SJSA
END:VEVENT
BEGIN:VEVENT
DTSTART;TZID=America/New_York:20240910T180000
DTEND;TZID=America/New_York:20240910T190000
DTSTAMP:20260425T111635
CREATED:20240830T180228Z
LAST-MODIFIED:20240910T221331Z
UID:43704-1725991200-1725994800@sjahillsdale.org
SUMMARY:VB practice (CB)
DESCRIPTION:
URL:https://sjahillsdale.org/event/vb-practice-cb-52/
CATEGORIES:SJSA
END:VEVENT
BEGIN:VEVENT
DTSTART;TZID=America/New_York:20240910T183000
DTEND;TZID=America/New_York:20240910T193000
DTSTAMP:20260425T111635
CREATED:20240829T144518Z
LAST-MODIFIED:20240910T232319Z
UID:43545-1725993000-1725996600@sjahillsdale.org
SUMMARY:VB practice (CB)
DESCRIPTION:
URL:https://sjahillsdale.org/event/vb-practice-cb-49/
CATEGORIES:SJSA
END:VEVENT
BEGIN:VEVENT
DTSTART;TZID=America/New_York:20240910T193000
DTEND;TZID=America/New_York:20240910T203000
DTSTAMP:20260425T111635
CREATED:20240829T144518Z
LAST-MODIFIED:20240910T232319Z
UID:43546-1725996600-1726000200@sjahillsdale.org
SUMMARY:VB practice (VS)
DESCRIPTION:
URL:https://sjahillsdale.org/event/vb-practice-vs/
CATEGORIES:SJSA
END:VEVENT
BEGIN:VEVENT
DTSTART;TZID=America/New_York:20240911T163000
DTEND;TZID=America/New_York:20240911T173000
DTSTAMP:20260425T111635
CREATED:20240829T144518Z
LAST-MODIFIED:20240911T212010Z
UID:43547-1726072200-1726075800@sjahillsdale.org
SUMMARY:VB practice (RE)
DESCRIPTION:
URL:https://sjahillsdale.org/event/vb-practice-re-28/
CATEGORIES:SJSA
END:VEVENT
BEGIN:VEVENT
DTSTART;TZID=America/New_York:20240911T173000
DTEND;TZID=America/New_York:20240911T190000
DTSTAMP:20260425T111635
CREATED:20240829T144519Z
LAST-MODIFIED:20240911T223223Z
UID:43548-1726075800-1726081200@sjahillsdale.org
SUMMARY:VB practice (MG)
DESCRIPTION:
URL:https://sjahillsdale.org/event/vb-practice-mg-13/
CATEGORIES:SJSA
END:VEVENT
BEGIN:VEVENT
DTSTART;TZID=America/New_York:20240912T163000
DTEND;TZID=America/New_York:20240912T173000
DTSTAMP:20260425T111635
CREATED:20240829T144519Z
LAST-MODIFIED:20240912T203655Z
UID:43549-1726158600-1726162200@sjahillsdale.org
SUMMARY:VB practice (ST)
DESCRIPTION:
URL:https://sjahillsdale.org/event/vb-practice-st-27/
CATEGORIES:SJSA
END:VEVENT
BEGIN:VEVENT
DTSTART;TZID=America/New_York:20240912T180000
DTEND;TZID=America/New_York:20240912T190000
DTSTAMP:20260425T111635
CREATED:20240908T154830Z
LAST-MODIFIED:20240912T214827Z
UID:44463-1726164000-1726167600@sjahillsdale.org
SUMMARY:VB practice (CB)
DESCRIPTION:
URL:https://sjahillsdale.org/event/vb-practice-cb-53/
CATEGORIES:SJSA
END:VEVENT
BEGIN:VEVENT
DTSTART;TZID=America/New_York:20240913T083000
DTEND;TZID=America/New_York:20240913T093000
DTSTAMP:20260425T111635
CREATED:20240904T142707Z
LAST-MODIFIED:20240904T142706Z
UID:44190-1726216200-1726219800@sjahillsdale.org
SUMMARY:PTG Meeting (Virtual)
DESCRIPTION:
URL:https://sjahillsdale.org/event/ptg-meeting-virtual-4/
CATEGORIES:General,PTG
END:VEVENT
BEGIN:VEVENT
DTSTART;TZID=America/New_York:20240913T163000
DTEND;TZID=America/New_York:20240913T173000
DTSTAMP:20260425T111635
CREATED:20240829T155153Z
LAST-MODIFIED:20240913T210544Z
UID:43565-1726245000-1726248600@sjahillsdale.org
SUMMARY:VB practice (ST)
DESCRIPTION:
URL:https://sjahillsdale.org/event/vb-practice-st-30/
CATEGORIES:SJSA
END:VEVENT
BEGIN:VEVENT
DTSTART;TZID=America/New_York:20240913T173000
DTEND;TZID=America/New_York:20240913T190000
DTSTAMP:20260425T111635
CREATED:20240829T180907Z
LAST-MODIFIED:20240913T222141Z
UID:43607-1726248600-1726254000@sjahillsdale.org
SUMMARY:VB practice (MG)
DESCRIPTION:
URL:https://sjahillsdale.org/event/vb-practice-mg-16/
CATEGORIES:SJSA
END:VEVENT
BEGIN:VEVENT
DTSTART;TZID=America/New_York:20240914T090000
DTEND;TZID=America/New_York:20240914T113000
DTSTAMP:20260425T111635
CREATED:20240508T143412Z
LAST-MODIFIED:20240508T143411Z
UID:39592-1726304400-1726313400@sjahillsdale.org
SUMMARY:HSPT prep course
DESCRIPTION:
URL:https://sjahillsdale.org/event/hspt-prep-course/2024-09-14/
LOCATION:St. John’s Academy\, 460 Hillsdale Avenue\, Hillsdale\, 07642
CATEGORIES:General
END:VEVENT
BEGIN:VEVENT
DTSTART;TZID=America/New_York:20240914T100000
DTEND;TZID=America/New_York:20240914T120000
DTSTAMP:20260425T111635
CREATED:20240912T040533Z
LAST-MODIFIED:20240914T151948Z
UID:44612-1726308000-1726315200@sjahillsdale.org
SUMMARY:VB practice (EG)
DESCRIPTION:
URL:https://sjahillsdale.org/event/vb-practice-eg-88/
CATEGORIES:SJSA
END:VEVENT
END:VCALENDAR