BEGIN:VCALENDAR
VERSION:2.0
PRODID:-//St. John&#039;s Academy - ECPv6.15.17//NONSGML v1.0//EN
CALSCALE:GREGORIAN
METHOD:PUBLISH
X-ORIGINAL-URL:https://sjahillsdale.org
X-WR-CALDESC:Events for St. John&#039;s Academy
REFRESH-INTERVAL;VALUE=DURATION:PT1H
X-Robots-Tag:noindex
X-PUBLISHED-TTL:PT1H
BEGIN:VTIMEZONE
TZID:America/New_York
BEGIN:DAYLIGHT
TZOFFSETFROM:-0500
TZOFFSETTO:-0400
TZNAME:EDT
DTSTART:20220313T070000
END:DAYLIGHT
BEGIN:STANDARD
TZOFFSETFROM:-0400
TZOFFSETTO:-0500
TZNAME:EST
DTSTART:20221106T060000
END:STANDARD
BEGIN:DAYLIGHT
TZOFFSETFROM:-0500
TZOFFSETTO:-0400
TZNAME:EDT
DTSTART:20230312T070000
END:DAYLIGHT
BEGIN:STANDARD
TZOFFSETFROM:-0400
TZOFFSETTO:-0500
TZNAME:EST
DTSTART:20231105T060000
END:STANDARD
BEGIN:DAYLIGHT
TZOFFSETFROM:-0500
TZOFFSETTO:-0400
TZNAME:EDT
DTSTART:20240310T070000
END:DAYLIGHT
BEGIN:STANDARD
TZOFFSETFROM:-0400
TZOFFSETTO:-0500
TZNAME:EST
DTSTART:20241103T060000
END:STANDARD
END:VTIMEZONE
BEGIN:VEVENT
DTSTART;TZID=America/New_York:20231112T133000
DTEND;TZID=America/New_York:20231112T150000
DTSTAMP:20260421T015305
CREATED:20231103T021819Z
LAST-MODIFIED:20231112T194705Z
UID:32206-1699795800-1699801200@sjahillsdale.org
SUMMARY:BB practice (RT)
DESCRIPTION:
URL:https://sjahillsdale.org/event/bb-practice-rt-25/
CATEGORIES:SJSA
END:VEVENT
BEGIN:VEVENT
DTSTART;VALUE=DATE:20231113
DTEND;VALUE=DATE:20231114
DTSTAMP:20260421T015305
CREATED:20231101T181743Z
LAST-MODIFIED:20231106T135925Z
UID:32169-1699833600-1699919999@sjahillsdale.org
SUMMARY:NUT Day (No Uniform Today) by SJA Student Council
DESCRIPTION:The Student Council is sponsoring a N.U.T. Day on Monday\, November 13 to raise money for Homes for Veterans\, a charity to help support disabled veterans.  Please wear red\, white\, and blue to show your support.  The cost is $5.00 per student; $10.00 per family.
URL:https://sjahillsdale.org/event/nut-day-no-uniform-today-by-sja-student-council/
CATEGORIES:General
END:VEVENT
BEGIN:VEVENT
DTSTART;VALUE=DATE:20231113
DTEND;VALUE=DATE:20231114
DTSTAMP:20260421T015305
CREATED:20231108T143423Z
LAST-MODIFIED:20231108T143422Z
UID:32586-1699833600-1699919999@sjahillsdale.org
SUMMARY:Table to Table's Bag a Lunch\,  Help a Bunch
DESCRIPTION:Help Feed Families in New Jersey. \nPlease click the link for SJA’s page to donate:\nhttps://interland3.donorperfect.net/weblink/weblink.aspx?name=E349640&id=23&cfifid=184
URL:https://sjahillsdale.org/event/table-to-tables-bag-a-lunch-help-a-bunch/2023-11-13/
CATEGORIES:General
END:VEVENT
BEGIN:VEVENT
DTSTART;TZID=America/New_York:20231113T143000
DTEND;TZID=America/New_York:20231113T154500
DTSTAMP:20260421T015305
CREATED:20230908T175430Z
LAST-MODIFIED:20231113T200504Z
UID:29767-1699885800-1699890300@sjahillsdale.org
SUMMARY:Gym Closed- Soccer Enrichment (Gym) PK & K
DESCRIPTION:
URL:https://sjahillsdale.org/event/gym-closed-soccer-enrichment-gym-pk-k-9/
CATEGORIES:SJSA
END:VEVENT
BEGIN:VEVENT
DTSTART;TZID=America/New_York:20231113T173000
DTEND;TZID=America/New_York:20231113T183000
DTSTAMP:20260421T015305
CREATED:20231104T031719Z
LAST-MODIFIED:20231113T223510Z
UID:32261-1699896600-1699900200@sjahillsdale.org
SUMMARY:BB practice (BG)
DESCRIPTION:
URL:https://sjahillsdale.org/event/bb-practice-bg/
CATEGORIES:SJSA
END:VEVENT
BEGIN:VEVENT
DTSTART;TZID=America/New_York:20231113T183000
DTEND;TZID=America/New_York:20231113T193000
DTSTAMP:20260421T015305
CREATED:20231104T031719Z
LAST-MODIFIED:20231113T234707Z
UID:32262-1699900200-1699903800@sjahillsdale.org
SUMMARY:BB practice (PD)
DESCRIPTION:
URL:https://sjahillsdale.org/event/bb-practice-pd-21/
CATEGORIES:SJSA
END:VEVENT
BEGIN:VEVENT
DTSTART;TZID=America/New_York:20231113T193000
DTEND;TZID=America/New_York:20231113T203000
DTSTAMP:20260421T015305
CREATED:20231105T000214Z
LAST-MODIFIED:20231114T010607Z
UID:32484-1699903800-1699907400@sjahillsdale.org
SUMMARY:BB practice (MS)
DESCRIPTION:
URL:https://sjahillsdale.org/event/bb-practice-ms-36/
CATEGORIES:SJSA
END:VEVENT
BEGIN:VEVENT
DTSTART;TZID=America/New_York:20231114T141500
DTEND;TZID=America/New_York:20231114T153000
DTSTAMP:20260421T015305
CREATED:20230825T191514Z
LAST-MODIFIED:20230911T174553Z
UID:29294-1699971300-1699975800@sjahillsdale.org
SUMMARY:Math Enrichment Program
DESCRIPTION:
URL:https://sjahillsdale.org/event/math-enrichment-program-2-2023-11-10/
LOCATION:St. John’s Academy\, 460 Hillsdale Ave.\, Hillsdale\, New Jersey\, 07642\, United States
CATEGORIES:General
ATTACH;FMTTYPE=image/png:https://sjahillsdale.org/wp-content/uploads/2021/01/SJA-logo-65th-1000x1000-1.png
END:VEVENT
BEGIN:VEVENT
DTSTART;TZID=America/New_York:20231114T173000
DTEND;TZID=America/New_York:20231114T183000
DTSTAMP:20260421T015305
CREATED:20231104T031720Z
LAST-MODIFIED:20231114T224505Z
UID:32264-1699983000-1699986600@sjahillsdale.org
SUMMARY:BB practice (JG)
DESCRIPTION:
URL:https://sjahillsdale.org/event/bb-practice-jg-18/
CATEGORIES:SJSA
END:VEVENT
BEGIN:VEVENT
DTSTART;TZID=America/New_York:20231114T193000
DTEND;TZID=America/New_York:20231114T203000
DTSTAMP:20260421T015305
CREATED:20231104T031720Z
LAST-MODIFIED:20231115T011606Z
UID:32265-1699990200-1699993800@sjahillsdale.org
SUMMARY:BB practice (MJ)
DESCRIPTION:
URL:https://sjahillsdale.org/event/bb-practice-mj-35/
CATEGORIES:SJSA
END:VEVENT
BEGIN:VEVENT
DTSTART;TZID=America/New_York:20231115T083000
DTEND;TZID=America/New_York:20231115T100000
DTSTAMP:20260421T015305
CREATED:20230830T155201Z
LAST-MODIFIED:20231023T152541Z
UID:29318-1700037000-1700042400@sjahillsdale.org
SUMMARY:Fire Prevention Visit (PreK-2nd grade)
DESCRIPTION:  \n\n\n\n\n\n\n\n\n\n\n\n\n\n\n\n 
URL:https://sjahillsdale.org/event/fire-prevention-visit-prek-2nd-grade/
LOCATION:St. John’s Academy\, 460 Hillsdale Avenue\, Hillsdale\, New Jersey\, 07642
CATEGORIES:General
END:VEVENT
BEGIN:VEVENT
DTSTART;TZID=America/New_York:20231115T164500
DTEND;TZID=America/New_York:20231115T180000
DTSTAMP:20260421T015305
CREATED:20231115T203305Z
LAST-MODIFIED:20231115T230309Z
UID:33056-1700066700-1700071200@sjahillsdale.org
SUMMARY:BB practice (GC)
DESCRIPTION:
URL:https://sjahillsdale.org/event/bb-practice-gc-38/
CATEGORIES:SJSA
END:VEVENT
BEGIN:VEVENT
DTSTART;TZID=America/New_York:20231115T180000
DTEND;TZID=America/New_York:20231115T193000
DTSTAMP:20260421T015305
CREATED:20231113T184808Z
LAST-MODIFIED:20231116T002105Z
UID:32817-1700071200-1700076600@sjahillsdale.org
SUMMARY:BB practice (KP)
DESCRIPTION:
URL:https://sjahillsdale.org/event/bb-practice-kp-16/
CATEGORIES:SJSA
END:VEVENT
BEGIN:VEVENT
DTSTART;TZID=America/New_York:20231115T193000
DTEND;TZID=America/New_York:20231115T203000
DTSTAMP:20260421T015305
CREATED:20231104T031721Z
LAST-MODIFIED:20231116T013304Z
UID:32267-1700076600-1700080200@sjahillsdale.org
SUMMARY:BB practice (LA)
DESCRIPTION:
URL:https://sjahillsdale.org/event/bb-practice-la-44/
CATEGORIES:SJSA
END:VEVENT
BEGIN:VEVENT
DTSTART;TZID=America/New_York:20231116T173000
DTEND;TZID=America/New_York:20231116T183000
DTSTAMP:20260421T015305
CREATED:20231104T031721Z
LAST-MODIFIED:20231116T223506Z
UID:32268-1700155800-1700159400@sjahillsdale.org
SUMMARY:BB practice (RT)
DESCRIPTION:
URL:https://sjahillsdale.org/event/bb-practice-rt-26/
CATEGORIES:SJSA
END:VEVENT
BEGIN:VEVENT
DTSTART;TZID=America/New_York:20231116T183000
DTEND;TZID=America/New_York:20231116T193000
DTSTAMP:20260421T015305
CREATED:20231104T031722Z
LAST-MODIFIED:20231116T234806Z
UID:32270-1700159400-1700163000@sjahillsdale.org
SUMMARY:BB practice (NP)
DESCRIPTION:
URL:https://sjahillsdale.org/event/bb-practice-np-31/
CATEGORIES:SJSA
END:VEVENT
BEGIN:VEVENT
DTSTART;TZID=America/New_York:20231116T193000
DTEND;TZID=America/New_York:20231116T203000
DTSTAMP:20260421T015305
CREATED:20231104T031722Z
LAST-MODIFIED:20231117T010005Z
UID:32269-1700163000-1700166600@sjahillsdale.org
SUMMARY:BB practice (RG)
DESCRIPTION:
URL:https://sjahillsdale.org/event/bb-practice-rg-42/
CATEGORIES:SJSA
END:VEVENT
BEGIN:VEVENT
DTSTART;TZID=America/New_York:20231117T163000
DTEND;TZID=America/New_York:20231117T173000
DTSTAMP:20260421T015305
CREATED:20231104T031722Z
LAST-MODIFIED:20231117T223107Z
UID:32271-1700238600-1700242200@sjahillsdale.org
SUMMARY:BB practice (MS)
DESCRIPTION:
URL:https://sjahillsdale.org/event/bb-practice-ms-21/
CATEGORIES:SJSA
END:VEVENT
BEGIN:VEVENT
DTSTART;TZID=America/New_York:20231117T173000
DTEND;TZID=America/New_York:20231117T183000
DTSTAMP:20260421T015305
CREATED:20231104T031723Z
LAST-MODIFIED:20231117T223106Z
UID:32273-1700242200-1700245800@sjahillsdale.org
SUMMARY:BB practice (CB)
DESCRIPTION:
URL:https://sjahillsdale.org/event/bb-practice-cb/
CATEGORIES:SJSA
END:VEVENT
BEGIN:VEVENT
DTSTART;TZID=America/New_York:20231117T183000
DTEND;TZID=America/New_York:20231117T193000
DTSTAMP:20260421T015305
CREATED:20231104T031723Z
LAST-MODIFIED:20231117T234506Z
UID:32272-1700245800-1700249400@sjahillsdale.org
SUMMARY:BB practice (TM)
DESCRIPTION:
URL:https://sjahillsdale.org/event/bb-practice-tm/
CATEGORIES:SJSA
END:VEVENT
BEGIN:VEVENT
DTSTART;TZID=America/New_York:20231117T193000
DTEND;TZID=America/New_York:20231117T203000
DTSTAMP:20260421T015305
CREATED:20231104T031723Z
LAST-MODIFIED:20231118T004706Z
UID:32274-1700249400-1700253000@sjahillsdale.org
SUMMARY:BB practice (MR)
DESCRIPTION:
URL:https://sjahillsdale.org/event/bb-practice-mr-34/
CATEGORIES:SJSA
END:VEVENT
BEGIN:VEVENT
DTSTART;TZID=America/New_York:20231118T000000
DTEND;TZID=America/New_York:20231118T235959
DTSTAMP:20260421T015305
CREATED:20230711T151341Z
LAST-MODIFIED:20230711T151343Z
UID:27596-1700265600-1700351999@sjahillsdale.org
SUMMARY:HSPT make up exam for 8th Graders
DESCRIPTION:
URL:https://sjahillsdale.org/event/hspt-make-up-exam-for-8th-graders/
CATEGORIES:General
END:VEVENT
BEGIN:VEVENT
DTSTART;TZID=America/New_York:20231118T080000
DTEND;TZID=America/New_York:20231118T085000
DTSTAMP:20260421T015305
CREATED:20231027T195017Z
LAST-MODIFIED:20231118T134807Z
UID:32023-1700294400-1700297400@sjahillsdale.org
SUMMARY:BB Clinic: Grade 2 Boys
DESCRIPTION:
URL:https://sjahillsdale.org/event/bb-clinic-grade-2-boys-12/
CATEGORIES:SJSA
END:VEVENT
BEGIN:VEVENT
DTSTART;TZID=America/New_York:20231118T090000
DTEND;TZID=America/New_York:20231118T095000
DTSTAMP:20260421T015305
CREATED:20231027T195017Z
LAST-MODIFIED:20231118T134808Z
UID:32024-1700298000-1700301000@sjahillsdale.org
SUMMARY:BB Clinic: Grade K Boys
DESCRIPTION:
URL:https://sjahillsdale.org/event/bb-clinic-grade-k-boys-12/
CATEGORIES:SJSA
END:VEVENT
BEGIN:VEVENT
DTSTART;TZID=America/New_York:20231118T100000
DTEND;TZID=America/New_York:20231118T105000
DTSTAMP:20260421T015305
CREATED:20231027T195017Z
LAST-MODIFIED:20231118T150006Z
UID:32025-1700301600-1700304600@sjahillsdale.org
SUMMARY:BB Clinic: Girls
DESCRIPTION:
URL:https://sjahillsdale.org/event/bb-clinic-girls-12/
CATEGORIES:SJSA
END:VEVENT
BEGIN:VEVENT
DTSTART;TZID=America/New_York:20231118T110000
DTEND;TZID=America/New_York:20231118T115000
DTSTAMP:20260421T015305
CREATED:20231027T195017Z
LAST-MODIFIED:20231118T162005Z
UID:32026-1700305200-1700308200@sjahillsdale.org
SUMMARY:BB Clinic: Grade 1 Boys
DESCRIPTION:
URL:https://sjahillsdale.org/event/bb-clinic-grade-1-boys-12/
CATEGORIES:SJSA
END:VEVENT
BEGIN:VEVENT
DTSTART;TZID=America/New_York:20231118T160000
DTEND;TZID=America/New_York:20231118T210000
DTSTAMP:20260421T015305
CREATED:20230831T081106Z
LAST-MODIFIED:20231119T020006Z
UID:29375-1700323200-1700341200@sjahillsdale.org
SUMMARY:HFR Closed- German School Event
DESCRIPTION:
URL:https://sjahillsdale.org/event/hfr-closed-german-school-event/
CATEGORIES:SJSA
END:VEVENT
END:VCALENDAR