BEGIN:VCALENDAR
VERSION:2.0
PRODID:-//St. John&#039;s Academy - ECPv6.15.20//NONSGML v1.0//EN
CALSCALE:GREGORIAN
METHOD:PUBLISH
X-WR-CALNAME:St. John&#039;s Academy
X-ORIGINAL-URL:https://sjahillsdale.org
X-WR-CALDESC:Events for St. John&#039;s Academy
REFRESH-INTERVAL;VALUE=DURATION:PT1H
X-Robots-Tag:noindex
X-PUBLISHED-TTL:PT1H
BEGIN:VTIMEZONE
TZID:America/New_York
BEGIN:DAYLIGHT
TZOFFSETFROM:-0500
TZOFFSETTO:-0400
TZNAME:EDT
DTSTART:20230312T070000
END:DAYLIGHT
BEGIN:STANDARD
TZOFFSETFROM:-0400
TZOFFSETTO:-0500
TZNAME:EST
DTSTART:20231105T060000
END:STANDARD
BEGIN:DAYLIGHT
TZOFFSETFROM:-0500
TZOFFSETTO:-0400
TZNAME:EDT
DTSTART:20240310T070000
END:DAYLIGHT
BEGIN:STANDARD
TZOFFSETFROM:-0400
TZOFFSETTO:-0500
TZNAME:EST
DTSTART:20241103T060000
END:STANDARD
BEGIN:DAYLIGHT
TZOFFSETFROM:-0500
TZOFFSETTO:-0400
TZNAME:EDT
DTSTART:20250309T070000
END:DAYLIGHT
BEGIN:STANDARD
TZOFFSETFROM:-0400
TZOFFSETTO:-0500
TZNAME:EST
DTSTART:20251102T060000
END:STANDARD
END:VTIMEZONE
BEGIN:VEVENT
DTSTART;TZID=America/New_York:20240603T000000
DTEND;TZID=America/New_York:20240603T235959
DTSTAMP:20260425T111655
CREATED:20230809T010513Z
LAST-MODIFIED:20230809T010516Z
UID:28397-1717372800-1717459199@sjahillsdale.org
SUMMARY:Field Day
DESCRIPTION:
URL:https://sjahillsdale.org/event/field-day-4/
CATEGORIES:General,PTG
END:VEVENT
BEGIN:VEVENT
DTSTART;VALUE=DATE:20240603
DTEND;VALUE=DATE:20240604
DTSTAMP:20260425T111655
CREATED:20240528T144839Z
LAST-MODIFIED:20240528T144839Z
UID:40620-1717372800-1717459199@sjahillsdale.org
SUMMARY:Aftercare closes at 5pm
DESCRIPTION:
URL:https://sjahillsdale.org/event/aftercare-closes-at-5pm-2/
CATEGORIES:General
END:VEVENT
BEGIN:VEVENT
DTSTART;TZID=America/New_York:20240603T130000
DTEND;TZID=America/New_York:20240603T140000
DTSTAMP:20260425T111655
CREATED:20240528T122447Z
LAST-MODIFIED:20240528T122447Z
UID:40616-1717419600-1717423200@sjahillsdale.org
SUMMARY:Lip Sync Battle Grades 7 & 8
DESCRIPTION:
URL:https://sjahillsdale.org/event/lip-sync-battle-grades-7-8/
LOCATION:St. John’s Academy Gym\, 460 Hillsdale Avenue\, Hillsdale\, New Jersey\, 07642\, United States
CATEGORIES:General
END:VEVENT
BEGIN:VEVENT
DTSTART;TZID=America/New_York:20240603T173000
DTEND;TZID=America/New_York:20240603T190000
DTSTAMP:20260425T111655
CREATED:20240423T181259Z
LAST-MODIFIED:20240506T141853Z
UID:38958-1717435800-1717441200@sjahillsdale.org
SUMMARY:Academic Fair (current SJA students & parents)
DESCRIPTION:
URL:https://sjahillsdale.org/event/academic-fair-current-sja-students-parents/
CATEGORIES:General
END:VEVENT
BEGIN:VEVENT
DTSTART;VALUE=DATE:20240604
DTEND;VALUE=DATE:20240605
DTSTAMP:20260425T111655
CREATED:20240423T180610Z
LAST-MODIFIED:20240423T180610Z
UID:38952-1717459200-1717545599@sjahillsdale.org
SUMMARY:Field Day Rain Date
DESCRIPTION:
URL:https://sjahillsdale.org/event/field-day-rain-date/
CATEGORIES:General
END:VEVENT
BEGIN:VEVENT
DTSTART;VALUE=DATE:20240605
DTEND;VALUE=DATE:20240606
DTSTAMP:20260425T111655
CREATED:20240531T134645Z
LAST-MODIFIED:20240531T134645Z
UID:40703-1717545600-1717631999@sjahillsdale.org
SUMMARY:8th Grade Spirit Wear Day
DESCRIPTION:
URL:https://sjahillsdale.org/event/8th-grade-spirit-wear-day/
CATEGORIES:General
END:VEVENT
BEGIN:VEVENT
DTSTART;TZID=America/New_York:20240605T094500
DTEND;TZID=America/New_York:20240605T101500
DTSTAMP:20260425T111655
CREATED:20240522T174059Z
LAST-MODIFIED:20240522T174059Z
UID:40477-1717580700-1717582500@sjahillsdale.org
SUMMARY:Books & Beyond Participant Ice Pop Celebration in Library
DESCRIPTION:
URL:https://sjahillsdale.org/event/books-beyond-participant-ice-pop-celebration-in-library/
LOCATION:St. John’s Academy\, 460 Hillsdale Avenue\, Hillsdale\, New Jersey\, 07642
CATEGORIES:General
END:VEVENT
BEGIN:VEVENT
DTSTART;TZID=America/New_York:20240605T130000
DTEND;TZID=America/New_York:20240605T133500
DTSTAMP:20260425T111655
CREATED:20240529T155716Z
LAST-MODIFIED:20240529T155716Z
UID:40647-1717592400-1717594500@sjahillsdale.org
SUMMARY:Student Council Election Assembly (Grades 3-7 attend)
DESCRIPTION:
URL:https://sjahillsdale.org/event/student-council-election-assembly-grades-3-7-attend/
LOCATION:St. John’s Academy Gym\, 460 Hillsdale Avenue\, Hillsdale\, New Jersey\, 07642\, United States
CATEGORIES:General
END:VEVENT
BEGIN:VEVENT
DTSTART;TZID=America/New_York:20240605T180000
DTEND;TZID=America/New_York:20240605T220000
DTSTAMP:20260425T111655
CREATED:20240108T160424Z
LAST-MODIFIED:20240108T160423Z
UID:35237-1717610400-1717624800@sjahillsdale.org
SUMMARY:8th Grade Dinner Dance (@The View\, Piermont)
DESCRIPTION:
URL:https://sjahillsdale.org/event/8th-grade-dinner-dance-the-view-piermont/
LOCATION:The View on the Hudson\, 101 Shad Row\, Piermont\, New York\, 10968\, United States
CATEGORIES:General
END:VEVENT
BEGIN:VEVENT
DTSTART;VALUE=DATE:20240606
DTEND;VALUE=DATE:20240607
DTSTAMP:20260425T111655
CREATED:20240423T180748Z
LAST-MODIFIED:20240423T180748Z
UID:38954-1717632000-1717718399@sjahillsdale.org
SUMMARY:Beechwood Picnic 8th Grade
DESCRIPTION:
URL:https://sjahillsdale.org/event/beechwood-picnic-8th-grade/
CATEGORIES:General
END:VEVENT
BEGIN:VEVENT
DTSTART;TZID=America/New_York:20240606T083000
DTEND;TZID=America/New_York:20240606T093000
DTSTAMP:20260425T111655
CREATED:20230807T223040Z
LAST-MODIFIED:20230911T134238Z
UID:28334-1717662600-1717666200@sjahillsdale.org
SUMMARY:PTG Meeting (Virtual)
DESCRIPTION:
URL:https://sjahillsdale.org/event/ptg-meeting-virtual-10/
CATEGORIES:General,PTG
END:VEVENT
BEGIN:VEVENT
DTSTART;TZID=America/New_York:20240606T141500
DTEND;TZID=America/New_York:20240606T153000
DTSTAMP:20260425T111655
CREATED:20240313T133419Z
LAST-MODIFIED:20240313T165753Z
UID:37426-1717683300-1717687800@sjahillsdale.org
SUMMARY:K-6 Art/Gardening Enrichment (Art Room)
DESCRIPTION:
URL:https://sjahillsdale.org/event/k-6-art-gardening-enrichment-art-room-2/2024-06-06/
CATEGORIES:General
END:VEVENT
BEGIN:VEVENT
DTSTART;TZID=America/New_York:20240607T000000
DTEND;TZID=America/New_York:20240607T235959
DTSTAMP:20260425T111655
CREATED:20230711T155145Z
LAST-MODIFIED:20230711T155145Z
UID:27628-1717718400-1717804799@sjahillsdale.org
SUMMARY:Noon Dismissal: Faculty Meeting
DESCRIPTION:
URL:https://sjahillsdale.org/event/noon-dismissal-faculty-meeting-18/
CATEGORIES:General
END:VEVENT
BEGIN:VEVENT
DTSTART;TZID=America/New_York:20240607T090000
DTEND;TZID=America/New_York:20240607T100000
DTSTAMP:20260425T111655
CREATED:20230905T193640Z
LAST-MODIFIED:20240506T155359Z
UID:29598-1717750800-1717754400@sjahillsdale.org
SUMMARY:School Liturgy - (3rd Grade Hosting)
DESCRIPTION:  \n\n\n\n\n\n\n\n\n\n\n\n\n\n\n\n 
URL:https://sjahillsdale.org/event/school-liturgy-5th-grade-hosting-4/
LOCATION:St. John the Baptist Roman Catholic Church\, 69 Valley St.\, Hillsdale\, New Jersey\, 07642\, United States
CATEGORIES:General
END:VEVENT
BEGIN:VEVENT
DTSTART;TZID=America/New_York:20240607T120000
DTEND;TZID=America/New_York:20240607T160000
DTSTAMP:20260425T111655
CREATED:20230830T164411Z
LAST-MODIFIED:20230920T152923Z
UID:29336-1717761600-1717776000@sjahillsdale.org
SUMMARY:Aftercare - Ends @ 4:00 p.m. today
DESCRIPTION:
URL:https://sjahillsdale.org/event/aftercare-ends-330-p-m-today-7/
LOCATION:St. John’s Academy\, 460 Hillsdale Ave.\, Hillsdale\, New Jersey\, 07642\, United States
CATEGORIES:General
END:VEVENT
BEGIN:VEVENT
DTSTART;TZID=America/New_York:20240610T090000
DTEND;TZID=America/New_York:20240610T130000
DTSTAMP:20260425T111655
CREATED:20240605T162738Z
LAST-MODIFIED:20240605T162738Z
UID:40833-1718010000-1718024400@sjahillsdale.org
SUMMARY:2nd grade trip: Tenafly Nature Center
DESCRIPTION:
URL:https://sjahillsdale.org/event/2nd-grade-trip-tenafly-nature-center/
CATEGORIES:General
END:VEVENT
BEGIN:VEVENT
DTSTART;TZID=America/New_York:20240610T130000
DTEND;TZID=America/New_York:20240610T140000
DTSTAMP:20260425T111655
CREATED:20240423T181128Z
LAST-MODIFIED:20240423T181128Z
UID:38956-1718024400-1718028000@sjahillsdale.org
SUMMARY:7th/8th grade luncheon - Holy Family Room
DESCRIPTION:
URL:https://sjahillsdale.org/event/7th-8th-grade-luncheon-holy-family-room/
LOCATION:St. John’s Academy (Holy Family Room)\, 460 Hillsdale Avenue\, Hillsdale\, New Jersey\, 07642
CATEGORIES:General
END:VEVENT
BEGIN:VEVENT
DTSTART;TZID=America/New_York:20240610T190000
DTEND;TZID=America/New_York:20240610T200000
DTSTAMP:20260425T111655
CREATED:20240604T035110Z
LAST-MODIFIED:20240610T233218Z
UID:40787-1718046000-1718049600@sjahillsdale.org
SUMMARY:Track team medals ceremony
DESCRIPTION:
URL:https://sjahillsdale.org/event/track-team-medals-ceremony/
LOCATION:HFR
CATEGORIES:SJSA
END:VEVENT
BEGIN:VEVENT
DTSTART;VALUE=DATE:20240611
DTEND;VALUE=DATE:20240612
DTSTAMP:20260425T111655
CREATED:20240423T181703Z
LAST-MODIFIED:20240423T181703Z
UID:38964-1718064000-1718150399@sjahillsdale.org
SUMMARY:8th grade city trip
DESCRIPTION:
URL:https://sjahillsdale.org/event/8th-grade-city-trip/
CATEGORIES:General
END:VEVENT
BEGIN:VEVENT
DTSTART;TZID=America/New_York:20240611T080000
DTEND;TZID=America/New_York:20240611T100000
DTSTAMP:20260425T111655
CREATED:20240524T180316Z
LAST-MODIFIED:20240524T180316Z
UID:40529-1718092800-1718100000@sjahillsdale.org
SUMMARY:6th & 7th Grade finals: ELA
DESCRIPTION:
URL:https://sjahillsdale.org/event/6th-7th-grade-finals-ela/
CATEGORIES:General
END:VEVENT
BEGIN:VEVENT
DTSTART;TZID=America/New_York:20240611T090000
DTEND;TZID=America/New_York:20240611T103000
DTSTAMP:20260425T111655
CREATED:20240411T181758Z
LAST-MODIFIED:20240411T181758Z
UID:38350-1718096400-1718101800@sjahillsdale.org
SUMMARY:PreK3 Moving up ceremony & Reception
DESCRIPTION:
URL:https://sjahillsdale.org/event/prek3-moving-up-ceremony-reception/
LOCATION:St. John’s Academy Gym\, 460 Hillsdale Avenue\, Hillsdale\, New Jersey\, 07642\, United States
CATEGORIES:General
END:VEVENT
BEGIN:VEVENT
DTSTART;VALUE=DATE:20240612
DTEND;VALUE=DATE:20240613
DTSTAMP:20260425T111655
CREATED:20240528T172259Z
LAST-MODIFIED:20240528T172259Z
UID:40624-1718150400-1718236799@sjahillsdale.org
SUMMARY:Last Day of Band Lessons for 23-24 school year
DESCRIPTION:
URL:https://sjahillsdale.org/event/last-day-of-band-lessons-for-23-24-school-year/
CATEGORIES:General
END:VEVENT
BEGIN:VEVENT
DTSTART;TZID=America/New_York:20240612T080000
DTEND;TZID=America/New_York:20240612T100000
DTSTAMP:20260425T111655
CREATED:20240524T180443Z
LAST-MODIFIED:20240524T180443Z
UID:40532-1718179200-1718186400@sjahillsdale.org
SUMMARY:6th & 7th Grade finals: Math/Social Studies
DESCRIPTION:
URL:https://sjahillsdale.org/event/6th-7th-grade-finals-math-social-studies/
CATEGORIES:General
END:VEVENT
BEGIN:VEVENT
DTSTART;TZID=America/New_York:20240612T084500
DTEND;TZID=America/New_York:20240612T133000
DTSTAMP:20260425T111655
CREATED:20240320T161217Z
LAST-MODIFIED:20240320T161217Z
UID:37691-1718181900-1718199000@sjahillsdale.org
SUMMARY:3rd & 4th grade field trip to Tenafly Nature Center
DESCRIPTION:
URL:https://sjahillsdale.org/event/3rd-4th-grade-field-trip-to-tenafly-nature-center/
CATEGORIES:General
END:VEVENT
BEGIN:VEVENT
DTSTART;TZID=America/New_York:20240612T090000
DTEND;TZID=America/New_York:20240612T220000
DTSTAMP:20260425T111655
CREATED:20240412T150016Z
LAST-MODIFIED:20240412T150016Z
UID:38372-1718182800-1718229600@sjahillsdale.org
SUMMARY:PreK4A Graduation and Reception
DESCRIPTION:
URL:https://sjahillsdale.org/event/prek4a-graduation-and-reception/
LOCATION:St. John the Baptist Roman Catholic Church\, 69 Valley St.\, Hillsdale\, New Jersey\, 07642\, United States
CATEGORIES:General
END:VEVENT
BEGIN:VEVENT
DTSTART;TZID=America/New_York:20240612T103000
DTEND;TZID=America/New_York:20240612T113000
DTSTAMP:20260425T111655
CREATED:20240412T150237Z
LAST-MODIFIED:20240412T150237Z
UID:38374-1718188200-1718191800@sjahillsdale.org
SUMMARY:PreK4B Graduation and Reception
DESCRIPTION:
URL:https://sjahillsdale.org/event/prek4b-graduation-and-reception/
LOCATION:St. John the Baptist Roman Catholic Church\, 69 Valley St.\, Hillsdale\, New Jersey\, 07642\, United States
CATEGORIES:General
END:VEVENT
BEGIN:VEVENT
DTSTART;TZID=America/New_York:20240613T080000
DTEND;TZID=America/New_York:20240613T100000
DTSTAMP:20260425T111655
CREATED:20240524T180544Z
LAST-MODIFIED:20240524T180544Z
UID:40533-1718265600-1718272800@sjahillsdale.org
SUMMARY:6th & 7th Grade finals: Science/Religion
DESCRIPTION:
URL:https://sjahillsdale.org/event/6th-7th-grade-finals-science-religion/
CATEGORIES:General
END:VEVENT
BEGIN:VEVENT
DTSTART;TZID=America/New_York:20240613T090000
DTEND;TZID=America/New_York:20240613T110000
DTSTAMP:20260425T111655
CREATED:20240411T180526Z
LAST-MODIFIED:20240411T180526Z
UID:38348-1718269200-1718276400@sjahillsdale.org
SUMMARY:Kindergarten Graduation & Breakfast
DESCRIPTION:
URL:https://sjahillsdale.org/event/kindergarten-graduation-breakfast/
LOCATION:St. John the Baptist Roman Catholic Church\, 69 Valley St.\, Hillsdale\, New Jersey\, 07642\, United States
CATEGORIES:General
END:VEVENT
BEGIN:VEVENT
DTSTART;TZID=America/New_York:20240613T133000
DTEND;TZID=America/New_York:20240613T140000
DTSTAMP:20260425T111655
CREATED:20240423T184023Z
LAST-MODIFIED:20240530T161230Z
UID:38975-1718285400-1718287200@sjahillsdale.org
SUMMARY:8th grade clap out
DESCRIPTION:
URL:https://sjahillsdale.org/event/8th-grade-clap-out-2/
CATEGORIES:General
END:VEVENT
BEGIN:VEVENT
DTSTART;TZID=America/New_York:20240614T000000
DTEND;TZID=America/New_York:20240614T235959
DTSTAMP:20260425T111655
CREATED:20230712T122937Z
LAST-MODIFIED:20230712T122940Z
UID:27706-1718323200-1718409599@sjahillsdale.org
SUMMARY:RCAN- End of 3rd Trimester 
DESCRIPTION:
URL:https://sjahillsdale.org/event/rcan-end-of-3rd-trimester-2/
CATEGORIES:General
END:VEVENT
BEGIN:VEVENT
DTSTART;TZID=America/New_York:20240614T090000
DTEND;TZID=America/New_York:20240614T100000
DTSTAMP:20260425T111655
CREATED:20230905T194007Z
LAST-MODIFIED:20230905T194011Z
UID:29601-1718355600-1718359200@sjahillsdale.org
SUMMARY:Baccalaureate Mass and Slideshow (8th Grade)
DESCRIPTION:
URL:https://sjahillsdale.org/event/baccalaureate-mass-and-slideshow-8th-grade/
LOCATION:St. John the Baptist Roman Catholic Church\, 69 Valley St.\, Hillsdale\, New Jersey\, 07642\, United States
CATEGORIES:General
END:VEVENT
BEGIN:VEVENT
DTSTART;TZID=America/New_York:20240614T131500
DTEND;TZID=America/New_York:20240614T140000
DTSTAMP:20260425T111655
CREATED:20240605T134211Z
LAST-MODIFIED:20240605T134211Z
UID:40820-1718370900-1718373600@sjahillsdale.org
SUMMARY:5A Poetry Reading (5A parents invited)
DESCRIPTION:
URL:https://sjahillsdale.org/event/5a-poetry-reading-5a-parents-invited/
LOCATION:St. John’s Academy (Holy Family Room)\, 460 Hillsdale Avenue\, Hillsdale\, New Jersey\, 07642
CATEGORIES:General
END:VEVENT
BEGIN:VEVENT
DTSTART;TZID=America/New_York:20240614T170000
DTEND;TZID=America/New_York:20240614T190000
DTSTAMP:20260425T111655
CREATED:20240411T180056Z
LAST-MODIFIED:20240411T180056Z
UID:38342-1718384400-1718391600@sjahillsdale.org
SUMMARY:8th Grade Graduation
DESCRIPTION:
URL:https://sjahillsdale.org/event/8th-grade-graduation-4/
LOCATION:St. John the Baptist Roman Catholic Church\, 69 Valley St.\, Hillsdale\, New Jersey\, 07642\, United States
CATEGORIES:General
END:VEVENT
BEGIN:VEVENT
DTSTART;TZID=America/New_York:20240617T000000
DTEND;TZID=America/New_York:20240617T235959
DTSTAMP:20260425T111655
CREATED:20230822T151323Z
LAST-MODIFIED:20230822T151330Z
UID:29201-1718582400-1718668799@sjahillsdale.org
SUMMARY:Uniform Swap Collection Bins outside main entrance
DESCRIPTION:
URL:https://sjahillsdale.org/event/uniform-swap-collection-bins-outside-main-entrance/2024-06-17/
LOCATION:St. John’s Academy\, 460 Hillsdale Ave.\, Hillsdale\, New Jersey\, 07642\, United States
CATEGORIES:General,PTG
END:VEVENT
BEGIN:VEVENT
DTSTART;VALUE=DATE:20240617
DTEND;VALUE=DATE:20240618
DTSTAMP:20260425T111655
CREATED:20240423T181837Z
LAST-MODIFIED:20240423T183248Z
UID:38966-1718582400-1718668799@sjahillsdale.org
SUMMARY:Aftercare closes at 4pm
DESCRIPTION:
URL:https://sjahillsdale.org/event/aftercare-closes-at-4pm/2024-06-17/
CATEGORIES:General
END:VEVENT
BEGIN:VEVENT
DTSTART;TZID=America/New_York:20240617T120000
DTEND;TZID=America/New_York:20240617T233000
DTSTAMP:20260425T111655
CREATED:20230712T122600Z
LAST-MODIFIED:20230712T122600Z
UID:27700-1718625600-1718667000@sjahillsdale.org
SUMMARY:Noon Dismissal
DESCRIPTION:
URL:https://sjahillsdale.org/event/noon-dismissal/2024-06-17/
CATEGORIES:General
END:VEVENT
BEGIN:VEVENT
DTSTART;VALUE=DATE:20240618
DTEND;VALUE=DATE:20240619
DTSTAMP:20260425T111655
CREATED:20240423T184718Z
LAST-MODIFIED:20240423T184718Z
UID:38977-1718668800-1718755199@sjahillsdale.org
SUMMARY:Last Day of Aftercare
DESCRIPTION:
URL:https://sjahillsdale.org/event/last-day-of-aftercare-2/
CATEGORIES:General
END:VEVENT
BEGIN:VEVENT
DTSTART;TZID=America/New_York:20240618T000000
DTEND;TZID=America/New_York:20240618T235959
DTSTAMP:20260425T111655
CREATED:20230822T151331Z
LAST-MODIFIED:20230822T151323Z
UID:29202-1718668800-1718755199@sjahillsdale.org
SUMMARY:Uniform Swap Collection Bins outside main entrance
DESCRIPTION:
URL:https://sjahillsdale.org/event/uniform-swap-collection-bins-outside-main-entrance/2024-06-18/
LOCATION:St. John’s Academy\, 460 Hillsdale Ave.\, Hillsdale\, New Jersey\, 07642\, United States
CATEGORIES:General,PTG
ATTACH;FMTTYPE=image/png:https://sjahillsdale.org/wp-content/uploads/2021/01/SJA-logo-65th-1000x1000-1.png
END:VEVENT
BEGIN:VEVENT
DTSTART;VALUE=DATE:20240618
DTEND;VALUE=DATE:20240619
DTSTAMP:20260425T111655
CREATED:20240423T183248Z
LAST-MODIFIED:20240423T181837Z
UID:38968-1718668800-1718755199@sjahillsdale.org
SUMMARY:Aftercare closes at 4pm
DESCRIPTION:
URL:https://sjahillsdale.org/event/aftercare-closes-at-4pm/2024-06-18/
CATEGORIES:General
END:VEVENT
BEGIN:VEVENT
DTSTART;TZID=America/New_York:20240618T120000
DTEND;TZID=America/New_York:20240618T233000
DTSTAMP:20260425T111655
CREATED:20230712T122634Z
LAST-MODIFIED:20230712T122559Z
UID:27702-1718712000-1718753400@sjahillsdale.org
SUMMARY:Noon Dismissal
DESCRIPTION:
URL:https://sjahillsdale.org/event/noon-dismissal/2024-06-18/
CATEGORIES:General
ATTACH;FMTTYPE=image/png:https://sjahillsdale.org/wp-content/uploads/2021/01/SJA-logo-65th-1000x1000-1.png
END:VEVENT
BEGIN:VEVENT
DTSTART;VALUE=DATE:20240619
DTEND;VALUE=DATE:20240620
DTSTAMP:20260425T111655
CREATED:20230627T155751Z
LAST-MODIFIED:20240423T184325Z
UID:27265-1718755200-1718841599@sjahillsdale.org
SUMMARY:Noon Dismissal - LAST DAY OF SCHOOL
DESCRIPTION:  \n\n\n\n\n\n\n\n\n\n\n\n\n\n\n\n 
URL:https://sjahillsdale.org/event/noon-dismissal-last-day-of-school-3/
CATEGORIES:General
END:VEVENT
BEGIN:VEVENT
DTSTART;TZID=America/New_York:20240619T000000
DTEND;TZID=America/New_York:20240619T235959
DTSTAMP:20260425T111656
CREATED:20230822T151332Z
LAST-MODIFIED:20230822T151323Z
UID:29203-1718755200-1718841599@sjahillsdale.org
SUMMARY:Uniform Swap Collection Bins outside main entrance
DESCRIPTION:
URL:https://sjahillsdale.org/event/uniform-swap-collection-bins-outside-main-entrance/2024-06-19/
LOCATION:St. John’s Academy\, 460 Hillsdale Ave.\, Hillsdale\, New Jersey\, 07642\, United States
CATEGORIES:General,PTG
ATTACH;FMTTYPE=image/png:https://sjahillsdale.org/wp-content/uploads/2021/01/SJA-logo-65th-1000x1000-1.png
END:VEVENT
BEGIN:VEVENT
DTSTART;TZID=America/New_York:20240619T090000
DTEND;TZID=America/New_York:20240619T100000
DTSTAMP:20260425T111656
CREATED:20230905T194402Z
LAST-MODIFIED:20240506T155308Z
UID:29604-1718787600-1718791200@sjahillsdale.org
SUMMARY:School Liturgy/Last Day of School-(5th Gr. Hosting)
DESCRIPTION:  \n\n\n\n\n\n\n\n\n\n\n\n\n\n\n\n 
URL:https://sjahillsdale.org/event/school-liturgy-last-day-of-school-3rd-gr-hosting/
LOCATION:St. John the Baptist Roman Catholic Church\, 69 Valley St.\, Hillsdale\, New Jersey\, 07642\, United States
CATEGORIES:General
END:VEVENT
BEGIN:VEVENT
DTSTART;TZID=America/New_York:20240619T170000
DTEND;TZID=America/New_York:20240619T210000
DTSTAMP:20260425T111656
CREATED:20230809T010726Z
LAST-MODIFIED:20240430T163453Z
UID:28398-1718816400-1718830800@sjahillsdale.org
SUMMARY:PTG Family/End of Year Picnic
DESCRIPTION:  \n\n\n\n\n\n\n\n\n\n\n\n\n\n\n\n 
URL:https://sjahillsdale.org/event/end-of-year-picnic/
CATEGORIES:General,PTG
END:VEVENT
BEGIN:VEVENT
DTSTART;TZID=America/New_York:20240620T000000
DTEND;TZID=America/New_York:20240620T235959
DTSTAMP:20260425T111656
CREATED:20230822T151333Z
LAST-MODIFIED:20230822T151323Z
UID:29204-1718841600-1718927999@sjahillsdale.org
SUMMARY:Uniform Swap Collection Bins outside main entrance
DESCRIPTION:
URL:https://sjahillsdale.org/event/uniform-swap-collection-bins-outside-main-entrance/2024-06-20/
LOCATION:St. John’s Academy\, 460 Hillsdale Ave.\, Hillsdale\, New Jersey\, 07642\, United States
CATEGORIES:General,PTG
ATTACH;FMTTYPE=image/png:https://sjahillsdale.org/wp-content/uploads/2021/01/SJA-logo-65th-1000x1000-1.png
END:VEVENT
END:VCALENDAR