BEGIN:VCALENDAR
VERSION:2.0
PRODID:-//St. John&#039;s Academy - ECPv6.15.20//NONSGML v1.0//EN
CALSCALE:GREGORIAN
METHOD:PUBLISH
X-ORIGINAL-URL:https://sjahillsdale.org
X-WR-CALDESC:Events for St. John&#039;s Academy
REFRESH-INTERVAL;VALUE=DURATION:PT1H
X-Robots-Tag:noindex
X-PUBLISHED-TTL:PT1H
BEGIN:VTIMEZONE
TZID:America/New_York
BEGIN:DAYLIGHT
TZOFFSETFROM:-0500
TZOFFSETTO:-0400
TZNAME:EDT
DTSTART:20250309T070000
END:DAYLIGHT
BEGIN:STANDARD
TZOFFSETFROM:-0400
TZOFFSETTO:-0500
TZNAME:EST
DTSTART:20251102T060000
END:STANDARD
BEGIN:DAYLIGHT
TZOFFSETFROM:-0500
TZOFFSETTO:-0400
TZNAME:EDT
DTSTART:20260308T070000
END:DAYLIGHT
BEGIN:STANDARD
TZOFFSETFROM:-0400
TZOFFSETTO:-0500
TZNAME:EST
DTSTART:20261101T060000
END:STANDARD
BEGIN:DAYLIGHT
TZOFFSETFROM:-0500
TZOFFSETTO:-0400
TZNAME:EDT
DTSTART:20270314T070000
END:DAYLIGHT
BEGIN:STANDARD
TZOFFSETFROM:-0400
TZOFFSETTO:-0500
TZNAME:EST
DTSTART:20271107T060000
END:STANDARD
END:VTIMEZONE
BEGIN:VEVENT
DTSTART;TZID=America/New_York:20260503T083000
DTEND;TZID=America/New_York:20260503T123000
DTSTAMP:20260425T215253
CREATED:20260304T035130Z
LAST-MODIFIED:20260426T012123Z
UID:911604-1777797000-1777811400@sjahillsdale.org
SUMMARY:Track meet
DESCRIPTION:St. Cassian Meet
URL:https://sjahillsdale.org/event/track-meet-3/
LOCATION:Lincoln Park\, 407 Co Rd 605\, Jersey City\, NJ\, United States
CATEGORIES:SJSA
GEO:40.715479;-74.087012
X-APPLE-STRUCTURED-LOCATION;VALUE=URI;X-ADDRESS=Lincoln Park 407 Co Rd 605 Jersey City NJ United States;X-APPLE-RADIUS=500;X-TITLE=407 Co Rd 605:geo:-74.087012,40.715479
END:VEVENT
BEGIN:VEVENT
DTSTART;TZID=America/New_York:20260503T090000
DTEND;TZID=America/New_York:20260503T220000
DTSTAMP:20260425T215253
CREATED:20260213T153936Z
LAST-MODIFIED:20260426T012122Z
UID:910776-1777798800-1777845600@sjahillsdale.org
SUMMARY:Gym closed: Spring Play
DESCRIPTION:
URL:https://sjahillsdale.org/event/gym-closed-spring-play/
CATEGORIES:SJSA
END:VEVENT
BEGIN:VEVENT
DTSTART;TZID=America/New_York:20260504T140000
DTEND;TZID=America/New_York:20260504T220000
DTSTAMP:20260425T215253
CREATED:20260213T153937Z
LAST-MODIFIED:20260426T012123Z
UID:910777-1777903200-1777932000@sjahillsdale.org
SUMMARY:Gym closed: Spring Play
DESCRIPTION:
URL:https://sjahillsdale.org/event/gym-closed-spring-play-2/
CATEGORIES:SJSA
END:VEVENT
BEGIN:VEVENT
DTSTART;TZID=America/New_York:20260505T140000
DTEND;TZID=America/New_York:20260505T220000
DTSTAMP:20260425T215253
CREATED:20260213T153937Z
LAST-MODIFIED:20260426T012123Z
UID:910778-1777989600-1778018400@sjahillsdale.org
SUMMARY:Gym closed: Spring Play
DESCRIPTION:
URL:https://sjahillsdale.org/event/gym-closed-spring-play-3/
CATEGORIES:SJSA
END:VEVENT
BEGIN:VEVENT
DTSTART;TZID=America/New_York:20260506T140000
DTEND;TZID=America/New_York:20260506T220000
DTSTAMP:20260425T215253
CREATED:20260213T153937Z
LAST-MODIFIED:20260426T012123Z
UID:910779-1778076000-1778104800@sjahillsdale.org
SUMMARY:Gym closed: Spring Play
DESCRIPTION:
URL:https://sjahillsdale.org/event/gym-closed-spring-play-4/
CATEGORIES:SJSA
END:VEVENT
BEGIN:VEVENT
DTSTART;TZID=America/New_York:20260506T163000
DTEND;TZID=America/New_York:20260506T173000
DTSTAMP:20260425T215253
CREATED:20260317T032150Z
LAST-MODIFIED:20260426T012123Z
UID:912315-1778085000-1778088600@sjahillsdale.org
SUMMARY:VB practice (DN)
DESCRIPTION:
URL:https://sjahillsdale.org/event/vb-practice-dn-47/
CATEGORIES:SJSA
END:VEVENT
BEGIN:VEVENT
DTSTART;TZID=America/New_York:20260507T140000
DTEND;TZID=America/New_York:20260507T220000
DTSTAMP:20260425T215253
CREATED:20260213T153938Z
LAST-MODIFIED:20260426T012124Z
UID:910780-1778162400-1778191200@sjahillsdale.org
SUMMARY:Gym closed: Spring Play
DESCRIPTION:
URL:https://sjahillsdale.org/event/gym-closed-spring-play-5/
CATEGORIES:SJSA
END:VEVENT
BEGIN:VEVENT
DTSTART;TZID=America/New_York:20260508T140000
DTEND;TZID=America/New_York:20260508T220000
DTSTAMP:20260425T215253
CREATED:20260213T153938Z
LAST-MODIFIED:20260426T012124Z
UID:910781-1778248800-1778277600@sjahillsdale.org
SUMMARY:Gym closed: Spring Play
DESCRIPTION:
URL:https://sjahillsdale.org/event/gym-closed-spring-play-6/
CATEGORIES:SJSA
END:VEVENT
BEGIN:VEVENT
DTSTART;TZID=America/New_York:20260509T090000
DTEND;TZID=America/New_York:20260509T130000
DTSTAMP:20260425T215253
CREATED:20260304T035132Z
LAST-MODIFIED:20260426T012124Z
UID:911606-1778317200-1778331600@sjahillsdale.org
SUMMARY:Track meet
DESCRIPTION:Roselle Catholic
URL:https://sjahillsdale.org/event/track-meet-4/
LOCATION:Roselle Catholic High School\, 350 Raritan Rd\, Roselle\, NJ\, United States
CATEGORIES:SJSA
GEO:40.647516;-74.265153
X-APPLE-STRUCTURED-LOCATION;VALUE=URI;X-ADDRESS=Roselle Catholic High School 350 Raritan Rd Roselle NJ United States;X-APPLE-RADIUS=500;X-TITLE=350 Raritan Rd:geo:-74.265153,40.647516
END:VEVENT
BEGIN:VEVENT
DTSTART;TZID=America/New_York:20260509T090000
DTEND;TZID=America/New_York:20260509T220000
DTSTAMP:20260425T215253
CREATED:20260213T153938Z
LAST-MODIFIED:20260426T012124Z
UID:910782-1778317200-1778364000@sjahillsdale.org
SUMMARY:Gym closed: Spring Play
DESCRIPTION:
URL:https://sjahillsdale.org/event/gym-closed-spring-play-7/
CATEGORIES:SJSA
END:VEVENT
END:VCALENDAR