BEGIN:VCALENDAR
VERSION:2.0
PRODID:-//St. John&#039;s Academy - ECPv6.15.17//NONSGML v1.0//EN
CALSCALE:GREGORIAN
METHOD:PUBLISH
X-ORIGINAL-URL:https://sjahillsdale.org
X-WR-CALDESC:Events for St. John&#039;s Academy
REFRESH-INTERVAL;VALUE=DURATION:PT1H
X-Robots-Tag:noindex
X-PUBLISHED-TTL:PT1H
BEGIN:VTIMEZONE
TZID:America/New_York
BEGIN:DAYLIGHT
TZOFFSETFROM:-0500
TZOFFSETTO:-0400
TZNAME:EDT
DTSTART:20250309T070000
END:DAYLIGHT
BEGIN:STANDARD
TZOFFSETFROM:-0400
TZOFFSETTO:-0500
TZNAME:EST
DTSTART:20251102T060000
END:STANDARD
BEGIN:DAYLIGHT
TZOFFSETFROM:-0500
TZOFFSETTO:-0400
TZNAME:EDT
DTSTART:20260308T070000
END:DAYLIGHT
BEGIN:STANDARD
TZOFFSETFROM:-0400
TZOFFSETTO:-0500
TZNAME:EST
DTSTART:20261101T060000
END:STANDARD
BEGIN:DAYLIGHT
TZOFFSETFROM:-0500
TZOFFSETTO:-0400
TZNAME:EDT
DTSTART:20270314T070000
END:DAYLIGHT
BEGIN:STANDARD
TZOFFSETFROM:-0400
TZOFFSETTO:-0500
TZNAME:EST
DTSTART:20271107T060000
END:STANDARD
END:VTIMEZONE
BEGIN:VEVENT
DTSTART;TZID=America/New_York:20260430T191500
DTEND;TZID=America/New_York:20260430T201500
DTSTAMP:20260419T120611
CREATED:20260403T000536Z
LAST-MODIFIED:20260419T160517Z
UID:913668-1777576500-1777580100@sjahillsdale.org
SUMMARY:VB Game (JV Boys - Donato)
DESCRIPTION:Team: JV Boys – Donato | Opponent: OLM Park Ridge | Division: Boys JV | Home/Away: Home
URL:https://sjahillsdale.org/event/vb-game-jv-boys-donato/
LOCATION:St. John – Hillsdale – Gym
CATEGORIES:SJSA
END:VEVENT
BEGIN:VEVENT
DTSTART;TZID=America/New_York:20260430T201500
DTEND;TZID=America/New_York:20260430T211500
DTSTAMP:20260419T120611
CREATED:20260403T000536Z
LAST-MODIFIED:20260419T160518Z
UID:913667-1777580100-1777583700@sjahillsdale.org
SUMMARY:VB Game (Varsity Boys - Brueggemeier)
DESCRIPTION:Team: Varsity Boys – Brueggemeier | Opponent: Sacred Ht Lynd Boys Var | Division: Boys Varsity | Home/Away: Home
URL:https://sjahillsdale.org/event/vb-game-varsity-boys-brueggemeier-3/
LOCATION:St. John – Hillsdale – Gym
CATEGORIES:SJSA
END:VEVENT
END:VCALENDAR