BEGIN:VCALENDAR
VERSION:2.0
PRODID:-//St. John&#039;s Academy - ECPv6.15.17//NONSGML v1.0//EN
CALSCALE:GREGORIAN
METHOD:PUBLISH
X-WR-CALNAME:St. John&#039;s Academy
X-ORIGINAL-URL:https://sjahillsdale.org
X-WR-CALDESC:Events for St. John&#039;s Academy
REFRESH-INTERVAL;VALUE=DURATION:PT1H
X-Robots-Tag:noindex
X-PUBLISHED-TTL:PT1H
BEGIN:VTIMEZONE
TZID:America/New_York
BEGIN:DAYLIGHT
TZOFFSETFROM:-0500
TZOFFSETTO:-0400
TZNAME:EDT
DTSTART:20250309T070000
END:DAYLIGHT
BEGIN:STANDARD
TZOFFSETFROM:-0400
TZOFFSETTO:-0500
TZNAME:EST
DTSTART:20251102T060000
END:STANDARD
BEGIN:DAYLIGHT
TZOFFSETFROM:-0500
TZOFFSETTO:-0400
TZNAME:EDT
DTSTART:20260308T070000
END:DAYLIGHT
BEGIN:STANDARD
TZOFFSETFROM:-0400
TZOFFSETTO:-0500
TZNAME:EST
DTSTART:20261101T060000
END:STANDARD
BEGIN:DAYLIGHT
TZOFFSETFROM:-0500
TZOFFSETTO:-0400
TZNAME:EDT
DTSTART:20270314T070000
END:DAYLIGHT
BEGIN:STANDARD
TZOFFSETFROM:-0400
TZOFFSETTO:-0500
TZNAME:EST
DTSTART:20271107T060000
END:STANDARD
END:VTIMEZONE
BEGIN:VEVENT
DTSTART;TZID=America/New_York:20260323T163000
DTEND;TZID=America/New_York:20260323T173000
DTSTAMP:20260419T120631
CREATED:20260305T030624Z
LAST-MODIFIED:20260323T212015Z
UID:911712-1774283400-1774287000@sjahillsdale.org
SUMMARY:VB practice (ST)
DESCRIPTION:
URL:https://sjahillsdale.org/event/vb-practice-st-93/
CATEGORIES:SJSA
END:VEVENT
BEGIN:VEVENT
DTSTART;TZID=America/New_York:20260323T173000
DTEND;TZID=America/New_York:20260323T183000
DTSTAMP:20260419T120631
CREATED:20260305T030624Z
LAST-MODIFIED:20260323T222053Z
UID:911713-1774287000-1774290600@sjahillsdale.org
SUMMARY:VB practice (DN)
DESCRIPTION:
URL:https://sjahillsdale.org/event/vb-practice-dn-34/
CATEGORIES:SJSA
END:VEVENT
BEGIN:VEVENT
DTSTART;TZID=America/New_York:20260323T183000
DTEND;TZID=America/New_York:20260323T193000
DTSTAMP:20260419T120631
CREATED:20260305T030624Z
LAST-MODIFIED:20260323T232013Z
UID:911715-1774290600-1774294200@sjahillsdale.org
SUMMARY:VB practice (RC)
DESCRIPTION:
URL:https://sjahillsdale.org/event/vb-practice-rc-28/
CATEGORIES:SJSA
END:VEVENT
BEGIN:VEVENT
DTSTART;TZID=America/New_York:20260323T193000
DTEND;TZID=America/New_York:20260323T203000
DTSTAMP:20260419T120631
CREATED:20260305T030624Z
LAST-MODIFIED:20260324T002038Z
UID:911714-1774294200-1774297800@sjahillsdale.org
SUMMARY:VB practice (MB)
DESCRIPTION:
URL:https://sjahillsdale.org/event/vb-practice-mb-3/
CATEGORIES:SJSA
END:VEVENT
END:VCALENDAR