BEGIN:VCALENDAR
VERSION:2.0
PRODID:-//St. John&#039;s Academy - ECPv6.15.17//NONSGML v1.0//EN
CALSCALE:GREGORIAN
METHOD:PUBLISH
X-WR-CALNAME:St. John&#039;s Academy
X-ORIGINAL-URL:https://sjahillsdale.org
X-WR-CALDESC:Events for St. John&#039;s Academy
REFRESH-INTERVAL;VALUE=DURATION:PT1H
X-Robots-Tag:noindex
X-PUBLISHED-TTL:PT1H
BEGIN:VTIMEZONE
TZID:America/New_York
BEGIN:DAYLIGHT
TZOFFSETFROM:-0500
TZOFFSETTO:-0400
TZNAME:EDT
DTSTART:20250309T070000
END:DAYLIGHT
BEGIN:STANDARD
TZOFFSETFROM:-0400
TZOFFSETTO:-0500
TZNAME:EST
DTSTART:20251102T060000
END:STANDARD
BEGIN:DAYLIGHT
TZOFFSETFROM:-0500
TZOFFSETTO:-0400
TZNAME:EDT
DTSTART:20260308T070000
END:DAYLIGHT
BEGIN:STANDARD
TZOFFSETFROM:-0400
TZOFFSETTO:-0500
TZNAME:EST
DTSTART:20261101T060000
END:STANDARD
BEGIN:DAYLIGHT
TZOFFSETFROM:-0500
TZOFFSETTO:-0400
TZNAME:EDT
DTSTART:20270314T070000
END:DAYLIGHT
BEGIN:STANDARD
TZOFFSETFROM:-0400
TZOFFSETTO:-0500
TZNAME:EST
DTSTART:20271107T060000
END:STANDARD
END:VTIMEZONE
BEGIN:VEVENT
DTSTART;TZID=America/New_York:20260317T163000
DTEND;TZID=America/New_York:20260317T173000
DTSTAMP:20260419T102914
CREATED:20260305T030622Z
LAST-MODIFIED:20260317T212310Z
UID:911708-1773765000-1773768600@sjahillsdale.org
SUMMARY:VB practice (MC)
DESCRIPTION:
URL:https://sjahillsdale.org/event/vb-practice-mc-20/
CATEGORIES:SJSA
END:VEVENT
BEGIN:VEVENT
DTSTART;TZID=America/New_York:20260317T173000
DTEND;TZID=America/New_York:20260317T183000
DTSTAMP:20260419T102914
CREATED:20260305T030623Z
LAST-MODIFIED:20260317T222038Z
UID:911709-1773768600-1773772200@sjahillsdale.org
SUMMARY:VB practice (ND)
DESCRIPTION:
URL:https://sjahillsdale.org/event/vb-practice-nd-15/
CATEGORIES:SJSA
END:VEVENT
BEGIN:VEVENT
DTSTART;TZID=America/New_York:20260317T183000
DTEND;TZID=America/New_York:20260317T193000
DTSTAMP:20260419T102914
CREATED:20260305T030623Z
LAST-MODIFIED:20260317T232452Z
UID:911710-1773772200-1773775800@sjahillsdale.org
SUMMARY:VB practice (JL)
DESCRIPTION:
URL:https://sjahillsdale.org/event/vb-practice-jl-50/
CATEGORIES:SJSA
END:VEVENT
END:VCALENDAR