BEGIN:VCALENDAR
VERSION:2.0
PRODID:-//St. John&#039;s Academy - ECPv6.15.17//NONSGML v1.0//EN
CALSCALE:GREGORIAN
METHOD:PUBLISH
X-WR-CALNAME:St. John&#039;s Academy
X-ORIGINAL-URL:https://sjahillsdale.org
X-WR-CALDESC:Events for St. John&#039;s Academy
REFRESH-INTERVAL;VALUE=DURATION:PT1H
X-Robots-Tag:noindex
X-PUBLISHED-TTL:PT1H
BEGIN:VTIMEZONE
TZID:America/New_York
BEGIN:DAYLIGHT
TZOFFSETFROM:-0500
TZOFFSETTO:-0400
TZNAME:EDT
DTSTART:20250309T070000
END:DAYLIGHT
BEGIN:STANDARD
TZOFFSETFROM:-0400
TZOFFSETTO:-0500
TZNAME:EST
DTSTART:20251102T060000
END:STANDARD
BEGIN:DAYLIGHT
TZOFFSETFROM:-0500
TZOFFSETTO:-0400
TZNAME:EDT
DTSTART:20260308T070000
END:DAYLIGHT
BEGIN:STANDARD
TZOFFSETFROM:-0400
TZOFFSETTO:-0500
TZNAME:EST
DTSTART:20261101T060000
END:STANDARD
BEGIN:DAYLIGHT
TZOFFSETFROM:-0500
TZOFFSETTO:-0400
TZNAME:EDT
DTSTART:20270314T070000
END:DAYLIGHT
BEGIN:STANDARD
TZOFFSETFROM:-0400
TZOFFSETTO:-0500
TZNAME:EST
DTSTART:20271107T060000
END:STANDARD
END:VTIMEZONE
BEGIN:VEVENT
DTSTART;TZID=America/New_York:20260228T083000
DTEND;TZID=America/New_York:20260228T093000
DTSTAMP:20260419T133015
CREATED:20260225T140907Z
LAST-MODIFIED:20260228T140908Z
UID:911293-1772267400-1772271000@sjahillsdale.org
SUMMARY:BB practice (JSc)
DESCRIPTION:
URL:https://sjahillsdale.org/event/bb-practice-jsc-30/
CATEGORIES:SJSA
END:VEVENT
BEGIN:VEVENT
DTSTART;TZID=America/New_York:20260228T101500
DTEND;TZID=America/New_York:20260228T111500
DTSTAMP:20260419T133015
CREATED:20260218T192454Z
LAST-MODIFIED:20260228T152140Z
UID:911047-1772273700-1772277300@sjahillsdale.org
SUMMARY:BB playoffs (G34)
DESCRIPTION:
URL:https://sjahillsdale.org/event/bb-playoffs-g34-3/
CATEGORIES:SJSA
END:VEVENT
BEGIN:VEVENT
DTSTART;TZID=America/New_York:20260228T113000
DTEND;TZID=America/New_York:20260228T123000
DTSTAMP:20260419T133015
CREATED:20260218T192454Z
LAST-MODIFIED:20260228T163949Z
UID:911048-1772278200-1772281800@sjahillsdale.org
SUMMARY:BB playoffs (G34)
DESCRIPTION:
URL:https://sjahillsdale.org/event/bb-playoffs-g34-4/
CATEGORIES:SJSA
END:VEVENT
BEGIN:VEVENT
DTSTART;TZID=America/New_York:20260228T130000
DTEND;TZID=America/New_York:20260228T140000
DTSTAMP:20260419T133015
CREATED:20260218T192455Z
LAST-MODIFIED:20260228T185503Z
UID:911049-1772283600-1772287200@sjahillsdale.org
SUMMARY:BB playoffs (B34)
DESCRIPTION:
URL:https://sjahillsdale.org/event/bb-playoffs-b34-3/
CATEGORIES:SJSA
END:VEVENT
BEGIN:VEVENT
DTSTART;TZID=America/New_York:20260228T141500
DTEND;TZID=America/New_York:20260228T151500
DTSTAMP:20260419T133015
CREATED:20260218T192455Z
LAST-MODIFIED:20260228T200857Z
UID:911050-1772288100-1772291700@sjahillsdale.org
SUMMARY:BB playoffs (B34)
DESCRIPTION:
URL:https://sjahillsdale.org/event/bb-playoffs-b34-4/
CATEGORIES:SJSA
END:VEVENT
BEGIN:VEVENT
DTSTART;TZID=America/New_York:20260228T153000
DTEND;TZID=America/New_York:20260228T163000
DTSTAMP:20260419T133015
CREATED:20260218T192455Z
LAST-MODIFIED:20260228T212136Z
UID:911051-1772292600-1772296200@sjahillsdale.org
SUMMARY:BB playoffs (B78)
DESCRIPTION:
URL:https://sjahillsdale.org/event/bb-playoffs-b78-4/
CATEGORIES:SJSA
END:VEVENT
BEGIN:VEVENT
DTSTART;TZID=America/New_York:20260228T170000
DTEND;TZID=America/New_York:20260228T180000
DTSTAMP:20260419T133015
CREATED:20260218T192455Z
LAST-MODIFIED:20260228T222603Z
UID:911052-1772298000-1772301600@sjahillsdale.org
SUMMARY:BB playoffs (B78)
DESCRIPTION:
URL:https://sjahillsdale.org/event/bb-playoffs-b78-5/
CATEGORIES:SJSA
END:VEVENT
BEGIN:VEVENT
DTSTART;TZID=America/New_York:20260228T183000
DTEND;TZID=America/New_York:20260228T193000
DTSTAMP:20260419T133015
CREATED:20260224T034144Z
LAST-MODIFIED:20260228T233749Z
UID:911215-1772303400-1772307000@sjahillsdale.org
SUMMARY:BB practice (MB)
DESCRIPTION:
URL:https://sjahillsdale.org/event/bb-practice-mb-44/
CATEGORIES:SJSA
END:VEVENT
END:VCALENDAR