BEGIN:VCALENDAR
VERSION:2.0
PRODID:-//St. John&#039;s Academy - ECPv6.15.17//NONSGML v1.0//EN
CALSCALE:GREGORIAN
METHOD:PUBLISH
X-ORIGINAL-URL:https://sjahillsdale.org
X-WR-CALDESC:Events for St. John&#039;s Academy
REFRESH-INTERVAL;VALUE=DURATION:PT1H
X-Robots-Tag:noindex
X-PUBLISHED-TTL:PT1H
BEGIN:VTIMEZONE
TZID:America/New_York
BEGIN:DAYLIGHT
TZOFFSETFROM:-0500
TZOFFSETTO:-0400
TZNAME:EDT
DTSTART:20250309T070000
END:DAYLIGHT
BEGIN:STANDARD
TZOFFSETFROM:-0400
TZOFFSETTO:-0500
TZNAME:EST
DTSTART:20251102T060000
END:STANDARD
BEGIN:DAYLIGHT
TZOFFSETFROM:-0500
TZOFFSETTO:-0400
TZNAME:EDT
DTSTART:20260308T070000
END:DAYLIGHT
BEGIN:STANDARD
TZOFFSETFROM:-0400
TZOFFSETTO:-0500
TZNAME:EST
DTSTART:20261101T060000
END:STANDARD
BEGIN:DAYLIGHT
TZOFFSETFROM:-0500
TZOFFSETTO:-0400
TZNAME:EDT
DTSTART:20270314T070000
END:DAYLIGHT
BEGIN:STANDARD
TZOFFSETFROM:-0400
TZOFFSETTO:-0500
TZNAME:EST
DTSTART:20271107T060000
END:STANDARD
END:VTIMEZONE
BEGIN:VEVENT
DTSTART;TZID=America/New_York:20260505T141500
DTEND;TZID=America/New_York:20260508T160000
DTSTAMP:20260420T210643
CREATED:20260213T171346Z
LAST-MODIFIED:20260213T171346Z
UID:910868-1777990500-1778256000@sjahillsdale.org
SUMMARY:Frozen Jr. - Tech Rehearsal
DESCRIPTION:
URL:https://sjahillsdale.org/event/frozen-jr-tech-rehearsal/2026-05-05/
CATEGORIES:General
END:VEVENT
BEGIN:VEVENT
DTSTART;TZID=America/New_York:20260506T141500
DTEND;TZID=America/New_York:20260509T160000
DTSTAMP:20260420T210643
CREATED:20260213T171346Z
LAST-MODIFIED:20260213T171346Z
UID:910869-1778076900-1778342400@sjahillsdale.org
SUMMARY:Frozen Jr. - Tech Rehearsal
DESCRIPTION:
URL:https://sjahillsdale.org/event/frozen-jr-tech-rehearsal/2026-05-06/
CATEGORIES:General
END:VEVENT
BEGIN:VEVENT
DTSTART;TZID=America/New_York:20260507T141500
DTEND;TZID=America/New_York:20260510T160000
DTSTAMP:20260420T210643
CREATED:20260213T171346Z
LAST-MODIFIED:20260213T171346Z
UID:910870-1778163300-1778428800@sjahillsdale.org
SUMMARY:Frozen Jr. - Tech Rehearsal
DESCRIPTION:
URL:https://sjahillsdale.org/event/frozen-jr-tech-rehearsal/2026-05-07/
CATEGORIES:General
END:VEVENT
BEGIN:VEVENT
DTSTART;VALUE=DATE:20260508
DTEND;VALUE=DATE:20260509
DTSTAMP:20260420T210643
CREATED:20250624T143337Z
LAST-MODIFIED:20250624T143337Z
UID:900902-1778198400-1778284799@sjahillsdale.org
SUMMARY:Teacher Appreciation Week
DESCRIPTION:
URL:https://sjahillsdale.org/event/teacher-appreciation-week-4/2026-05-08/
CATEGORIES:General
END:VEVENT
BEGIN:VEVENT
DTSTART;VALUE=DATE:20260508
DTEND;VALUE=DATE:20260509
DTSTAMP:20260420T210643
CREATED:20250925T175111Z
LAST-MODIFIED:20250925T175111Z
UID:904425-1778198400-1778284799@sjahillsdale.org
SUMMARY:Teacher Appreciation Week
DESCRIPTION:
URL:https://sjahillsdale.org/event/teacher-appreciation-week-5/2026-05-08/
CATEGORIES:General,PTG
END:VEVENT
BEGIN:VEVENT
DTSTART;TZID=America/New_York:20260508T190000
DTEND;TZID=America/New_York:20260508T210000
DTSTAMP:20260420T210643
CREATED:20260213T160431Z
LAST-MODIFIED:20260213T160431Z
UID:910783-1778266800-1778274000@sjahillsdale.org
SUMMARY:Spring Musical - Frozen Jr.
DESCRIPTION:
URL:https://sjahillsdale.org/event/spring-musical-frozen-jr/
CATEGORIES:General
END:VEVENT
END:VCALENDAR