BEGIN:VCALENDAR
VERSION:2.0
PRODID:-//St. John&#039;s Academy - ECPv6.15.20//NONSGML v1.0//EN
CALSCALE:GREGORIAN
METHOD:PUBLISH
X-ORIGINAL-URL:https://sjahillsdale.org
X-WR-CALDESC:Events for St. John&#039;s Academy
REFRESH-INTERVAL;VALUE=DURATION:PT1H
X-Robots-Tag:noindex
X-PUBLISHED-TTL:PT1H
BEGIN:VTIMEZONE
TZID:America/New_York
BEGIN:DAYLIGHT
TZOFFSETFROM:-0500
TZOFFSETTO:-0400
TZNAME:EDT
DTSTART:20250309T070000
END:DAYLIGHT
BEGIN:STANDARD
TZOFFSETFROM:-0400
TZOFFSETTO:-0500
TZNAME:EST
DTSTART:20251102T060000
END:STANDARD
BEGIN:DAYLIGHT
TZOFFSETFROM:-0500
TZOFFSETTO:-0400
TZNAME:EDT
DTSTART:20260308T070000
END:DAYLIGHT
BEGIN:STANDARD
TZOFFSETFROM:-0400
TZOFFSETTO:-0500
TZNAME:EST
DTSTART:20261101T060000
END:STANDARD
BEGIN:DAYLIGHT
TZOFFSETFROM:-0500
TZOFFSETTO:-0400
TZNAME:EDT
DTSTART:20270314T070000
END:DAYLIGHT
BEGIN:STANDARD
TZOFFSETFROM:-0400
TZOFFSETTO:-0500
TZNAME:EST
DTSTART:20271107T060000
END:STANDARD
END:VTIMEZONE
BEGIN:VEVENT
DTSTART;TZID=America/New_York:20260610T090000
DTEND;TZID=America/New_York:20260610T100000
DTSTAMP:20260424T122212
CREATED:20260424T150334Z
LAST-MODIFIED:20260424T150334Z
UID:915825-1781082000-1781085600@sjahillsdale.org
SUMMARY:PreK3 Moving Up Ceremony
DESCRIPTION:
URL:https://sjahillsdale.org/event/prek3-moving-up-ceremony-2/
LOCATION:St. John’s Academy Gym\, 460 Hillsdale Avenue\, Hillsdale\, New Jersey\, 07642\, United States
CATEGORIES:General
END:VEVENT
END:VCALENDAR