BEGIN:VCALENDAR
VERSION:2.0
PRODID:-//St. John&#039;s Academy - ECPv6.15.20//NONSGML v1.0//EN
CALSCALE:GREGORIAN
METHOD:PUBLISH
X-WR-CALNAME:St. John&#039;s Academy
X-ORIGINAL-URL:https://sjahillsdale.org
X-WR-CALDESC:Events for St. John&#039;s Academy
REFRESH-INTERVAL;VALUE=DURATION:PT1H
X-Robots-Tag:noindex
X-PUBLISHED-TTL:PT1H
BEGIN:VTIMEZONE
TZID:America/New_York
BEGIN:DAYLIGHT
TZOFFSETFROM:-0500
TZOFFSETTO:-0400
TZNAME:EDT
DTSTART:20250309T070000
END:DAYLIGHT
BEGIN:STANDARD
TZOFFSETFROM:-0400
TZOFFSETTO:-0500
TZNAME:EST
DTSTART:20251102T060000
END:STANDARD
BEGIN:DAYLIGHT
TZOFFSETFROM:-0500
TZOFFSETTO:-0400
TZNAME:EDT
DTSTART:20260308T070000
END:DAYLIGHT
BEGIN:STANDARD
TZOFFSETFROM:-0400
TZOFFSETTO:-0500
TZNAME:EST
DTSTART:20261101T060000
END:STANDARD
BEGIN:DAYLIGHT
TZOFFSETFROM:-0500
TZOFFSETTO:-0400
TZNAME:EDT
DTSTART:20270314T070000
END:DAYLIGHT
BEGIN:STANDARD
TZOFFSETFROM:-0400
TZOFFSETTO:-0500
TZNAME:EST
DTSTART:20271107T060000
END:STANDARD
END:VTIMEZONE
BEGIN:VEVENT
DTSTART;TZID=America/New_York:20260512T183000
DTEND;TZID=America/New_York:20260512T193000
DTSTAMP:20260424T063011
CREATED:20260403T000544Z
LAST-MODIFIED:20260424T102033Z
UID:913684-1778610600-1778614200@sjahillsdale.org
SUMMARY:VB Game (JV Girls - Liik)
DESCRIPTION:Team: JV Girls – Liik | Opponent: GSA Nutley Grade 4 | Division: Girls JV | Home/Away: Home
URL:https://sjahillsdale.org/event/vb-game-jv-girls-liik-5/
LOCATION:St. John – Hillsdale – Gym
CATEGORIES:SJSA
END:VEVENT
BEGIN:VEVENT
DTSTART;TZID=America/New_York:20260512T190000
DTEND;TZID=America/New_York:20260512T200000
DTSTAMP:20260424T063011
CREATED:20250925T170944Z
LAST-MODIFIED:20250925T170944Z
UID:904407-1778612400-1778616000@sjahillsdale.org
SUMMARY:PTG Meeting (Virtual)
DESCRIPTION:
URL:https://sjahillsdale.org/event/ptg-meeting-virtual-25/
CATEGORIES:General,PTG
END:VEVENT
BEGIN:VEVENT
DTSTART;TZID=America/New_York:20260512T193000
DTEND;TZID=America/New_York:20260512T203000
DTSTAMP:20260424T063011
CREATED:20260403T000544Z
LAST-MODIFIED:20260424T102034Z
UID:913683-1778614200-1778617800@sjahillsdale.org
SUMMARY:VB Game (Varsity Girls - Carpentier)
DESCRIPTION:Team: Varsity Girls – Carpentier | Opponent: OLM Park Ridge | Division: Girls Varsity | Home/Away: Home
URL:https://sjahillsdale.org/event/vb-game-varsity-girls-carpentier-4/
LOCATION:St. John – Hillsdale – Gym
CATEGORIES:SJSA
END:VEVENT
BEGIN:VEVENT
DTSTART;TZID=America/New_York:20260512T203000
DTEND;TZID=America/New_York:20260512T213000
DTSTAMP:20260424T063011
CREATED:20260403T000544Z
LAST-MODIFIED:20260424T102034Z
UID:913685-1778617800-1778621400@sjahillsdale.org
SUMMARY:VB Game (Varsity Girls - Gutierrez)
DESCRIPTION:Team: Varsity Girls – Gutierrez | Opponent: St Leo EP Blue | Division: Girls Varsity | Home/Away: Home
URL:https://sjahillsdale.org/event/vb-game-varsity-girls-gutierrez-5/
LOCATION:St. John – Hillsdale – Gym
CATEGORIES:SJSA
END:VEVENT
END:VCALENDAR