BEGIN:VCALENDAR
VERSION:2.0
PRODID:-//St. John&#039;s Academy - ECPv6.15.17//NONSGML v1.0//EN
CALSCALE:GREGORIAN
METHOD:PUBLISH
X-WR-CALNAME:St. John&#039;s Academy
X-ORIGINAL-URL:https://sjahillsdale.org
X-WR-CALDESC:Events for St. John&#039;s Academy
REFRESH-INTERVAL;VALUE=DURATION:PT1H
X-Robots-Tag:noindex
X-PUBLISHED-TTL:PT1H
BEGIN:VTIMEZONE
TZID:America/New_York
BEGIN:DAYLIGHT
TZOFFSETFROM:-0500
TZOFFSETTO:-0400
TZNAME:EDT
DTSTART:20250309T070000
END:DAYLIGHT
BEGIN:STANDARD
TZOFFSETFROM:-0400
TZOFFSETTO:-0500
TZNAME:EST
DTSTART:20251102T060000
END:STANDARD
BEGIN:DAYLIGHT
TZOFFSETFROM:-0500
TZOFFSETTO:-0400
TZNAME:EDT
DTSTART:20260308T070000
END:DAYLIGHT
BEGIN:STANDARD
TZOFFSETFROM:-0400
TZOFFSETTO:-0500
TZNAME:EST
DTSTART:20261101T060000
END:STANDARD
BEGIN:DAYLIGHT
TZOFFSETFROM:-0500
TZOFFSETTO:-0400
TZNAME:EDT
DTSTART:20270314T070000
END:DAYLIGHT
BEGIN:STANDARD
TZOFFSETFROM:-0400
TZOFFSETTO:-0500
TZNAME:EST
DTSTART:20271107T060000
END:STANDARD
END:VTIMEZONE
BEGIN:VEVENT
DTSTART;TZID=America/New_York:20260511T142000
DTEND;TZID=America/New_York:20260511T152000
DTSTAMP:20260420T205608
CREATED:20260305T014218Z
LAST-MODIFIED:20260305T014218Z
UID:911680-1778509200-1778512800@sjahillsdale.org
SUMMARY:Soccer Enrichment
DESCRIPTION:
URL:https://sjahillsdale.org/event/soccer-enrichment-7/2026-05-11/
CATEGORIES:General
END:VEVENT
BEGIN:VEVENT
DTSTART;TZID=America/New_York:20260511T191500
DTEND;TZID=America/New_York:20260511T201500
DTSTAMP:20260420T205608
CREATED:20260403T000543Z
LAST-MODIFIED:20260421T005030Z
UID:913681-1778526900-1778530500@sjahillsdale.org
SUMMARY:VB Game (Varsity Girls - Gutierrez)
DESCRIPTION:Team: Varsity Girls – Gutierrez | Opponent: St Joseph Oradell Grade 7 | Division: Girls Varsity | Home/Away: Home
URL:https://sjahillsdale.org/event/vb-game-varsity-girls-gutierrez-4/
LOCATION:St. John – Hillsdale – Gym
CATEGORIES:SJSA
END:VEVENT
BEGIN:VEVENT
DTSTART;TZID=America/New_York:20260511T201500
DTEND;TZID=America/New_York:20260511T211500
DTSTAMP:20260420T205608
CREATED:20260403T000543Z
LAST-MODIFIED:20260421T005030Z
UID:913682-1778530500-1778534100@sjahillsdale.org
SUMMARY:VB Game (Varsity Girls - Tetro)
DESCRIPTION:Team: Varsity Girls – Tetro | Opponent: St Cassian Mont | Division: Girls Varsity | Home/Away: Home
URL:https://sjahillsdale.org/event/vb-game-varsity-girls-tetro-4/
LOCATION:St. John – Hillsdale – Gym
CATEGORIES:SJSA
END:VEVENT
END:VCALENDAR