BEGIN:VCALENDAR
VERSION:2.0
PRODID:-//St. John&#039;s Academy - ECPv6.15.20//NONSGML v1.0//EN
CALSCALE:GREGORIAN
METHOD:PUBLISH
X-WR-CALNAME:St. John&#039;s Academy
X-ORIGINAL-URL:https://sjahillsdale.org
X-WR-CALDESC:Events for St. John&#039;s Academy
REFRESH-INTERVAL;VALUE=DURATION:PT1H
X-Robots-Tag:noindex
X-PUBLISHED-TTL:PT1H
BEGIN:VTIMEZONE
TZID:America/New_York
BEGIN:DAYLIGHT
TZOFFSETFROM:-0500
TZOFFSETTO:-0400
TZNAME:EDT
DTSTART:20250309T070000
END:DAYLIGHT
BEGIN:STANDARD
TZOFFSETFROM:-0400
TZOFFSETTO:-0500
TZNAME:EST
DTSTART:20251102T060000
END:STANDARD
BEGIN:DAYLIGHT
TZOFFSETFROM:-0500
TZOFFSETTO:-0400
TZNAME:EDT
DTSTART:20260308T070000
END:DAYLIGHT
BEGIN:STANDARD
TZOFFSETFROM:-0400
TZOFFSETTO:-0500
TZNAME:EST
DTSTART:20261101T060000
END:STANDARD
BEGIN:DAYLIGHT
TZOFFSETFROM:-0500
TZOFFSETTO:-0400
TZNAME:EDT
DTSTART:20270314T070000
END:DAYLIGHT
BEGIN:STANDARD
TZOFFSETFROM:-0400
TZOFFSETTO:-0500
TZNAME:EST
DTSTART:20271107T060000
END:STANDARD
END:VTIMEZONE
BEGIN:VEVENT
DTSTART;TZID=America/New_York:20260225T141500
DTEND;TZID=America/New_York:20260225T151500
DTSTAMP:20260424T062951
CREATED:20251209T150941Z
LAST-MODIFIED:20260108T135712Z
UID:908255-1772028900-1772032500@sjahillsdale.org
SUMMARY:Italian Enrichment (Grades K thru 2nd) w. Mrs. Grano
DESCRIPTION:
URL:https://sjahillsdale.org/event/italian-enrichment-grades-k-thru-2nd-w-mrs-grano-2/2026-02-25/
CATEGORIES:General
END:VEVENT
BEGIN:VEVENT
DTSTART;TZID=America/New_York:20260225T141500
DTEND;TZID=America/New_York:20260225T160000
DTSTAMP:20260424T062951
CREATED:20260213T161837Z
LAST-MODIFIED:20260213T161837Z
UID:910805-1772028900-1772035200@sjahillsdale.org
SUMMARY:Auditions for Frozen Jr.
DESCRIPTION:
URL:https://sjahillsdale.org/event/auditions-for-frozen-jr/2026-02-25/
CATEGORIES:General
END:VEVENT
BEGIN:VEVENT
DTSTART;TZID=America/New_York:20260225T173000
DTEND;TZID=America/New_York:20260225T183000
DTSTAMP:20260424T062951
CREATED:20260223T025509Z
LAST-MODIFIED:20260225T232211Z
UID:911186-1772040600-1772044200@sjahillsdale.org
SUMMARY:BB practice (CB/JSc)
DESCRIPTION:
URL:https://sjahillsdale.org/event/bb-practice-cb-jsc/
CATEGORIES:SJSA
END:VEVENT
BEGIN:VEVENT
DTSTART;TZID=America/New_York:20260225T184500
DTEND;TZID=America/New_York:20260225T194500
DTSTAMP:20260424T062951
CREATED:20260218T192453Z
LAST-MODIFIED:20260226T003919Z
UID:911040-1772045100-1772048700@sjahillsdale.org
SUMMARY:BB playoffs (G34)
DESCRIPTION:
URL:https://sjahillsdale.org/event/bb-playoffs-g34/
CATEGORIES:SJSA
END:VEVENT
BEGIN:VEVENT
DTSTART;TZID=America/New_York:20260225T200000
DTEND;TZID=America/New_York:20260225T210000
DTSTAMP:20260424T062951
CREATED:20260218T192453Z
LAST-MODIFIED:20260226T015059Z
UID:911041-1772049600-1772053200@sjahillsdale.org
SUMMARY:BB playoffs (B78)
DESCRIPTION:
URL:https://sjahillsdale.org/event/bb-playoffs-b78/
CATEGORIES:SJSA
END:VEVENT
END:VCALENDAR