BEGIN:VCALENDAR
VERSION:2.0
PRODID:-//St. John&#039;s Academy - ECPv6.15.17//NONSGML v1.0//EN
CALSCALE:GREGORIAN
METHOD:PUBLISH
X-ORIGINAL-URL:https://sjahillsdale.org
X-WR-CALDESC:Events for St. John&#039;s Academy
REFRESH-INTERVAL;VALUE=DURATION:PT1H
X-Robots-Tag:noindex
X-PUBLISHED-TTL:PT1H
BEGIN:VTIMEZONE
TZID:America/New_York
BEGIN:DAYLIGHT
TZOFFSETFROM:-0500
TZOFFSETTO:-0400
TZNAME:EDT
DTSTART:20250309T070000
END:DAYLIGHT
BEGIN:STANDARD
TZOFFSETFROM:-0400
TZOFFSETTO:-0500
TZNAME:EST
DTSTART:20251102T060000
END:STANDARD
BEGIN:DAYLIGHT
TZOFFSETFROM:-0500
TZOFFSETTO:-0400
TZNAME:EDT
DTSTART:20260308T070000
END:DAYLIGHT
BEGIN:STANDARD
TZOFFSETFROM:-0400
TZOFFSETTO:-0500
TZNAME:EST
DTSTART:20261101T060000
END:STANDARD
BEGIN:DAYLIGHT
TZOFFSETFROM:-0500
TZOFFSETTO:-0400
TZNAME:EDT
DTSTART:20270314T070000
END:DAYLIGHT
BEGIN:STANDARD
TZOFFSETFROM:-0400
TZOFFSETTO:-0500
TZNAME:EST
DTSTART:20271107T060000
END:STANDARD
END:VTIMEZONE
BEGIN:VEVENT
DTSTART;TZID=America/New_York:20260221T090000
DTEND;TZID=America/New_York:20260221T180000
DTSTAMP:20260420T071032
CREATED:20250905T160729Z
LAST-MODIFIED:20260221T222325Z
UID:903403-1771664400-1771696800@sjahillsdale.org
SUMMARY:Gym closed: German School event
DESCRIPTION:
URL:https://sjahillsdale.org/event/gym-closed-german-school-event-8/
CATEGORIES:SJSA
END:VEVENT
BEGIN:VEVENT
DTSTART;TZID=America/New_York:20260221T180000
DTEND;TZID=America/New_York:20260221T210000
DTSTAMP:20260420T071032
CREATED:20260122T195202Z
LAST-MODIFIED:20260122T195202Z
UID:909704-1771696800-1771707600@sjahillsdale.org
SUMMARY:Seton Hall vs Georgetown Men's Basketball Game - SJSA Family Night
DESCRIPTION:Back again after a great game last season! Join your fellow Eagles families at the Prudential Center for SJSA Family Night as the Seton Hall Pirates take on the Georgetown Hoyas. Our players and families will sit together in great seats close to the action. Tickets are available at a heavily discounted group rate for us. There is no guarantee how long they will remain available though\, so please purchase by Monday Jan 26th if interested. We will then reserve all the tickets and you will receive your family’s tickets via text. \nPurchase Tickets
URL:https://sjahillsdale.org/event/seton-hall-game-2026/
LOCATION:Prudential Center\, 25 Lafayette St.\, Newark\, NJ\, 07102\, United States
CATEGORIES:SJSA
ORGANIZER;CN="St. John's Sports Association":MAILTO:info@sjsports.org
END:VEVENT
BEGIN:VEVENT
DTSTART;TZID=America/New_York:20260221T180000
DTEND;TZID=America/New_York:20260221T210000
DTSTAMP:20260420T071032
CREATED:20260123T000709Z
LAST-MODIFIED:20260222T005242Z
UID:909736-1771696800-1771707600@sjahillsdale.org
SUMMARY:Seton Hall game
DESCRIPTION:
URL:https://sjahillsdale.org/event/seton-hall-game/
CATEGORIES:SJSA
END:VEVENT
END:VCALENDAR