BEGIN:VCALENDAR
VERSION:2.0
PRODID:-//St. John&#039;s Academy - ECPv6.15.20//NONSGML v1.0//EN
CALSCALE:GREGORIAN
METHOD:PUBLISH
X-WR-CALNAME:St. John&#039;s Academy
X-ORIGINAL-URL:https://sjahillsdale.org
X-WR-CALDESC:Events for St. John&#039;s Academy
REFRESH-INTERVAL;VALUE=DURATION:PT1H
X-Robots-Tag:noindex
X-PUBLISHED-TTL:PT1H
BEGIN:VTIMEZONE
TZID:America/New_York
BEGIN:DAYLIGHT
TZOFFSETFROM:-0500
TZOFFSETTO:-0400
TZNAME:EDT
DTSTART:20240310T070000
END:DAYLIGHT
BEGIN:STANDARD
TZOFFSETFROM:-0400
TZOFFSETTO:-0500
TZNAME:EST
DTSTART:20241103T060000
END:STANDARD
BEGIN:DAYLIGHT
TZOFFSETFROM:-0500
TZOFFSETTO:-0400
TZNAME:EDT
DTSTART:20250309T070000
END:DAYLIGHT
BEGIN:STANDARD
TZOFFSETFROM:-0400
TZOFFSETTO:-0500
TZNAME:EST
DTSTART:20251102T060000
END:STANDARD
BEGIN:DAYLIGHT
TZOFFSETFROM:-0500
TZOFFSETTO:-0400
TZNAME:EDT
DTSTART:20260308T070000
END:DAYLIGHT
BEGIN:STANDARD
TZOFFSETFROM:-0400
TZOFFSETTO:-0500
TZNAME:EST
DTSTART:20261101T060000
END:STANDARD
END:VTIMEZONE
BEGIN:VEVENT
DTSTART;TZID=America/New_York:20250113T080000
DTEND;TZID=America/New_York:20250113T104500
DTSTAMP:20260425T125717
CREATED:20250107T175730Z
LAST-MODIFIED:20250107T175730Z
UID:49344-1736755200-1736765100@sjahillsdale.org
SUMMARY:MAP Testing- Grades 5-8 (Math)
DESCRIPTION:
URL:https://sjahillsdale.org/event/map-testing-grades-5-8-math-3/
CATEGORIES:General
END:VEVENT
BEGIN:VEVENT
DTSTART;TZID=America/New_York:20250113T141500
DTEND;TZID=America/New_York:20250113T153000
DTSTAMP:20260425T125717
CREATED:20241111T195331Z
LAST-MODIFIED:20250113T192311Z
UID:47705-1736777700-1736782200@sjahillsdale.org
SUMMARY:Gym Closed- Soccer Enrichment
DESCRIPTION:
URL:https://sjahillsdale.org/event/gym-closed-soccer-enrichment-22/
CATEGORIES:SJSA
END:VEVENT
BEGIN:VEVENT
DTSTART;TZID=America/New_York:20250113T141500
DTEND;TZID=America/New_York:20250113T153000
DTSTAMP:20260425T125717
CREATED:20241122T143504Z
LAST-MODIFIED:20241210T132353Z
UID:48146-1736777700-1736782200@sjahillsdale.org
SUMMARY:Cooking Enrichment (7th-8th grades)
DESCRIPTION:
URL:https://sjahillsdale.org/event/cooking-enrichment-6th-8th-grades-2/2025-01-13/
CATEGORIES:General
END:VEVENT
BEGIN:VEVENT
DTSTART;TZID=America/New_York:20250113T163000
DTEND;TZID=America/New_York:20250113T173000
DTSTAMP:20260425T125717
CREATED:20241104T032922Z
LAST-MODIFIED:20250113T203356Z
UID:47268-1736785800-1736789400@sjahillsdale.org
SUMMARY:BB practice (MS)
DESCRIPTION:
URL:https://sjahillsdale.org/event/bb-practice-ms-69/
CATEGORIES:SJSA
END:VEVENT
BEGIN:VEVENT
DTSTART;TZID=America/New_York:20250113T173000
DTEND;TZID=America/New_York:20250113T183000
DTSTAMP:20260425T125717
CREATED:20241104T032922Z
LAST-MODIFIED:20250113T230544Z
UID:47267-1736789400-1736793000@sjahillsdale.org
SUMMARY:BB practice (BG)
DESCRIPTION:
URL:https://sjahillsdale.org/event/bb-practice-bg-26/
CATEGORIES:SJSA
END:VEVENT
BEGIN:VEVENT
DTSTART;TZID=America/New_York:20250113T183000
DTEND;TZID=America/New_York:20250113T193000
DTSTAMP:20260425T125717
CREATED:20241104T032922Z
LAST-MODIFIED:20250114T002332Z
UID:47266-1736793000-1736796600@sjahillsdale.org
SUMMARY:BB practice (CR)
DESCRIPTION:
URL:https://sjahillsdale.org/event/bb-practice-cr-9/
CATEGORIES:SJSA
END:VEVENT
BEGIN:VEVENT
DTSTART;TZID=America/New_York:20250113T193000
DTEND;TZID=America/New_York:20250113T203000
DTSTAMP:20260425T125717
CREATED:20250112T223329Z
LAST-MODIFIED:20250114T002331Z
UID:49507-1736796600-1736800200@sjahillsdale.org
SUMMARY:BB practice (JSa)
DESCRIPTION:
URL:https://sjahillsdale.org/event/bb-practice-jsa-6/
CATEGORIES:SJSA
END:VEVENT
END:VCALENDAR