BEGIN:VCALENDAR
VERSION:2.0
PRODID:-//St. John&#039;s Academy - ECPv6.15.17//NONSGML v1.0//EN
CALSCALE:GREGORIAN
METHOD:PUBLISH
X-WR-CALNAME:St. John&#039;s Academy
X-ORIGINAL-URL:https://sjahillsdale.org
X-WR-CALDESC:Events for St. John&#039;s Academy
REFRESH-INTERVAL;VALUE=DURATION:PT1H
X-Robots-Tag:noindex
X-PUBLISHED-TTL:PT1H
BEGIN:VTIMEZONE
TZID:America/New_York
BEGIN:DAYLIGHT
TZOFFSETFROM:-0500
TZOFFSETTO:-0400
TZNAME:EDT
DTSTART:20240310T070000
END:DAYLIGHT
BEGIN:STANDARD
TZOFFSETFROM:-0400
TZOFFSETTO:-0500
TZNAME:EST
DTSTART:20241103T060000
END:STANDARD
BEGIN:DAYLIGHT
TZOFFSETFROM:-0500
TZOFFSETTO:-0400
TZNAME:EDT
DTSTART:20250309T070000
END:DAYLIGHT
BEGIN:STANDARD
TZOFFSETFROM:-0400
TZOFFSETTO:-0500
TZNAME:EST
DTSTART:20251102T060000
END:STANDARD
BEGIN:DAYLIGHT
TZOFFSETFROM:-0500
TZOFFSETTO:-0400
TZNAME:EDT
DTSTART:20260308T070000
END:DAYLIGHT
BEGIN:STANDARD
TZOFFSETFROM:-0400
TZOFFSETTO:-0500
TZNAME:EST
DTSTART:20261101T060000
END:STANDARD
END:VTIMEZONE
BEGIN:VEVENT
DTSTART;TZID=America/New_York:20250112T123000
DTEND;TZID=America/New_York:20250112T133000
DTSTAMP:20260421T105037
CREATED:20241204T190649Z
LAST-MODIFIED:20250112T180405Z
UID:48479-1736685000-1736688600@sjahillsdale.org
SUMMARY:BB Game (B34 White)
DESCRIPTION:
URL:https://sjahillsdale.org/event/bb-game-b34-white/
CATEGORIES:SJSA
END:VEVENT
BEGIN:VEVENT
DTSTART;TZID=America/New_York:20250112T134500
DTEND;TZID=America/New_York:20250112T144500
DTSTAMP:20260421T105037
CREATED:20241204T190649Z
LAST-MODIFIED:20250112T190424Z
UID:48480-1736689500-1736693100@sjahillsdale.org
SUMMARY:BB Game (B56 Gold)
DESCRIPTION:
URL:https://sjahillsdale.org/event/bb-game-b56-gold-2/
CATEGORIES:SJSA
END:VEVENT
BEGIN:VEVENT
DTSTART;TZID=America/New_York:20250112T150000
DTEND;TZID=America/New_York:20250112T160000
DTSTAMP:20260421T105037
CREATED:20241204T190649Z
LAST-MODIFIED:20250112T200543Z
UID:48481-1736694000-1736697600@sjahillsdale.org
SUMMARY:BB Game (G56 Red)
DESCRIPTION:
URL:https://sjahillsdale.org/event/bb-game-g56-red-3/
CATEGORIES:SJSA
END:VEVENT
BEGIN:VEVENT
DTSTART;TZID=America/New_York:20250112T161500
DTEND;TZID=America/New_York:20250112T171500
DTSTAMP:20260421T105037
CREATED:20241204T190649Z
LAST-MODIFIED:20250112T212246Z
UID:48482-1736698500-1736702100@sjahillsdale.org
SUMMARY:BB Game (B56 White)
DESCRIPTION:
URL:https://sjahillsdale.org/event/bb-game-b56-white-2/
CATEGORIES:SJSA
END:VEVENT
BEGIN:VEVENT
DTSTART;TZID=America/New_York:20250112T173000
DTEND;TZID=America/New_York:20250112T183000
DTSTAMP:20260421T105037
CREATED:20241204T190650Z
LAST-MODIFIED:20250112T223327Z
UID:48483-1736703000-1736706600@sjahillsdale.org
SUMMARY:BB Game (B56 Red) *
DESCRIPTION:
URL:https://sjahillsdale.org/event/bb-game-b56-red-4/
CATEGORIES:SJSA
END:VEVENT
BEGIN:VEVENT
DTSTART;TZID=America/New_York:20250112T184500
DTEND;TZID=America/New_York:20250112T194500
DTSTAMP:20260421T105037
CREATED:20241204T190650Z
LAST-MODIFIED:20250113T003623Z
UID:48484-1736707500-1736711100@sjahillsdale.org
SUMMARY:BB Game (B78 White)
DESCRIPTION:
URL:https://sjahillsdale.org/event/bb-game-b78-white-3/
CATEGORIES:SJSA
END:VEVENT
BEGIN:VEVENT
DTSTART;TZID=America/New_York:20250112T200000
DTEND;TZID=America/New_York:20250112T210000
DTSTAMP:20260421T105037
CREATED:20241204T190650Z
LAST-MODIFIED:20250113T014737Z
UID:48485-1736712000-1736715600@sjahillsdale.org
SUMMARY:BB Game (G78 Red)
DESCRIPTION:
URL:https://sjahillsdale.org/event/bb-game-g78-red-2/
CATEGORIES:SJSA
END:VEVENT
END:VCALENDAR