BEGIN:VCALENDAR
VERSION:2.0
PRODID:-//St. John&#039;s Academy - ECPv6.15.20//NONSGML v1.0//EN
CALSCALE:GREGORIAN
METHOD:PUBLISH
X-WR-CALNAME:St. John&#039;s Academy
X-ORIGINAL-URL:https://sjahillsdale.org
X-WR-CALDESC:Events for St. John&#039;s Academy
REFRESH-INTERVAL;VALUE=DURATION:PT1H
X-Robots-Tag:noindex
X-PUBLISHED-TTL:PT1H
BEGIN:VTIMEZONE
TZID:America/New_York
BEGIN:DAYLIGHT
TZOFFSETFROM:-0500
TZOFFSETTO:-0400
TZNAME:EDT
DTSTART:20240310T070000
END:DAYLIGHT
BEGIN:STANDARD
TZOFFSETFROM:-0400
TZOFFSETTO:-0500
TZNAME:EST
DTSTART:20241103T060000
END:STANDARD
BEGIN:DAYLIGHT
TZOFFSETFROM:-0500
TZOFFSETTO:-0400
TZNAME:EDT
DTSTART:20250309T070000
END:DAYLIGHT
BEGIN:STANDARD
TZOFFSETFROM:-0400
TZOFFSETTO:-0500
TZNAME:EST
DTSTART:20251102T060000
END:STANDARD
BEGIN:DAYLIGHT
TZOFFSETFROM:-0500
TZOFFSETTO:-0400
TZNAME:EDT
DTSTART:20260308T070000
END:DAYLIGHT
BEGIN:STANDARD
TZOFFSETFROM:-0400
TZOFFSETTO:-0500
TZNAME:EST
DTSTART:20261101T060000
END:STANDARD
END:VTIMEZONE
BEGIN:VEVENT
DTSTART;TZID=America/New_York:20250109T141500
DTEND;TZID=America/New_York:20250109T153000
DTSTAMP:20260423T122214
CREATED:20241122T142450Z
LAST-MODIFIED:20241122T142450Z
UID:48134-1736432100-1736436600@sjahillsdale.org
SUMMARY:Art Around the World Enrichment (K-8)
DESCRIPTION:
URL:https://sjahillsdale.org/event/art-around-the-world-enrichment-k-8/2025-01-09/
CATEGORIES:General
END:VEVENT
BEGIN:VEVENT
DTSTART;TZID=America/New_York:20250109T160000
DTEND;TZID=America/New_York:20250109T173000
DTSTAMP:20260423T122214
CREATED:20241104T170720Z
LAST-MODIFIED:20250109T212148Z
UID:47401-1736438400-1736443800@sjahillsdale.org
SUMMARY:Cheer practice
DESCRIPTION:
URL:https://sjahillsdale.org/event/cheer-practice-64/
CATEGORIES:SJSA
END:VEVENT
BEGIN:VEVENT
DTSTART;TZID=America/New_York:20250109T173000
DTEND;TZID=America/New_York:20250109T183000
DTSTAMP:20260423T122214
CREATED:20241104T032920Z
LAST-MODIFIED:20250109T223243Z
UID:47261-1736443800-1736447400@sjahillsdale.org
SUMMARY:BB practice (TL)
DESCRIPTION:
URL:https://sjahillsdale.org/event/bb-practice-tl-8/
CATEGORIES:SJSA
END:VEVENT
BEGIN:VEVENT
DTSTART;TZID=America/New_York:20250109T183000
DTEND;TZID=America/New_York:20250109T193000
DTSTAMP:20260423T122214
CREATED:20241104T032920Z
LAST-MODIFIED:20250109T233342Z
UID:47260-1736447400-1736451000@sjahillsdale.org
SUMMARY:BB practice (MB)
DESCRIPTION:
URL:https://sjahillsdale.org/event/bb-practice-mb-8/
CATEGORIES:SJSA
END:VEVENT
BEGIN:VEVENT
DTSTART;TZID=America/New_York:20250109T193000
DTEND;TZID=America/New_York:20250109T203000
DTSTAMP:20260423T122214
CREATED:20241104T032920Z
LAST-MODIFIED:20250110T003719Z
UID:47262-1736451000-1736454600@sjahillsdale.org
SUMMARY:BB practice (JSa)
DESCRIPTION:
URL:https://sjahillsdale.org/event/bb-practice-js-16/
CATEGORIES:SJSA
END:VEVENT
END:VCALENDAR