BEGIN:VCALENDAR
VERSION:2.0
PRODID:-//St. John&#039;s Academy - ECPv6.15.17//NONSGML v1.0//EN
CALSCALE:GREGORIAN
METHOD:PUBLISH
X-ORIGINAL-URL:https://sjahillsdale.org
X-WR-CALDESC:Events for St. John&#039;s Academy
REFRESH-INTERVAL;VALUE=DURATION:PT1H
X-Robots-Tag:noindex
X-PUBLISHED-TTL:PT1H
BEGIN:VTIMEZONE
TZID:America/New_York
BEGIN:DAYLIGHT
TZOFFSETFROM:-0500
TZOFFSETTO:-0400
TZNAME:EDT
DTSTART:20240310T070000
END:DAYLIGHT
BEGIN:STANDARD
TZOFFSETFROM:-0400
TZOFFSETTO:-0500
TZNAME:EST
DTSTART:20241103T060000
END:STANDARD
BEGIN:DAYLIGHT
TZOFFSETFROM:-0500
TZOFFSETTO:-0400
TZNAME:EDT
DTSTART:20250309T070000
END:DAYLIGHT
BEGIN:STANDARD
TZOFFSETFROM:-0400
TZOFFSETTO:-0500
TZNAME:EST
DTSTART:20251102T060000
END:STANDARD
BEGIN:DAYLIGHT
TZOFFSETFROM:-0500
TZOFFSETTO:-0400
TZNAME:EDT
DTSTART:20260308T070000
END:DAYLIGHT
BEGIN:STANDARD
TZOFFSETFROM:-0400
TZOFFSETTO:-0500
TZNAME:EST
DTSTART:20261101T060000
END:STANDARD
END:VTIMEZONE
BEGIN:VEVENT
DTSTART;TZID=America/New_York:20250107T141500
DTEND;TZID=America/New_York:20250107T151500
DTSTAMP:20260421T150438
CREATED:20241030T154351Z
LAST-MODIFIED:20241030T154351Z
UID:46994-1736259300-1736262900@sjahillsdale.org
SUMMARY:Kids Dance Caravan
DESCRIPTION:
URL:https://sjahillsdale.org/event/kids-dance-caravan-3/2025-01-07/
CATEGORIES:General
END:VEVENT
BEGIN:VEVENT
DTSTART;TZID=America/New_York:20250107T141500
DTEND;TZID=America/New_York:20250107T153000
DTSTAMP:20260421T150438
CREATED:20241127T164603Z
LAST-MODIFIED:20241127T164603Z
UID:48288-1736259300-1736263800@sjahillsdale.org
SUMMARY:Italian Enrichment Grades 3-5 (make up class from 11/26)
DESCRIPTION:
URL:https://sjahillsdale.org/event/italian-enrichment-grades-3-5-make-up-class-from-11-26/
CATEGORIES:General
END:VEVENT
BEGIN:VEVENT
DTSTART;TZID=America/New_York:20250107T141500
DTEND;TZID=America/New_York:20250107T153000
DTSTAMP:20260421T150438
CREATED:20241210T130835Z
LAST-MODIFIED:20241210T130835Z
UID:48687-1736259300-1736263800@sjahillsdale.org
SUMMARY:Cooking Enrichment Grade 6
DESCRIPTION:
URL:https://sjahillsdale.org/event/cooking-enrichment-grade-6-2/2025-01-07/
CATEGORIES:General
END:VEVENT
BEGIN:VEVENT
DTSTART;TZID=America/New_York:20250107T163000
DTEND;TZID=America/New_York:20250107T180000
DTSTAMP:20260421T150438
CREATED:20241220T175112Z
LAST-MODIFIED:20250107T223637Z
UID:48936-1736267400-1736272800@sjahillsdale.org
SUMMARY:BB practice (JG)
DESCRIPTION:
URL:https://sjahillsdale.org/event/bb-practice-jg-68/
CATEGORIES:SJSA
END:VEVENT
BEGIN:VEVENT
DTSTART;TZID=America/New_York:20250107T183000
DTEND;TZID=America/New_York:20250107T193000
DTSTAMP:20260421T150438
CREATED:20241104T032918Z
LAST-MODIFIED:20250107T234940Z
UID:47255-1736274600-1736278200@sjahillsdale.org
SUMMARY:BB practice (JSc)
DESCRIPTION:
URL:https://sjahillsdale.org/event/bb-practice-js-15/
CATEGORIES:SJSA
END:VEVENT
BEGIN:VEVENT
DTSTART;TZID=America/New_York:20250107T193000
DTEND;TZID=America/New_York:20250107T203000
DTSTAMP:20260421T150438
CREATED:20241104T032918Z
LAST-MODIFIED:20250108T010640Z
UID:47254-1736278200-1736281800@sjahillsdale.org
SUMMARY:BB practice (ZR)
DESCRIPTION:
URL:https://sjahillsdale.org/event/bb-practice-zr-30/
CATEGORIES:SJSA
END:VEVENT
END:VCALENDAR