BEGIN:VCALENDAR
VERSION:2.0
PRODID:-//St. John&#039;s Academy - ECPv6.15.17//NONSGML v1.0//EN
CALSCALE:GREGORIAN
METHOD:PUBLISH
X-ORIGINAL-URL:https://sjahillsdale.org
X-WR-CALDESC:Events for St. John&#039;s Academy
REFRESH-INTERVAL;VALUE=DURATION:PT1H
X-Robots-Tag:noindex
X-PUBLISHED-TTL:PT1H
BEGIN:VTIMEZONE
TZID:America/New_York
BEGIN:DAYLIGHT
TZOFFSETFROM:-0500
TZOFFSETTO:-0400
TZNAME:EDT
DTSTART:20240310T070000
END:DAYLIGHT
BEGIN:STANDARD
TZOFFSETFROM:-0400
TZOFFSETTO:-0500
TZNAME:EST
DTSTART:20241103T060000
END:STANDARD
BEGIN:DAYLIGHT
TZOFFSETFROM:-0500
TZOFFSETTO:-0400
TZNAME:EDT
DTSTART:20250309T070000
END:DAYLIGHT
BEGIN:STANDARD
TZOFFSETFROM:-0400
TZOFFSETTO:-0500
TZNAME:EST
DTSTART:20251102T060000
END:STANDARD
BEGIN:DAYLIGHT
TZOFFSETFROM:-0500
TZOFFSETTO:-0400
TZNAME:EDT
DTSTART:20260308T070000
END:DAYLIGHT
BEGIN:STANDARD
TZOFFSETFROM:-0400
TZOFFSETTO:-0500
TZNAME:EST
DTSTART:20261101T060000
END:STANDARD
END:VTIMEZONE
BEGIN:VEVENT
DTSTART;VALUE=DATE:20250103
DTEND;VALUE=DATE:20250104
DTSTAMP:20260420T091351
CREATED:20240829T182333Z
LAST-MODIFIED:20240829T182333Z
UID:43619-1735862400-1735948799@sjahillsdale.org
SUMMARY:Noon Dismissal: Faculty Meeting
DESCRIPTION:
URL:https://sjahillsdale.org/event/noon-dismissal-faculty-meeting-22/
CATEGORIES:General
END:VEVENT
BEGIN:VEVENT
DTSTART;TZID=America/New_York:20250103T090000
DTEND;TZID=America/New_York:20250103T100000
DTSTAMP:20260420T091351
CREATED:20240819T165120Z
LAST-MODIFIED:20240819T165120Z
UID:43181-1735894800-1735898400@sjahillsdale.org
SUMMARY:School Liturgy – (5th Grade Hosting)
DESCRIPTION:
URL:https://sjahillsdale.org/event/school-liturgy-5th-grade-hosting-5/
LOCATION:St. John the Baptist Roman Catholic Church\, 69 Valley St.\, Hillsdale\, New Jersey\, 07642\, United States
CATEGORIES:General
END:VEVENT
BEGIN:VEVENT
DTSTART;TZID=America/New_York:20250103T120000
DTEND;TZID=America/New_York:20250103T160000
DTSTAMP:20260420T091351
CREATED:20240828T181854Z
LAST-MODIFIED:20240828T181853Z
UID:43500-1735905600-1735920000@sjahillsdale.org
SUMMARY:Aftercare – Ends @ 4:00 p.m. today
DESCRIPTION:
URL:https://sjahillsdale.org/event/aftercare-ends-400-p-m-today-3/
CATEGORIES:General
END:VEVENT
BEGIN:VEVENT
DTSTART;TZID=America/New_York:20250103T163000
DTEND;TZID=America/New_York:20250103T173000
DTSTAMP:20260420T091351
CREATED:20241104T032915Z
LAST-MODIFIED:20250103T220357Z
UID:47249-1735921800-1735925400@sjahillsdale.org
SUMMARY:BB practice (JG)
DESCRIPTION:
URL:https://sjahillsdale.org/event/bb-practice-ms-66/
CATEGORIES:SJSA
END:VEVENT
BEGIN:VEVENT
DTSTART;TZID=America/New_York:20250103T173000
DTEND;TZID=America/New_York:20250103T183000
DTSTAMP:20260420T091351
CREATED:20241104T032914Z
LAST-MODIFIED:20250103T230453Z
UID:47248-1735925400-1735929000@sjahillsdale.org
SUMMARY:BB practice (RG)
DESCRIPTION:
URL:https://sjahillsdale.org/event/bb-practice-rg-67/
CATEGORIES:SJSA
END:VEVENT
BEGIN:VEVENT
DTSTART;TZID=America/New_York:20250103T183000
DTEND;TZID=America/New_York:20250103T193000
DTSTAMP:20260420T091351
CREATED:20241104T032915Z
LAST-MODIFIED:20250104T002037Z
UID:47250-1735929000-1735932600@sjahillsdale.org
SUMMARY:BB practice (TM)
DESCRIPTION:
URL:https://sjahillsdale.org/event/bb-practice-tm-26/
CATEGORIES:SJSA
END:VEVENT
BEGIN:VEVENT
DTSTART;TZID=America/New_York:20250103T193000
DTEND;TZID=America/New_York:20250103T210000
DTSTAMP:20260420T091351
CREATED:20241209T152025Z
LAST-MODIFIED:20250104T013423Z
UID:48649-1735932600-1735938000@sjahillsdale.org
SUMMARY:BB practice (CR)
DESCRIPTION:
URL:https://sjahillsdale.org/event/bb-practice-cr-22/
CATEGORIES:SJSA
END:VEVENT
END:VCALENDAR