BEGIN:VCALENDAR
VERSION:2.0
PRODID:-//St. John&#039;s Academy - ECPv6.15.20//NONSGML v1.0//EN
CALSCALE:GREGORIAN
METHOD:PUBLISH
X-ORIGINAL-URL:https://sjahillsdale.org
X-WR-CALDESC:Events for St. John&#039;s Academy
REFRESH-INTERVAL;VALUE=DURATION:PT1H
X-Robots-Tag:noindex
X-PUBLISHED-TTL:PT1H
BEGIN:VTIMEZONE
TZID:America/New_York
BEGIN:DAYLIGHT
TZOFFSETFROM:-0500
TZOFFSETTO:-0400
TZNAME:EDT
DTSTART:20240310T070000
END:DAYLIGHT
BEGIN:STANDARD
TZOFFSETFROM:-0400
TZOFFSETTO:-0500
TZNAME:EST
DTSTART:20241103T060000
END:STANDARD
BEGIN:DAYLIGHT
TZOFFSETFROM:-0500
TZOFFSETTO:-0400
TZNAME:EDT
DTSTART:20250309T070000
END:DAYLIGHT
BEGIN:STANDARD
TZOFFSETFROM:-0400
TZOFFSETTO:-0500
TZNAME:EST
DTSTART:20251102T060000
END:STANDARD
BEGIN:DAYLIGHT
TZOFFSETFROM:-0500
TZOFFSETTO:-0400
TZNAME:EDT
DTSTART:20260308T070000
END:DAYLIGHT
BEGIN:STANDARD
TZOFFSETFROM:-0400
TZOFFSETTO:-0500
TZNAME:EST
DTSTART:20261101T060000
END:STANDARD
END:VTIMEZONE
BEGIN:VEVENT
DTSTART;TZID=America/New_York:20250102T160000
DTEND;TZID=America/New_York:20250102T173000
DTSTAMP:20260424T063842
CREATED:20241104T170714Z
LAST-MODIFIED:20250102T211859Z
UID:47400-1735833600-1735839000@sjahillsdale.org
SUMMARY:Cheer practice
DESCRIPTION:
URL:https://sjahillsdale.org/event/cheer-practice-63/
LOCATION:HFR
CATEGORIES:SJSA
END:VEVENT
BEGIN:VEVENT
DTSTART;TZID=America/New_York:20250102T163000
DTEND;TZID=America/New_York:20250102T173000
DTSTAMP:20260424T063842
CREATED:20241223T180315Z
LAST-MODIFIED:20250102T211859Z
UID:49006-1735835400-1735839000@sjahillsdale.org
SUMMARY:BB practice (ZR)
DESCRIPTION:
URL:https://sjahillsdale.org/event/bb-practice-zr-40/
CATEGORIES:SJSA
END:VEVENT
BEGIN:VEVENT
DTSTART;TZID=America/New_York:20250102T173000
DTEND;TZID=America/New_York:20250102T183000
DTSTAMP:20260424T063842
CREATED:20241104T032914Z
LAST-MODIFIED:20250102T223537Z
UID:47245-1735839000-1735842600@sjahillsdale.org
SUMMARY:BB practice (TL)
DESCRIPTION:
URL:https://sjahillsdale.org/event/bb-practice-tl-7/
CATEGORIES:SJSA
END:VEVENT
BEGIN:VEVENT
DTSTART;TZID=America/New_York:20250102T183000
DTEND;TZID=America/New_York:20250102T193000
DTSTAMP:20260424T063842
CREATED:20241104T032914Z
LAST-MODIFIED:20250102T233727Z
UID:47246-1735842600-1735846200@sjahillsdale.org
SUMMARY:BB practice (MB)
DESCRIPTION:
URL:https://sjahillsdale.org/event/bb-practice-mb-7/
CATEGORIES:SJSA
END:VEVENT
BEGIN:VEVENT
DTSTART;TZID=America/New_York:20250102T193000
DTEND;TZID=America/New_York:20250102T203000
DTSTAMP:20260424T063842
CREATED:20241104T032914Z
LAST-MODIFIED:20250103T005005Z
UID:47247-1735846200-1735849800@sjahillsdale.org
SUMMARY:BB practice (JSa)
DESCRIPTION:
URL:https://sjahillsdale.org/event/bb-practice-js-14/
CATEGORIES:SJSA
END:VEVENT
END:VCALENDAR