BEGIN:VCALENDAR
VERSION:2.0
PRODID:-//St. John&#039;s Academy - ECPv6.15.17//NONSGML v1.0//EN
CALSCALE:GREGORIAN
METHOD:PUBLISH
X-ORIGINAL-URL:https://sjahillsdale.org
X-WR-CALDESC:Events for St. John&#039;s Academy
REFRESH-INTERVAL;VALUE=DURATION:PT1H
X-Robots-Tag:noindex
X-PUBLISHED-TTL:PT1H
BEGIN:VTIMEZONE
TZID:America/New_York
BEGIN:DAYLIGHT
TZOFFSETFROM:-0500
TZOFFSETTO:-0400
TZNAME:EDT
DTSTART:20230312T070000
END:DAYLIGHT
BEGIN:STANDARD
TZOFFSETFROM:-0400
TZOFFSETTO:-0500
TZNAME:EST
DTSTART:20231105T060000
END:STANDARD
BEGIN:DAYLIGHT
TZOFFSETFROM:-0500
TZOFFSETTO:-0400
TZNAME:EDT
DTSTART:20240310T070000
END:DAYLIGHT
BEGIN:STANDARD
TZOFFSETFROM:-0400
TZOFFSETTO:-0500
TZNAME:EST
DTSTART:20241103T060000
END:STANDARD
BEGIN:DAYLIGHT
TZOFFSETFROM:-0500
TZOFFSETTO:-0400
TZNAME:EDT
DTSTART:20250309T070000
END:DAYLIGHT
BEGIN:STANDARD
TZOFFSETFROM:-0400
TZOFFSETTO:-0500
TZNAME:EST
DTSTART:20251102T060000
END:STANDARD
END:VTIMEZONE
BEGIN:VEVENT
DTSTART;VALUE=DATE:20241224
DTEND;VALUE=DATE:20241225
DTSTAMP:20260422T131258
CREATED:20240829T182059Z
LAST-MODIFIED:20240829T182059Z
UID:43610-1734998400-1735084799@sjahillsdale.org
SUMMARY:School Closed- Christmas Recess
DESCRIPTION:
URL:https://sjahillsdale.org/event/school-closed-christmas-recess-2/2024-12-24/
CATEGORIES:General
END:VEVENT
BEGIN:VEVENT
DTSTART;TZID=America/New_York:20241224T183000
DTEND;TZID=America/New_York:20241224T193000
DTSTAMP:20260422T131258
CREATED:20241104T032908Z
LAST-MODIFIED:20241224T235335Z
UID:47224-1735065000-1735068600@sjahillsdale.org
SUMMARY:BB practice (JSc)
DESCRIPTION:
URL:https://sjahillsdale.org/event/bb-practice-js-11/
CATEGORIES:SJSA
END:VEVENT
BEGIN:VEVENT
DTSTART;TZID=America/New_York:20241224T193000
DTEND;TZID=America/New_York:20241224T203000
DTSTAMP:20260422T131258
CREATED:20241104T032909Z
LAST-MODIFIED:20241225T010957Z
UID:47226-1735068600-1735072200@sjahillsdale.org
SUMMARY:BB practice (ZR)
DESCRIPTION:
URL:https://sjahillsdale.org/event/bb-practice-zr-28/
CATEGORIES:SJSA
END:VEVENT
END:VCALENDAR