BEGIN:VCALENDAR
VERSION:2.0
PRODID:-//St. John&#039;s Academy - ECPv6.15.17//NONSGML v1.0//EN
CALSCALE:GREGORIAN
METHOD:PUBLISH
X-ORIGINAL-URL:https://sjahillsdale.org
X-WR-CALDESC:Events for St. John&#039;s Academy
REFRESH-INTERVAL;VALUE=DURATION:PT1H
X-Robots-Tag:noindex
X-PUBLISHED-TTL:PT1H
BEGIN:VTIMEZONE
TZID:America/New_York
BEGIN:DAYLIGHT
TZOFFSETFROM:-0500
TZOFFSETTO:-0400
TZNAME:EDT
DTSTART:20230312T070000
END:DAYLIGHT
BEGIN:STANDARD
TZOFFSETFROM:-0400
TZOFFSETTO:-0500
TZNAME:EST
DTSTART:20231105T060000
END:STANDARD
BEGIN:DAYLIGHT
TZOFFSETFROM:-0500
TZOFFSETTO:-0400
TZNAME:EDT
DTSTART:20240310T070000
END:DAYLIGHT
BEGIN:STANDARD
TZOFFSETFROM:-0400
TZOFFSETTO:-0500
TZNAME:EST
DTSTART:20241103T060000
END:STANDARD
BEGIN:DAYLIGHT
TZOFFSETFROM:-0500
TZOFFSETTO:-0400
TZNAME:EDT
DTSTART:20250309T070000
END:DAYLIGHT
BEGIN:STANDARD
TZOFFSETFROM:-0400
TZOFFSETTO:-0500
TZNAME:EST
DTSTART:20251102T060000
END:STANDARD
END:VTIMEZONE
BEGIN:VEVENT
DTSTART;TZID=America/New_York:20241215T123000
DTEND;TZID=America/New_York:20241215T133000
DTSTAMP:20260419T120347
CREATED:20241204T190624Z
LAST-MODIFIED:20241215T180846Z
UID:48455-1734265800-1734269400@sjahillsdale.org
SUMMARY:BB Game (B34 Red)
DESCRIPTION:
URL:https://sjahillsdale.org/event/bb-game-b34-red-2/
CATEGORIES:SJSA
END:VEVENT
BEGIN:VEVENT
DTSTART;TZID=America/New_York:20241215T134500
DTEND;TZID=America/New_York:20241215T144500
DTSTAMP:20260419T120347
CREATED:20241204T190624Z
LAST-MODIFIED:20241215T191731Z
UID:48456-1734270300-1734273900@sjahillsdale.org
SUMMARY:BB Game (G56 Red)
DESCRIPTION:
URL:https://sjahillsdale.org/event/bb-game-g56-red-2/
CATEGORIES:SJSA
END:VEVENT
BEGIN:VEVENT
DTSTART;TZID=America/New_York:20241215T150000
DTEND;TZID=America/New_York:20241215T160000
DTSTAMP:20260419T120347
CREATED:20241204T190624Z
LAST-MODIFIED:20241215T201956Z
UID:48457-1734274800-1734278400@sjahillsdale.org
SUMMARY:BB Game (B56 Black)
DESCRIPTION:
URL:https://sjahillsdale.org/event/bb-game-b56-black/
CATEGORIES:SJSA
END:VEVENT
BEGIN:VEVENT
DTSTART;TZID=America/New_York:20241215T161500
DTEND;TZID=America/New_York:20241215T171500
DTSTAMP:20260419T120347
CREATED:20241204T190625Z
LAST-MODIFIED:20241215T213353Z
UID:48458-1734279300-1734282900@sjahillsdale.org
SUMMARY:BB Game (B34 Gold)
DESCRIPTION:
URL:https://sjahillsdale.org/event/bb-game-b34-gold-3/
CATEGORIES:SJSA
END:VEVENT
BEGIN:VEVENT
DTSTART;TZID=America/New_York:20241215T173000
DTEND;TZID=America/New_York:20241215T183000
DTSTAMP:20260419T120347
CREATED:20241204T190625Z
LAST-MODIFIED:20241215T223651Z
UID:48459-1734283800-1734287400@sjahillsdale.org
SUMMARY:BB Game (G34 )
DESCRIPTION:
URL:https://sjahillsdale.org/event/bb-game-g34-2/
CATEGORIES:SJSA
END:VEVENT
BEGIN:VEVENT
DTSTART;TZID=America/New_York:20241215T184500
DTEND;TZID=America/New_York:20241215T194500
DTSTAMP:20260419T120347
CREATED:20241204T190625Z
LAST-MODIFIED:20241215T235242Z
UID:48460-1734288300-1734291900@sjahillsdale.org
SUMMARY:BB Game (G78 Red)
DESCRIPTION:
URL:https://sjahillsdale.org/event/bb-game-g78-red/
CATEGORIES:SJSA
END:VEVENT
BEGIN:VEVENT
DTSTART;TZID=America/New_York:20241215T200000
DTEND;TZID=America/New_York:20241215T210000
DTSTAMP:20260419T120347
CREATED:20241204T190625Z
LAST-MODIFIED:20241216T010504Z
UID:48461-1734292800-1734296400@sjahillsdale.org
SUMMARY:BB Game (B78 Red)
DESCRIPTION:
URL:https://sjahillsdale.org/event/bb-game-b78-red/
CATEGORIES:SJSA
END:VEVENT
END:VCALENDAR