BEGIN:VCALENDAR
VERSION:2.0
PRODID:-//St. John&#039;s Academy - ECPv6.15.20//NONSGML v1.0//EN
CALSCALE:GREGORIAN
METHOD:PUBLISH
X-ORIGINAL-URL:https://sjahillsdale.org
X-WR-CALDESC:Events for St. John&#039;s Academy
REFRESH-INTERVAL;VALUE=DURATION:PT1H
X-Robots-Tag:noindex
X-PUBLISHED-TTL:PT1H
BEGIN:VTIMEZONE
TZID:America/New_York
BEGIN:DAYLIGHT
TZOFFSETFROM:-0500
TZOFFSETTO:-0400
TZNAME:EDT
DTSTART:20230312T070000
END:DAYLIGHT
BEGIN:STANDARD
TZOFFSETFROM:-0400
TZOFFSETTO:-0500
TZNAME:EST
DTSTART:20231105T060000
END:STANDARD
BEGIN:DAYLIGHT
TZOFFSETFROM:-0500
TZOFFSETTO:-0400
TZNAME:EDT
DTSTART:20240310T070000
END:DAYLIGHT
BEGIN:STANDARD
TZOFFSETFROM:-0400
TZOFFSETTO:-0500
TZNAME:EST
DTSTART:20241103T060000
END:STANDARD
BEGIN:DAYLIGHT
TZOFFSETFROM:-0500
TZOFFSETTO:-0400
TZNAME:EDT
DTSTART:20250309T070000
END:DAYLIGHT
BEGIN:STANDARD
TZOFFSETFROM:-0400
TZOFFSETTO:-0500
TZNAME:EST
DTSTART:20251102T060000
END:STANDARD
END:VTIMEZONE
BEGIN:VEVENT
DTSTART;TZID=America/New_York:20241208T080000
DTEND;TZID=America/New_York:20241208T180000
DTSTAMP:20260423T092911
CREATED:20241104T170652Z
LAST-MODIFIED:20241208T223623Z
UID:47396-1733644800-1733680800@sjahillsdale.org
SUMMARY:Gym Closed-SJA Advent Event
DESCRIPTION:
URL:https://sjahillsdale.org/event/gym-closed-sja-advent-event/
CATEGORIES:SJSA
END:VEVENT
BEGIN:VEVENT
DTSTART;TZID=America/New_York:20241208T130000
DTEND;TZID=America/New_York:20241208T160000
DTSTAMP:20260423T092911
CREATED:20241113T180932Z
LAST-MODIFIED:20241113T180932Z
UID:47756-1733662800-1733673600@sjahillsdale.org
SUMMARY:Journey to Jesus and live nativity
DESCRIPTION:
URL:https://sjahillsdale.org/event/journey-to-jesus-and-live-nativity/
CATEGORIES:General
END:VEVENT
BEGIN:VEVENT
DTSTART;TZID=America/New_York:20241208T170000
DTEND;TZID=America/New_York:20241208T181500
DTSTAMP:20260423T092911
CREATED:20241207T231959Z
LAST-MODIFIED:20241208T223623Z
UID:48609-1733677200-1733681700@sjahillsdale.org
SUMMARY:BB practice (MB)
DESCRIPTION:
URL:https://sjahillsdale.org/event/bb-practice-mb-19/
CATEGORIES:SJSA
END:VEVENT
END:VCALENDAR