BEGIN:VCALENDAR
VERSION:2.0
PRODID:-//St. John&#039;s Academy - ECPv6.15.17//NONSGML v1.0//EN
CALSCALE:GREGORIAN
METHOD:PUBLISH
X-WR-CALNAME:St. John&#039;s Academy
X-ORIGINAL-URL:https://sjahillsdale.org
X-WR-CALDESC:Events for St. John&#039;s Academy
REFRESH-INTERVAL;VALUE=DURATION:PT1H
X-Robots-Tag:noindex
X-PUBLISHED-TTL:PT1H
BEGIN:VTIMEZONE
TZID:America/New_York
BEGIN:DAYLIGHT
TZOFFSETFROM:-0500
TZOFFSETTO:-0400
TZNAME:EDT
DTSTART:20230312T070000
END:DAYLIGHT
BEGIN:STANDARD
TZOFFSETFROM:-0400
TZOFFSETTO:-0500
TZNAME:EST
DTSTART:20231105T060000
END:STANDARD
BEGIN:DAYLIGHT
TZOFFSETFROM:-0500
TZOFFSETTO:-0400
TZNAME:EDT
DTSTART:20240310T070000
END:DAYLIGHT
BEGIN:STANDARD
TZOFFSETFROM:-0400
TZOFFSETTO:-0500
TZNAME:EST
DTSTART:20241103T060000
END:STANDARD
BEGIN:DAYLIGHT
TZOFFSETFROM:-0500
TZOFFSETTO:-0400
TZNAME:EDT
DTSTART:20250309T070000
END:DAYLIGHT
BEGIN:STANDARD
TZOFFSETFROM:-0400
TZOFFSETTO:-0500
TZNAME:EST
DTSTART:20251102T060000
END:STANDARD
END:VTIMEZONE
BEGIN:VEVENT
DTSTART;TZID=America/New_York:20241124T100000
DTEND;TZID=America/New_York:20241124T120000
DTSTAMP:20260419T091032
CREATED:20240919T030553Z
LAST-MODIFIED:20241124T165141Z
UID:44780-1732442400-1732449600@sjahillsdale.org
SUMMARY:CYO Tip-Off Mass
DESCRIPTION:Join us for Mass and breakfast at St. John’s as we celebrate the start of our CYO basketball season with our annual Tip-Off Mass! \nDetails\n\nPlayers should wear their red St. John’s basketball jerseys\, which will be distributed before the Mass (if you ordered a new one this season).\nTeams will sit together\nBreakfast will be served in the Parish Center afterwards\n\nRSVP\nPlease RSVP below by November 17th if you are attending so we have a headcount.
URL:https://sjahillsdale.org/event/cyo-tip-off-mass-2024/
LOCATION:St John the Baptist Roman Catholic Church\, 69 Valley St\, Hillsdale\, NJ\, United States
CATEGORIES:SJSA
ATTACH;FMTTYPE=image/jpeg:https://sjahillsdale.org/wp-content/uploads/2024/09/CYO-Tip-Off-Mass-2023.jpg
ORGANIZER;CN="St. John's Sports Association":MAILTO:info@sjsports.org
GEO:41.004605;-74.044957
X-APPLE-STRUCTURED-LOCATION;VALUE=URI;X-ADDRESS=St John the Baptist Roman Catholic Church 69 Valley St Hillsdale NJ United States;X-APPLE-RADIUS=500;X-TITLE=69 Valley St:geo:-74.044957,41.004605
END:VEVENT
BEGIN:VEVENT
DTSTART;TZID=America/New_York:20241124T123000
DTEND;TZID=America/New_York:20241124T140000
DTSTAMP:20260419T091032
CREATED:20241104T032846Z
LAST-MODIFIED:20241124T180920Z
UID:47160-1732451400-1732456800@sjahillsdale.org
SUMMARY:BB practice (RT)
DESCRIPTION:
URL:https://sjahillsdale.org/event/bb-practice-rt-50/
CATEGORIES:SJSA
END:VEVENT
BEGIN:VEVENT
DTSTART;TZID=America/New_York:20241124T150000
DTEND;TZID=America/New_York:20241124T160000
DTSTAMP:20260419T091032
CREATED:20241121T130341Z
LAST-MODIFIED:20241124T202052Z
UID:48099-1732460400-1732464000@sjahillsdale.org
SUMMARY:BB practice (BG)
DESCRIPTION:
URL:https://sjahillsdale.org/event/bb-practice-bg-35/
CATEGORIES:SJSA
END:VEVENT
END:VCALENDAR