BEGIN:VCALENDAR
VERSION:2.0
PRODID:-//St. John&#039;s Academy - ECPv6.15.17//NONSGML v1.0//EN
CALSCALE:GREGORIAN
METHOD:PUBLISH
X-WR-CALNAME:St. John&#039;s Academy
X-ORIGINAL-URL:https://sjahillsdale.org
X-WR-CALDESC:Events for St. John&#039;s Academy
REFRESH-INTERVAL;VALUE=DURATION:PT1H
X-Robots-Tag:noindex
X-PUBLISHED-TTL:PT1H
BEGIN:VTIMEZONE
TZID:America/New_York
BEGIN:DAYLIGHT
TZOFFSETFROM:-0500
TZOFFSETTO:-0400
TZNAME:EDT
DTSTART:20230312T070000
END:DAYLIGHT
BEGIN:STANDARD
TZOFFSETFROM:-0400
TZOFFSETTO:-0500
TZNAME:EST
DTSTART:20231105T060000
END:STANDARD
BEGIN:DAYLIGHT
TZOFFSETFROM:-0500
TZOFFSETTO:-0400
TZNAME:EDT
DTSTART:20240310T070000
END:DAYLIGHT
BEGIN:STANDARD
TZOFFSETFROM:-0400
TZOFFSETTO:-0500
TZNAME:EST
DTSTART:20241103T060000
END:STANDARD
BEGIN:DAYLIGHT
TZOFFSETFROM:-0500
TZOFFSETTO:-0400
TZNAME:EDT
DTSTART:20250309T070000
END:DAYLIGHT
BEGIN:STANDARD
TZOFFSETFROM:-0400
TZOFFSETTO:-0500
TZNAME:EST
DTSTART:20251102T060000
END:STANDARD
END:VTIMEZONE
BEGIN:VEVENT
DTSTART;TZID=America/New_York:20241121T160000
DTEND;TZID=America/New_York:20241121T173000
DTSTAMP:20260420T055621
CREATED:20241104T170636Z
LAST-MODIFIED:20241121T215337Z
UID:47393-1732204800-1732210200@sjahillsdale.org
SUMMARY:Cheer practice
DESCRIPTION:
URL:https://sjahillsdale.org/event/cheer-practice-57/
CATEGORIES:SJSA
END:VEVENT
BEGIN:VEVENT
DTSTART;TZID=America/New_York:20241121T193000
DTEND;TZID=America/New_York:20241121T203000
DTSTAMP:20260420T055621
CREATED:20241104T032843Z
LAST-MODIFIED:20241122T012304Z
UID:47155-1732217400-1732221000@sjahillsdale.org
SUMMARY:BB practice (JSa)
DESCRIPTION:
URL:https://sjahillsdale.org/event/bb-practice-js-2/
CATEGORIES:SJSA
END:VEVENT
END:VCALENDAR