BEGIN:VCALENDAR
VERSION:2.0
PRODID:-//St. John&#039;s Academy - ECPv6.15.17//NONSGML v1.0//EN
CALSCALE:GREGORIAN
METHOD:PUBLISH
X-WR-CALNAME:St. John&#039;s Academy
X-ORIGINAL-URL:https://sjahillsdale.org
X-WR-CALDESC:Events for St. John&#039;s Academy
REFRESH-INTERVAL;VALUE=DURATION:PT1H
X-Robots-Tag:noindex
X-PUBLISHED-TTL:PT1H
BEGIN:VTIMEZONE
TZID:America/New_York
BEGIN:DAYLIGHT
TZOFFSETFROM:-0500
TZOFFSETTO:-0400
TZNAME:EDT
DTSTART:20230312T070000
END:DAYLIGHT
BEGIN:STANDARD
TZOFFSETFROM:-0400
TZOFFSETTO:-0500
TZNAME:EST
DTSTART:20231105T060000
END:STANDARD
BEGIN:DAYLIGHT
TZOFFSETFROM:-0500
TZOFFSETTO:-0400
TZNAME:EDT
DTSTART:20240310T070000
END:DAYLIGHT
BEGIN:STANDARD
TZOFFSETFROM:-0400
TZOFFSETTO:-0500
TZNAME:EST
DTSTART:20241103T060000
END:STANDARD
BEGIN:DAYLIGHT
TZOFFSETFROM:-0500
TZOFFSETTO:-0400
TZNAME:EDT
DTSTART:20250309T070000
END:DAYLIGHT
BEGIN:STANDARD
TZOFFSETFROM:-0400
TZOFFSETTO:-0500
TZNAME:EST
DTSTART:20251102T060000
END:STANDARD
END:VTIMEZONE
BEGIN:VEVENT
DTSTART;TZID=America/New_York:20241009T080000
DTEND;TZID=America/New_York:20241009T103000
DTSTAMP:20260420T223738
CREATED:20240911T174141Z
LAST-MODIFIED:20240911T174141Z
UID:44583-1728460800-1728469800@sjahillsdale.org
SUMMARY:MAP Testing: Grades 2-4 (Language)
DESCRIPTION:
URL:https://sjahillsdale.org/event/map-testing-grades-2-4-language/
CATEGORIES:General
END:VEVENT
BEGIN:VEVENT
DTSTART;TZID=America/New_York:20241009T141500
DTEND;TZID=America/New_York:20241009T151500
DTSTAMP:20260420T223738
CREATED:20240911T125657Z
LAST-MODIFIED:20240911T125656Z
UID:44529-1728483300-1728486900@sjahillsdale.org
SUMMARY:Math Enrichment begins grades 3-5
DESCRIPTION:
URL:https://sjahillsdale.org/event/math-enrichment-begins-grades-3-5/2024-10-09/
CATEGORIES:General
END:VEVENT
BEGIN:VEVENT
DTSTART;TZID=America/New_York:20241009T141500
DTEND;TZID=America/New_York:20241009T153000
DTSTAMP:20260420T223738
CREATED:20240911T131542Z
LAST-MODIFIED:20240911T131541Z
UID:44551-1728483300-1728487800@sjahillsdale.org
SUMMARY:Benvenuti - Italian Enrichment Class (Grades K-2nd)
DESCRIPTION:
URL:https://sjahillsdale.org/event/benvenuti-italian-enrichment-class-grades-k-2nd/2024-10-09/
CATEGORIES:General
END:VEVENT
BEGIN:VEVENT
DTSTART;TZID=America/New_York:20241009T163000
DTEND;TZID=America/New_York:20241009T173000
DTSTAMP:20260420T223738
CREATED:20241004T133539Z
LAST-MODIFIED:20241009T204847Z
UID:45448-1728491400-1728495000@sjahillsdale.org
SUMMARY:VB practice (RE)
DESCRIPTION:
URL:https://sjahillsdale.org/event/vb-practice-re-37/
CATEGORIES:SJSA
END:VEVENT
BEGIN:VEVENT
DTSTART;TZID=America/New_York:20241009T173000
DTEND;TZID=America/New_York:20241009T190000
DTSTAMP:20260420T223738
CREATED:20241004T133539Z
LAST-MODIFIED:20241009T220329Z
UID:45449-1728495000-1728500400@sjahillsdale.org
SUMMARY:VB practice (MG)
DESCRIPTION:
URL:https://sjahillsdale.org/event/vb-practice-mg-32/
CATEGORIES:SJSA
END:VEVENT
END:VCALENDAR