BEGIN:VCALENDAR
VERSION:2.0
PRODID:-//St. John&#039;s Academy - ECPv6.15.17//NONSGML v1.0//EN
CALSCALE:GREGORIAN
METHOD:PUBLISH
X-ORIGINAL-URL:https://sjahillsdale.org
X-WR-CALDESC:Events for St. John&#039;s Academy
REFRESH-INTERVAL;VALUE=DURATION:PT1H
X-Robots-Tag:noindex
X-PUBLISHED-TTL:PT1H
BEGIN:VTIMEZONE
TZID:America/New_York
BEGIN:DAYLIGHT
TZOFFSETFROM:-0500
TZOFFSETTO:-0400
TZNAME:EDT
DTSTART:20230312T070000
END:DAYLIGHT
BEGIN:STANDARD
TZOFFSETFROM:-0400
TZOFFSETTO:-0500
TZNAME:EST
DTSTART:20231105T060000
END:STANDARD
BEGIN:DAYLIGHT
TZOFFSETFROM:-0500
TZOFFSETTO:-0400
TZNAME:EDT
DTSTART:20240310T070000
END:DAYLIGHT
BEGIN:STANDARD
TZOFFSETFROM:-0400
TZOFFSETTO:-0500
TZNAME:EST
DTSTART:20241103T060000
END:STANDARD
BEGIN:DAYLIGHT
TZOFFSETFROM:-0500
TZOFFSETTO:-0400
TZNAME:EDT
DTSTART:20250309T070000
END:DAYLIGHT
BEGIN:STANDARD
TZOFFSETFROM:-0400
TZOFFSETTO:-0500
TZNAME:EST
DTSTART:20251102T060000
END:STANDARD
END:VTIMEZONE
BEGIN:VEVENT
DTSTART;VALUE=DATE:20241004
DTEND;VALUE=DATE:20241005
DTSTAMP:20260420T234456
CREATED:20240813T151657Z
LAST-MODIFIED:20240813T151656Z
UID:43016-1728000000-1728086399@sjahillsdale.org
SUMMARY:Noon Dismissal: Faculty Meeting
DESCRIPTION:
URL:https://sjahillsdale.org/event/noon-dismissal-faculty-meeting-20/
CATEGORIES:General
END:VEVENT
BEGIN:VEVENT
DTSTART;VALUE=DATE:20241004
DTEND;VALUE=DATE:20241005
DTSTAMP:20260420T234456
CREATED:20240927T170333Z
LAST-MODIFIED:20240927T170329Z
UID:45151-1728000000-1728086399@sjahillsdale.org
SUMMARY:PTG Cherrydale Wrap Fundraiser
DESCRIPTION:For more information\, please click here: Cherrydale Fundraiser
URL:https://sjahillsdale.org/event/ptg-cherrydale-wrap-fundraiser/2024-10-04/
CATEGORIES:General,PTG
END:VEVENT
BEGIN:VEVENT
DTSTART;TZID=America/New_York:20241004T090000
DTEND;TZID=America/New_York:20241004T100000
DTSTAMP:20260420T234456
CREATED:20240819T153111Z
LAST-MODIFIED:20240819T153111Z
UID:43167-1728032400-1728036000@sjahillsdale.org
SUMMARY:School Liturgy – (8th Grade Hosting)
DESCRIPTION:
URL:https://sjahillsdale.org/event/school-liturgy-8th-grade-hosting-4/
LOCATION:St. John the Baptist Roman Catholic Church\, 69 Valley St.\, Hillsdale\, New Jersey\, 07642\, United States
CATEGORIES:General
END:VEVENT
BEGIN:VEVENT
DTSTART;TZID=America/New_York:20241004T120000
DTEND;TZID=America/New_York:20241004T160000
DTSTAMP:20260420T234456
CREATED:20240828T181716Z
LAST-MODIFIED:20240828T181716Z
UID:43498-1728043200-1728057600@sjahillsdale.org
SUMMARY:Aftercare – Ends @ 4:00 p.m. today
DESCRIPTION:
URL:https://sjahillsdale.org/event/aftercare-ends-400-p-m-today/
CATEGORIES:General
END:VEVENT
BEGIN:VEVENT
DTSTART;TZID=America/New_York:20241004T163000
DTEND;TZID=America/New_York:20241004T173000
DTSTAMP:20260420T234456
CREATED:20240926T141826Z
LAST-MODIFIED:20241004T202309Z
UID:45069-1728059400-1728063000@sjahillsdale.org
SUMMARY:VB practice (ST)
DESCRIPTION:
URL:https://sjahillsdale.org/event/vb-practice-st-35/
CATEGORIES:SJSA
END:VEVENT
BEGIN:VEVENT
DTSTART;TZID=America/New_York:20241004T180000
DTEND;TZID=America/New_York:20241004T220000
DTSTAMP:20260420T234456
CREATED:20240828T191819Z
LAST-MODIFIED:20241005T012305Z
UID:43517-1728064800-1728079200@sjahillsdale.org
SUMMARY:Gym closed- German School Event Set up
DESCRIPTION:
URL:https://sjahillsdale.org/event/gym-closed-german-school-event-set-up-3/
CATEGORIES:SJSA
END:VEVENT
END:VCALENDAR