BEGIN:VCALENDAR
VERSION:2.0
PRODID:-//St. John&#039;s Academy - ECPv6.15.17//NONSGML v1.0//EN
CALSCALE:GREGORIAN
METHOD:PUBLISH
X-ORIGINAL-URL:https://sjahillsdale.org
X-WR-CALDESC:Events for St. John&#039;s Academy
REFRESH-INTERVAL;VALUE=DURATION:PT1H
X-Robots-Tag:noindex
X-PUBLISHED-TTL:PT1H
BEGIN:VTIMEZONE
TZID:America/New_York
BEGIN:DAYLIGHT
TZOFFSETFROM:-0500
TZOFFSETTO:-0400
TZNAME:EDT
DTSTART:20230312T070000
END:DAYLIGHT
BEGIN:STANDARD
TZOFFSETFROM:-0400
TZOFFSETTO:-0500
TZNAME:EST
DTSTART:20231105T060000
END:STANDARD
BEGIN:DAYLIGHT
TZOFFSETFROM:-0500
TZOFFSETTO:-0400
TZNAME:EDT
DTSTART:20240310T070000
END:DAYLIGHT
BEGIN:STANDARD
TZOFFSETFROM:-0400
TZOFFSETTO:-0500
TZNAME:EST
DTSTART:20241103T060000
END:STANDARD
BEGIN:DAYLIGHT
TZOFFSETFROM:-0500
TZOFFSETTO:-0400
TZNAME:EDT
DTSTART:20250309T070000
END:DAYLIGHT
BEGIN:STANDARD
TZOFFSETFROM:-0400
TZOFFSETTO:-0500
TZNAME:EST
DTSTART:20251102T060000
END:STANDARD
END:VTIMEZONE
BEGIN:VEVENT
DTSTART;VALUE=DATE:20241003
DTEND;VALUE=DATE:20241004
DTSTAMP:20260420T224130
CREATED:20240927T170332Z
LAST-MODIFIED:20240927T170329Z
UID:45150-1727913600-1727999999@sjahillsdale.org
SUMMARY:PTG Cherrydale Wrap Fundraiser
DESCRIPTION:For more information\, please click here: Cherrydale Fundraiser
URL:https://sjahillsdale.org/event/ptg-cherrydale-wrap-fundraiser/2024-10-03/
CATEGORIES:General,PTG
END:VEVENT
BEGIN:VEVENT
DTSTART;TZID=America/New_York:20241003T080000
DTEND;TZID=America/New_York:20241003T103000
DTSTAMP:20260420T224130
CREATED:20240911T173243Z
LAST-MODIFIED:20240911T173243Z
UID:44580-1727942400-1727951400@sjahillsdale.org
SUMMARY:MAP Testing: Grades 5-8 (Reading)
DESCRIPTION:
URL:https://sjahillsdale.org/event/map-testing-grades-5-8-reading-2/
CATEGORIES:General
END:VEVENT
BEGIN:VEVENT
DTSTART;TZID=America/New_York:20241003T141500
DTEND;TZID=America/New_York:20241003T153000
DTSTAMP:20260420T224130
CREATED:20240815T134234Z
LAST-MODIFIED:20240815T134232Z
UID:43072-1727964900-1727969400@sjahillsdale.org
SUMMARY:Art/Gardening Enrichment (PK4-8th)
DESCRIPTION:
URL:https://sjahillsdale.org/event/art-gardening-enrichment-pk4-8th/2024-10-03/
CATEGORIES:General
END:VEVENT
BEGIN:VEVENT
DTSTART;TZID=America/New_York:20241003T163000
DTEND;TZID=America/New_York:20241003T180000
DTSTAMP:20260420T224130
CREATED:20240926T141825Z
LAST-MODIFIED:20241003T213321Z
UID:45067-1727973000-1727978400@sjahillsdale.org
SUMMARY:VB practice (ST)
DESCRIPTION:
URL:https://sjahillsdale.org/event/vb-practice-st-34/
CATEGORIES:SJSA
END:VEVENT
END:VCALENDAR