BEGIN:VCALENDAR
VERSION:2.0
PRODID:-//St. John&#039;s Academy - ECPv6.15.17//NONSGML v1.0//EN
CALSCALE:GREGORIAN
METHOD:PUBLISH
X-WR-CALNAME:St. John&#039;s Academy
X-ORIGINAL-URL:https://sjahillsdale.org
X-WR-CALDESC:Events for St. John&#039;s Academy
REFRESH-INTERVAL;VALUE=DURATION:PT1H
X-Robots-Tag:noindex
X-PUBLISHED-TTL:PT1H
BEGIN:VTIMEZONE
TZID:America/New_York
BEGIN:DAYLIGHT
TZOFFSETFROM:-0500
TZOFFSETTO:-0400
TZNAME:EDT
DTSTART:20230312T070000
END:DAYLIGHT
BEGIN:STANDARD
TZOFFSETFROM:-0400
TZOFFSETTO:-0500
TZNAME:EST
DTSTART:20231105T060000
END:STANDARD
BEGIN:DAYLIGHT
TZOFFSETFROM:-0500
TZOFFSETTO:-0400
TZNAME:EDT
DTSTART:20240310T070000
END:DAYLIGHT
BEGIN:STANDARD
TZOFFSETFROM:-0400
TZOFFSETTO:-0500
TZNAME:EST
DTSTART:20241103T060000
END:STANDARD
BEGIN:DAYLIGHT
TZOFFSETFROM:-0500
TZOFFSETTO:-0400
TZNAME:EDT
DTSTART:20250309T070000
END:DAYLIGHT
BEGIN:STANDARD
TZOFFSETFROM:-0400
TZOFFSETTO:-0500
TZNAME:EST
DTSTART:20251102T060000
END:STANDARD
END:VTIMEZONE
BEGIN:VEVENT
DTSTART;VALUE=DATE:20240930
DTEND;VALUE=DATE:20241001
DTSTAMP:20260421T043022
CREATED:20240927T170331Z
LAST-MODIFIED:20240927T170329Z
UID:45146-1727654400-1727740799@sjahillsdale.org
SUMMARY:PTG Cherrydale Wrap Fundraiser
DESCRIPTION:For more information\, please click here: Cherrydale Fundraiser
URL:https://sjahillsdale.org/event/ptg-cherrydale-wrap-fundraiser/2024-09-30/
CATEGORIES:General,PTG
END:VEVENT
BEGIN:VEVENT
DTSTART;TZID=America/New_York:20240930T080000
DTEND;TZID=America/New_York:20240930T103000
DTSTAMP:20260421T043022
CREATED:20240911T172838Z
LAST-MODIFIED:20240911T172838Z
UID:44574-1727683200-1727692200@sjahillsdale.org
SUMMARY:MAP Testing: Grades 5-8 (Math)
DESCRIPTION:
URL:https://sjahillsdale.org/event/map-testing-grades-5-8-math-2/
CATEGORIES:General
END:VEVENT
BEGIN:VEVENT
DTSTART;TZID=America/New_York:20240930T141500
DTEND;TZID=America/New_York:20240930T153000
DTSTAMP:20260421T043022
CREATED:20240822T155319Z
LAST-MODIFIED:20240822T155318Z
UID:43341-1727705700-1727710200@sjahillsdale.org
SUMMARY:Cooking Enrichment 7th/8th grade with Ms. Winter
DESCRIPTION:
URL:https://sjahillsdale.org/event/cooking-enrichment-7th-8th-grade-with-ms-winter/2024-09-30/
LOCATION:St. John’s Academy\, 460 Hillsdale Avenue\, Hillsdale\, New Jersey\, 07642
CATEGORIES:General
END:VEVENT
BEGIN:VEVENT
DTSTART;TZID=America/New_York:20240930T163000
DTEND;TZID=America/New_York:20240930T173000
DTSTAMP:20260421T043022
CREATED:20240927T160544Z
LAST-MODIFIED:20240930T203644Z
UID:45142-1727713800-1727717400@sjahillsdale.org
SUMMARY:VB practice (JL)
DESCRIPTION:
URL:https://sjahillsdale.org/event/vb-practice-jl-12/
CATEGORIES:SJSA
END:VEVENT
BEGIN:VEVENT
DTSTART;TZID=America/New_York:20240930T173000
DTEND;TZID=America/New_York:20240930T183000
DTSTAMP:20260421T043022
CREATED:20240927T160544Z
LAST-MODIFIED:20240930T214800Z
UID:45141-1727717400-1727721000@sjahillsdale.org
SUMMARY:VB practice (EG)
DESCRIPTION:
URL:https://sjahillsdale.org/event/vb-practice-eg-97/
CATEGORIES:SJSA
END:VEVENT
BEGIN:VEVENT
DTSTART;TZID=America/New_York:20240930T183000
DTEND;TZID=America/New_York:20240930T193000
DTSTAMP:20260421T043022
CREATED:20240926T032209Z
LAST-MODIFIED:20240930T225207Z
UID:45038-1727721000-1727724600@sjahillsdale.org
SUMMARY:VB practice (JL)
DESCRIPTION:
URL:https://sjahillsdale.org/event/vb-practice-jl-6/
CATEGORIES:SJSA
END:VEVENT
BEGIN:VEVENT
DTSTART;TZID=America/New_York:20240930T190000
DTEND;TZID=America/New_York:20240930T200000
DTSTAMP:20260421T043022
CREATED:20240924T051957Z
LAST-MODIFIED:20240930T225207Z
UID:44922-1727722800-1727726400@sjahillsdale.org
SUMMARY:VB Game: JV Gold
DESCRIPTION:
URL:https://sjahillsdale.org/event/vb-game-jv-gold-9/
CATEGORIES:SJSA
END:VEVENT
BEGIN:VEVENT
DTSTART;TZID=America/New_York:20240930T193000
DTEND;TZID=America/New_York:20240930T203000
DTSTAMP:20260421T043022
CREATED:20240926T032209Z
LAST-MODIFIED:20241001T000451Z
UID:45037-1727724600-1727728200@sjahillsdale.org
SUMMARY:VB practice (EG)
DESCRIPTION:
URL:https://sjahillsdale.org/event/vb-practice-eg-90/
CATEGORIES:SJSA
END:VEVENT
BEGIN:VEVENT
DTSTART;TZID=America/New_York:20240930T200000
DTEND;TZID=America/New_York:20240930T210000
DTSTAMP:20260421T043022
CREATED:20240924T051956Z
LAST-MODIFIED:20241001T000451Z
UID:44921-1727726400-1727730000@sjahillsdale.org
SUMMARY:VB Game: V G7 Red
DESCRIPTION:
URL:https://sjahillsdale.org/event/vb-game-v-g7-red-2/
CATEGORIES:SJSA
END:VEVENT
END:VCALENDAR