BEGIN:VCALENDAR
VERSION:2.0
PRODID:-//St. John&#039;s Academy - ECPv6.15.17//NONSGML v1.0//EN
CALSCALE:GREGORIAN
METHOD:PUBLISH
X-WR-CALNAME:St. John&#039;s Academy
X-ORIGINAL-URL:https://sjahillsdale.org
X-WR-CALDESC:Events for St. John&#039;s Academy
REFRESH-INTERVAL;VALUE=DURATION:PT1H
X-Robots-Tag:noindex
X-PUBLISHED-TTL:PT1H
BEGIN:VTIMEZONE
TZID:America/New_York
BEGIN:DAYLIGHT
TZOFFSETFROM:-0500
TZOFFSETTO:-0400
TZNAME:EDT
DTSTART:20230312T070000
END:DAYLIGHT
BEGIN:STANDARD
TZOFFSETFROM:-0400
TZOFFSETTO:-0500
TZNAME:EST
DTSTART:20231105T060000
END:STANDARD
BEGIN:DAYLIGHT
TZOFFSETFROM:-0500
TZOFFSETTO:-0400
TZNAME:EDT
DTSTART:20240310T070000
END:DAYLIGHT
BEGIN:STANDARD
TZOFFSETFROM:-0400
TZOFFSETTO:-0500
TZNAME:EST
DTSTART:20241103T060000
END:STANDARD
BEGIN:DAYLIGHT
TZOFFSETFROM:-0500
TZOFFSETTO:-0400
TZNAME:EDT
DTSTART:20250309T070000
END:DAYLIGHT
BEGIN:STANDARD
TZOFFSETFROM:-0400
TZOFFSETTO:-0500
TZNAME:EST
DTSTART:20251102T060000
END:STANDARD
END:VTIMEZONE
BEGIN:VEVENT
DTSTART;TZID=America/New_York:20240926T141500
DTEND;TZID=America/New_York:20240926T153000
DTSTAMP:20260421T070952
CREATED:20240815T134233Z
LAST-MODIFIED:20240815T134232Z
UID:43071-1727360100-1727364600@sjahillsdale.org
SUMMARY:Art/Gardening Enrichment (PK4-8th)
DESCRIPTION:
URL:https://sjahillsdale.org/event/art-gardening-enrichment-pk4-8th/2024-09-26/
CATEGORIES:General
END:VEVENT
BEGIN:VEVENT
DTSTART;TZID=America/New_York:20240926T163000
DTEND;TZID=America/New_York:20240926T180000
DTSTAMP:20260421T070952
CREATED:20240829T144522Z
LAST-MODIFIED:20240926T210522Z
UID:43563-1727368200-1727373600@sjahillsdale.org
SUMMARY:VB practice (ST)
DESCRIPTION:
URL:https://sjahillsdale.org/event/vb-practice-st-29/
CATEGORIES:SJSA
END:VEVENT
BEGIN:VEVENT
DTSTART;TZID=America/New_York:20240926T183000
DTEND;TZID=America/New_York:20240926T203000
DTSTAMP:20260421T070952
CREATED:20240904T135742Z
LAST-MODIFIED:20240904T135742Z
UID:44184-1727375400-1727382600@sjahillsdale.org
SUMMARY:Don Bosco Open House
DESCRIPTION:
URL:https://sjahillsdale.org/event/don-bosco-open-house/
LOCATION:Don Bosco Preparatory High School\, 492 Franklin Turnpike\, Ramsey\, New Jersey\, 07446\, United States
CATEGORIES:General
END:VEVENT
END:VCALENDAR