BEGIN:VCALENDAR
VERSION:2.0
PRODID:-//St. John&#039;s Academy - ECPv6.15.20//NONSGML v1.0//EN
CALSCALE:GREGORIAN
METHOD:PUBLISH
X-ORIGINAL-URL:https://sjahillsdale.org
X-WR-CALDESC:Events for St. John&#039;s Academy
REFRESH-INTERVAL;VALUE=DURATION:PT1H
X-Robots-Tag:noindex
X-PUBLISHED-TTL:PT1H
BEGIN:VTIMEZONE
TZID:America/New_York
BEGIN:DAYLIGHT
TZOFFSETFROM:-0500
TZOFFSETTO:-0400
TZNAME:EDT
DTSTART:20230312T070000
END:DAYLIGHT
BEGIN:STANDARD
TZOFFSETFROM:-0400
TZOFFSETTO:-0500
TZNAME:EST
DTSTART:20231105T060000
END:STANDARD
BEGIN:DAYLIGHT
TZOFFSETFROM:-0500
TZOFFSETTO:-0400
TZNAME:EDT
DTSTART:20240310T070000
END:DAYLIGHT
BEGIN:STANDARD
TZOFFSETFROM:-0400
TZOFFSETTO:-0500
TZNAME:EST
DTSTART:20241103T060000
END:STANDARD
BEGIN:DAYLIGHT
TZOFFSETFROM:-0500
TZOFFSETTO:-0400
TZNAME:EDT
DTSTART:20250309T070000
END:DAYLIGHT
BEGIN:STANDARD
TZOFFSETFROM:-0400
TZOFFSETTO:-0500
TZNAME:EST
DTSTART:20251102T060000
END:STANDARD
END:VTIMEZONE
BEGIN:VEVENT
DTSTART;VALUE=DATE:20240606
DTEND;VALUE=DATE:20240607
DTSTAMP:20260425T111624
CREATED:20240423T180748Z
LAST-MODIFIED:20240423T180748Z
UID:38954-1717632000-1717718399@sjahillsdale.org
SUMMARY:Beechwood Picnic 8th Grade
DESCRIPTION:
URL:https://sjahillsdale.org/event/beechwood-picnic-8th-grade/
CATEGORIES:General
END:VEVENT
BEGIN:VEVENT
DTSTART;TZID=America/New_York:20240606T083000
DTEND;TZID=America/New_York:20240606T093000
DTSTAMP:20260425T111624
CREATED:20230807T223040Z
LAST-MODIFIED:20230911T134238Z
UID:28334-1717662600-1717666200@sjahillsdale.org
SUMMARY:PTG Meeting (Virtual)
DESCRIPTION:
URL:https://sjahillsdale.org/event/ptg-meeting-virtual-10/
CATEGORIES:General,PTG
END:VEVENT
BEGIN:VEVENT
DTSTART;TZID=America/New_York:20240606T141500
DTEND;TZID=America/New_York:20240606T153000
DTSTAMP:20260425T111625
CREATED:20240313T133419Z
LAST-MODIFIED:20240313T165753Z
UID:37426-1717683300-1717687800@sjahillsdale.org
SUMMARY:K-6 Art/Gardening Enrichment (Art Room)
DESCRIPTION:
URL:https://sjahillsdale.org/event/k-6-art-gardening-enrichment-art-room-2/2024-06-06/
CATEGORIES:General
END:VEVENT
END:VCALENDAR