BEGIN:VCALENDAR
VERSION:2.0
PRODID:-//St. John&#039;s Academy - ECPv6.15.20//NONSGML v1.0//EN
CALSCALE:GREGORIAN
METHOD:PUBLISH
X-ORIGINAL-URL:https://sjahillsdale.org
X-WR-CALDESC:Events for St. John&#039;s Academy
REFRESH-INTERVAL;VALUE=DURATION:PT1H
X-Robots-Tag:noindex
X-PUBLISHED-TTL:PT1H
BEGIN:VTIMEZONE
TZID:America/New_York
BEGIN:DAYLIGHT
TZOFFSETFROM:-0500
TZOFFSETTO:-0400
TZNAME:EDT
DTSTART:20220313T070000
END:DAYLIGHT
BEGIN:STANDARD
TZOFFSETFROM:-0400
TZOFFSETTO:-0500
TZNAME:EST
DTSTART:20221106T060000
END:STANDARD
BEGIN:DAYLIGHT
TZOFFSETFROM:-0500
TZOFFSETTO:-0400
TZNAME:EDT
DTSTART:20230312T070000
END:DAYLIGHT
BEGIN:STANDARD
TZOFFSETFROM:-0400
TZOFFSETTO:-0500
TZNAME:EST
DTSTART:20231105T060000
END:STANDARD
BEGIN:DAYLIGHT
TZOFFSETFROM:-0500
TZOFFSETTO:-0400
TZNAME:EDT
DTSTART:20240310T070000
END:DAYLIGHT
BEGIN:STANDARD
TZOFFSETFROM:-0400
TZOFFSETTO:-0500
TZNAME:EST
DTSTART:20241103T060000
END:STANDARD
END:VTIMEZONE
BEGIN:VEVENT
DTSTART;TZID=America/New_York:20231214T141500
DTEND;TZID=America/New_York:20231214T210000
DTSTAMP:20260425T143927
CREATED:20231026T174726Z
LAST-MODIFIED:20231210T030011Z
UID:31919-1702563300-1702587600@sjahillsdale.org
SUMMARY:GYM Closed- PreK concert set up in gym
DESCRIPTION:
URL:https://sjahillsdale.org/event/gym-closed-concert-set-up-in-gym/
CATEGORIES:SJSA
END:VEVENT
BEGIN:VEVENT
DTSTART;TZID=America/New_York:20231214T180000
DTEND;TZID=America/New_York:20231214T200000
DTSTAMP:20260425T143927
CREATED:20231110T044738Z
LAST-MODIFIED:20231210T030011Z
UID:32646-1702576800-1702584000@sjahillsdale.org
SUMMARY:Busy
DESCRIPTION:
URL:https://sjahillsdale.org/event/busy-27/
CATEGORIES:SJSA
END:VEVENT
BEGIN:VEVENT
DTSTART;TZID=America/New_York:20231214T190000
DTEND;TZID=America/New_York:20231214T203000
DTSTAMP:20260425T143927
CREATED:20231004T144647Z
LAST-MODIFIED:20231122T130518Z
UID:30708-1702580400-1702585800@sjahillsdale.org
SUMMARY:Christmas Pageant 
DESCRIPTION:  \n\n\n\n\n\n\n\n\n\n\n\n\n\n\n\n 
URL:https://sjahillsdale.org/event/christmas-pageant/
LOCATION:St. John the Baptist Roman Catholic Church\, 69 Valley St.\, Hillsdale\, New Jersey\, 07642\, United States
CATEGORIES:General
END:VEVENT
END:VCALENDAR