BEGIN:VCALENDAR
VERSION:2.0
PRODID:-//St. John&#039;s Academy - ECPv6.15.17//NONSGML v1.0//EN
CALSCALE:GREGORIAN
METHOD:PUBLISH
X-WR-CALNAME:St. John&#039;s Academy
X-ORIGINAL-URL:https://sjahillsdale.org
X-WR-CALDESC:Events for St. John&#039;s Academy
REFRESH-INTERVAL;VALUE=DURATION:PT1H
X-Robots-Tag:noindex
X-PUBLISHED-TTL:PT1H
BEGIN:VTIMEZONE
TZID:America/New_York
BEGIN:DAYLIGHT
TZOFFSETFROM:-0500
TZOFFSETTO:-0400
TZNAME:EDT
DTSTART:20220313T070000
END:DAYLIGHT
BEGIN:STANDARD
TZOFFSETFROM:-0400
TZOFFSETTO:-0500
TZNAME:EST
DTSTART:20221106T060000
END:STANDARD
BEGIN:DAYLIGHT
TZOFFSETFROM:-0500
TZOFFSETTO:-0400
TZNAME:EDT
DTSTART:20230312T070000
END:DAYLIGHT
BEGIN:STANDARD
TZOFFSETFROM:-0400
TZOFFSETTO:-0500
TZNAME:EST
DTSTART:20231105T060000
END:STANDARD
BEGIN:DAYLIGHT
TZOFFSETFROM:-0500
TZOFFSETTO:-0400
TZNAME:EDT
DTSTART:20240310T070000
END:DAYLIGHT
BEGIN:STANDARD
TZOFFSETFROM:-0400
TZOFFSETTO:-0500
TZNAME:EST
DTSTART:20241103T060000
END:STANDARD
END:VTIMEZONE
BEGIN:VEVENT
DTSTART;TZID=America/New_York:20231210T120000
DTEND;TZID=America/New_York:20231210T130000
DTSTAMP:20260421T014326
CREATED:20231201T231616Z
LAST-MODIFIED:20231210T030006Z
UID:34276-1702209600-1702213200@sjahillsdale.org
SUMMARY:BB Game: B56C (RT)
DESCRIPTION:
URL:https://sjahillsdale.org/event/bb-game-b56c-rt/
CATEGORIES:SJSA
END:VEVENT
BEGIN:VEVENT
DTSTART;TZID=America/New_York:20231210T131500
DTEND;TZID=America/New_York:20231210T141500
DTSTAMP:20260421T014326
CREATED:20231201T231617Z
LAST-MODIFIED:20231210T030007Z
UID:34277-1702214100-1702217700@sjahillsdale.org
SUMMARY:BB Game: B34A (KP)
DESCRIPTION:
URL:https://sjahillsdale.org/event/bb-game-b34a-kp/
CATEGORIES:SJSA
END:VEVENT
BEGIN:VEVENT
DTSTART;TZID=America/New_York:20231210T143000
DTEND;TZID=America/New_York:20231210T153000
DTSTAMP:20260421T014326
CREATED:20231201T231617Z
LAST-MODIFIED:20231210T030007Z
UID:34278-1702218600-1702222200@sjahillsdale.org
SUMMARY:BB Game: B56A (PD)
DESCRIPTION:
URL:https://sjahillsdale.org/event/bb-game-b56a-pd/
CATEGORIES:SJSA
END:VEVENT
BEGIN:VEVENT
DTSTART;TZID=America/New_York:20231210T160000
DTEND;TZID=America/New_York:20231210T171500
DTSTAMP:20260421T014326
CREATED:20231207T204713Z
LAST-MODIFIED:20231210T030007Z
UID:34525-1702224000-1702228500@sjahillsdale.org
SUMMARY:BB practice (LA)
DESCRIPTION:
URL:https://sjahillsdale.org/event/bb-practice-la-59/
CATEGORIES:SJSA
END:VEVENT
END:VCALENDAR