BEGIN:VCALENDAR
VERSION:2.0
PRODID:-//St. John&#039;s Academy - ECPv6.15.17//NONSGML v1.0//EN
CALSCALE:GREGORIAN
METHOD:PUBLISH
X-ORIGINAL-URL:https://sjahillsdale.org
X-WR-CALDESC:Events for St. John&#039;s Academy
REFRESH-INTERVAL;VALUE=DURATION:PT1H
X-Robots-Tag:noindex
X-PUBLISHED-TTL:PT1H
BEGIN:VTIMEZONE
TZID:America/New_York
BEGIN:DAYLIGHT
TZOFFSETFROM:-0500
TZOFFSETTO:-0400
TZNAME:EDT
DTSTART:20220313T070000
END:DAYLIGHT
BEGIN:STANDARD
TZOFFSETFROM:-0400
TZOFFSETTO:-0500
TZNAME:EST
DTSTART:20221106T060000
END:STANDARD
BEGIN:DAYLIGHT
TZOFFSETFROM:-0500
TZOFFSETTO:-0400
TZNAME:EDT
DTSTART:20230312T070000
END:DAYLIGHT
BEGIN:STANDARD
TZOFFSETFROM:-0400
TZOFFSETTO:-0500
TZNAME:EST
DTSTART:20231105T060000
END:STANDARD
BEGIN:DAYLIGHT
TZOFFSETFROM:-0500
TZOFFSETTO:-0400
TZNAME:EDT
DTSTART:20240310T070000
END:DAYLIGHT
BEGIN:STANDARD
TZOFFSETFROM:-0400
TZOFFSETTO:-0500
TZNAME:EST
DTSTART:20241103T060000
END:STANDARD
END:VTIMEZONE
BEGIN:VEVENT
DTSTART;TZID=America/New_York:20231129T120000
DTEND;TZID=America/New_York:20231129T233000
DTSTAMP:20260420T063638
CREATED:20230711T161429Z
LAST-MODIFIED:20230830T174133Z
UID:27637-1701259200-1701300600@sjahillsdale.org
SUMMARY:Noon dismissal/Parent Conferences - (No Aftercare)
DESCRIPTION:
URL:https://sjahillsdale.org/event/noon-dismissal-parent-conferences/2023-11-29/
CATEGORIES:General
END:VEVENT
BEGIN:VEVENT
DTSTART;TZID=America/New_York:20231129T161500
DTEND;TZID=America/New_York:20231129T173000
DTSTAMP:20260420T063638
CREATED:20231104T031733Z
LAST-MODIFIED:20231129T223107Z
UID:32288-1701274500-1701279000@sjahillsdale.org
SUMMARY:BB practice (GC)
DESCRIPTION:
URL:https://sjahillsdale.org/event/bb-practice-gc-23/
CATEGORIES:SJSA
END:VEVENT
BEGIN:VEVENT
DTSTART;TZID=America/New_York:20231129T173000
DTEND;TZID=America/New_York:20231129T183000
DTSTAMP:20260420T063638
CREATED:20231106T033026Z
LAST-MODIFIED:20231129T223107Z
UID:32526-1701279000-1701282600@sjahillsdale.org
SUMMARY:BB practice (JG)
DESCRIPTION:
URL:https://sjahillsdale.org/event/bb-practice-jg-33/
CATEGORIES:SJSA
END:VEVENT
BEGIN:VEVENT
DTSTART;TZID=America/New_York:20231129T183000
DTEND;TZID=America/New_York:20231129T193000
DTSTAMP:20260420T063638
CREATED:20231104T031733Z
LAST-MODIFIED:20231129T234808Z
UID:32289-1701282600-1701286200@sjahillsdale.org
SUMMARY:BB practice (KP)
DESCRIPTION:
URL:https://sjahillsdale.org/event/bb-practice-kp-3/
CATEGORIES:SJSA
END:VEVENT
BEGIN:VEVENT
DTSTART;TZID=America/New_York:20231129T193000
DTEND;TZID=America/New_York:20231129T203000
DTSTAMP:20260420T063638
CREATED:20231104T031734Z
LAST-MODIFIED:20231130T010206Z
UID:32290-1701286200-1701289800@sjahillsdale.org
SUMMARY:BB practice (LA)
DESCRIPTION:
URL:https://sjahillsdale.org/event/bb-practice-la-46/
CATEGORIES:SJSA
END:VEVENT
END:VCALENDAR