BEGIN:VCALENDAR
VERSION:2.0
PRODID:-//St. John&#039;s Academy - ECPv6.15.17//NONSGML v1.0//EN
CALSCALE:GREGORIAN
METHOD:PUBLISH
X-WR-CALNAME:St. John&#039;s Academy
X-ORIGINAL-URL:https://sjahillsdale.org
X-WR-CALDESC:Events for St. John&#039;s Academy
REFRESH-INTERVAL;VALUE=DURATION:PT1H
X-Robots-Tag:noindex
X-PUBLISHED-TTL:PT1H
BEGIN:VTIMEZONE
TZID:America/New_York
BEGIN:DAYLIGHT
TZOFFSETFROM:-0500
TZOFFSETTO:-0400
TZNAME:EDT
DTSTART:20220313T070000
END:DAYLIGHT
BEGIN:STANDARD
TZOFFSETFROM:-0400
TZOFFSETTO:-0500
TZNAME:EST
DTSTART:20221106T060000
END:STANDARD
BEGIN:DAYLIGHT
TZOFFSETFROM:-0500
TZOFFSETTO:-0400
TZNAME:EDT
DTSTART:20230312T070000
END:DAYLIGHT
BEGIN:STANDARD
TZOFFSETFROM:-0400
TZOFFSETTO:-0500
TZNAME:EST
DTSTART:20231105T060000
END:STANDARD
BEGIN:DAYLIGHT
TZOFFSETFROM:-0500
TZOFFSETTO:-0400
TZNAME:EDT
DTSTART:20240310T070000
END:DAYLIGHT
BEGIN:STANDARD
TZOFFSETFROM:-0400
TZOFFSETTO:-0500
TZNAME:EST
DTSTART:20241103T060000
END:STANDARD
END:VTIMEZONE
BEGIN:VEVENT
DTSTART;TZID=America/New_York:20231122T000000
DTEND;TZID=America/New_York:20231122T235959
DTSTAMP:20260421T005315
CREATED:20230711T151452Z
LAST-MODIFIED:20230711T151454Z
UID:27597-1700611200-1700697599@sjahillsdale.org
SUMMARY:RCAN End of 1st Trimester
DESCRIPTION:
URL:https://sjahillsdale.org/event/rcan-end-of-1st-trimester-2/
CATEGORIES:General
END:VEVENT
BEGIN:VEVENT
DTSTART;TZID=America/New_York:20231122T080000
DTEND;TZID=America/New_York:20231122T090000
DTSTAMP:20260421T005315
CREATED:20230830T181743Z
LAST-MODIFIED:20230830T181746Z
UID:29346-1700640000-1700643600@sjahillsdale.org
SUMMARY:Parish Mass for Thanksgiving (K-8th attending)
DESCRIPTION:
URL:https://sjahillsdale.org/event/parish-mass-for-thanksgiving-k-8th-attending/
LOCATION:St. John the Baptist Roman Catholic Church\, 69 Valley St.\, Hillsdale\, New Jersey\, 07642\, United States
CATEGORIES:General
END:VEVENT
BEGIN:VEVENT
DTSTART;TZID=America/New_York:20231122T120000
DTEND;TZID=America/New_York:20231122T233000
DTSTAMP:20260421T005315
CREATED:20230711T160203Z
LAST-MODIFIED:20230830T174005Z
UID:27634-1700654400-1700695800@sjahillsdale.org
SUMMARY:Noon dismissal(No Aftercare)-Thanksgiving Recess Begins
DESCRIPTION:
URL:https://sjahillsdale.org/event/noon-dismissal-thanksgiving-recess-begins-2/
CATEGORIES:General
END:VEVENT
BEGIN:VEVENT
DTSTART;TZID=America/New_York:20231122T160000
DTEND;TZID=America/New_York:20231122T173000
DTSTAMP:20260421T005315
CREATED:20231117T234511Z
LAST-MODIFIED:20231122T220204Z
UID:33389-1700668800-1700674200@sjahillsdale.org
SUMMARY:Cheer practice
DESCRIPTION:
URL:https://sjahillsdale.org/event/cheer-practice/
CATEGORIES:SJSA
END:VEVENT
BEGIN:VEVENT
DTSTART;TZID=America/New_York:20231122T173000
DTEND;TZID=America/New_York:20231122T183000
DTSTAMP:20260421T005315
CREATED:20231114T151615Z
LAST-MODIFIED:20231122T232006Z
UID:32859-1700674200-1700677800@sjahillsdale.org
SUMMARY:BB practice (NP)
DESCRIPTION:
URL:https://sjahillsdale.org/event/bb-practice-np-45/
CATEGORIES:SJSA
END:VEVENT
BEGIN:VEVENT
DTSTART;TZID=America/New_York:20231122T183000
DTEND;TZID=America/New_York:20231122T193000
DTSTAMP:20260421T005315
CREATED:20231104T031729Z
LAST-MODIFIED:20231123T003305Z
UID:32280-1700677800-1700681400@sjahillsdale.org
SUMMARY:BB practice (KP)
DESCRIPTION:
URL:https://sjahillsdale.org/event/bb-practice-kp-2/
CATEGORIES:SJSA
END:VEVENT
BEGIN:VEVENT
DTSTART;TZID=America/New_York:20231122T193000
DTEND;TZID=America/New_York:20231122T203000
DTSTAMP:20260421T005315
CREATED:20231104T031730Z
LAST-MODIFIED:20231123T003306Z
UID:32281-1700681400-1700685000@sjahillsdale.org
SUMMARY:BB practice (LA)
DESCRIPTION:
URL:https://sjahillsdale.org/event/bb-practice-la-45/
CATEGORIES:SJSA
END:VEVENT
END:VCALENDAR