BEGIN:VCALENDAR
VERSION:2.0
PRODID:-//St. John&#039;s Academy - ECPv6.15.20//NONSGML v1.0//EN
CALSCALE:GREGORIAN
METHOD:PUBLISH
X-WR-CALNAME:St. John&#039;s Academy
X-ORIGINAL-URL:https://sjahillsdale.org
X-WR-CALDESC:Events for St. John&#039;s Academy
REFRESH-INTERVAL;VALUE=DURATION:PT1H
X-Robots-Tag:noindex
X-PUBLISHED-TTL:PT1H
BEGIN:VTIMEZONE
TZID:America/New_York
BEGIN:DAYLIGHT
TZOFFSETFROM:-0500
TZOFFSETTO:-0400
TZNAME:EDT
DTSTART:20220313T070000
END:DAYLIGHT
BEGIN:STANDARD
TZOFFSETFROM:-0400
TZOFFSETTO:-0500
TZNAME:EST
DTSTART:20221106T060000
END:STANDARD
BEGIN:DAYLIGHT
TZOFFSETFROM:-0500
TZOFFSETTO:-0400
TZNAME:EDT
DTSTART:20230312T070000
END:DAYLIGHT
BEGIN:STANDARD
TZOFFSETFROM:-0400
TZOFFSETTO:-0500
TZNAME:EST
DTSTART:20231105T060000
END:STANDARD
BEGIN:DAYLIGHT
TZOFFSETFROM:-0500
TZOFFSETTO:-0400
TZNAME:EDT
DTSTART:20240310T070000
END:DAYLIGHT
BEGIN:STANDARD
TZOFFSETFROM:-0400
TZOFFSETTO:-0500
TZNAME:EST
DTSTART:20241103T060000
END:STANDARD
END:VTIMEZONE
BEGIN:VEVENT
DTSTART;TZID=America/New_York:20231121T161500
DTEND;TZID=America/New_York:20231121T173000
DTSTAMP:20260423T051536
CREATED:20231104T031726Z
LAST-MODIFIED:20231121T220505Z
UID:32277-1700583300-1700587800@sjahillsdale.org
SUMMARY:BB practice (GC)
DESCRIPTION:
URL:https://sjahillsdale.org/event/bb-practice-gc-22/
CATEGORIES:SJSA
END:VEVENT
BEGIN:VEVENT
DTSTART;TZID=America/New_York:20231121T173000
DTEND;TZID=America/New_York:20231121T183000
DTSTAMP:20260423T051536
CREATED:20231104T031727Z
LAST-MODIFIED:20231121T231708Z
UID:32278-1700587800-1700591400@sjahillsdale.org
SUMMARY:BB practice (JG)
DESCRIPTION:
URL:https://sjahillsdale.org/event/bb-practice-jg-19/
CATEGORIES:SJSA
END:VEVENT
BEGIN:VEVENT
DTSTART;TZID=America/New_York:20231121T183000
DTEND;TZID=America/New_York:20231121T193000
DTSTAMP:20260423T051536
CREATED:20231103T134840Z
LAST-MODIFIED:20231122T003006Z
UID:32217-1700591400-1700595000@sjahillsdale.org
SUMMARY:BB practice (NP)
DESCRIPTION:
URL:https://sjahillsdale.org/event/bb-practice-np/
CATEGORIES:SJSA
END:VEVENT
BEGIN:VEVENT
DTSTART;TZID=America/New_York:20231121T193000
DTEND;TZID=America/New_York:20231121T203000
DTSTAMP:20260423T051536
CREATED:20231104T031727Z
LAST-MODIFIED:20231122T013105Z
UID:32279-1700595000-1700598600@sjahillsdale.org
SUMMARY:BB practice (MJ)
DESCRIPTION:
URL:https://sjahillsdale.org/event/bb-practice-mj-36/
CATEGORIES:SJSA
END:VEVENT
END:VCALENDAR