BEGIN:VCALENDAR
VERSION:2.0
PRODID:-//St. John&#039;s Academy - ECPv6.15.17//NONSGML v1.0//EN
CALSCALE:GREGORIAN
METHOD:PUBLISH
X-ORIGINAL-URL:https://sjahillsdale.org
X-WR-CALDESC:Events for St. John&#039;s Academy
REFRESH-INTERVAL;VALUE=DURATION:PT1H
X-Robots-Tag:noindex
X-PUBLISHED-TTL:PT1H
BEGIN:VTIMEZONE
TZID:America/New_York
BEGIN:DAYLIGHT
TZOFFSETFROM:-0500
TZOFFSETTO:-0400
TZNAME:EDT
DTSTART:20220313T070000
END:DAYLIGHT
BEGIN:STANDARD
TZOFFSETFROM:-0400
TZOFFSETTO:-0500
TZNAME:EST
DTSTART:20221106T060000
END:STANDARD
BEGIN:DAYLIGHT
TZOFFSETFROM:-0500
TZOFFSETTO:-0400
TZNAME:EDT
DTSTART:20230312T070000
END:DAYLIGHT
BEGIN:STANDARD
TZOFFSETFROM:-0400
TZOFFSETTO:-0500
TZNAME:EST
DTSTART:20231105T060000
END:STANDARD
BEGIN:DAYLIGHT
TZOFFSETFROM:-0500
TZOFFSETTO:-0400
TZNAME:EDT
DTSTART:20240310T070000
END:DAYLIGHT
BEGIN:STANDARD
TZOFFSETFROM:-0400
TZOFFSETTO:-0500
TZNAME:EST
DTSTART:20241103T060000
END:STANDARD
END:VTIMEZONE
BEGIN:VEVENT
DTSTART;TZID=America/New_York:20230315T000000
DTEND;TZID=America/New_York:20230315T235959
DTSTAMP:20260419T102752
CREATED:20230217T165540Z
LAST-MODIFIED:20230217T165542Z
UID:23761-1678838400-1678924799@sjahillsdale.org
SUMMARY:Noon Dismissal for Students
DESCRIPTION:
URL:https://sjahillsdale.org/event/noon-dismissal-for-students-11/
CATEGORIES:General
END:VEVENT
BEGIN:VEVENT
DTSTART;TZID=America/New_York:20230315T090000
DTEND;TZID=America/New_York:20230315T210000
DTSTAMP:20260419T102752
CREATED:20230309T140906Z
LAST-MODIFIED:20230316T000903Z
UID:24323-1678870800-1678914000@sjahillsdale.org
SUMMARY:Gym closed
DESCRIPTION:
URL:https://sjahillsdale.org/event/gym-closed-22/
CATEGORIES:SJSA
END:VEVENT
END:VCALENDAR