BEGIN:VCALENDAR
VERSION:2.0
PRODID:-//St. John&#039;s Academy - ECPv6.15.17//NONSGML v1.0//EN
CALSCALE:GREGORIAN
METHOD:PUBLISH
X-ORIGINAL-URL:https://sjahillsdale.org
X-WR-CALDESC:Events for St. John&#039;s Academy
REFRESH-INTERVAL;VALUE=DURATION:PT1H
X-Robots-Tag:noindex
X-PUBLISHED-TTL:PT1H
BEGIN:VTIMEZONE
TZID:America/New_York
BEGIN:DAYLIGHT
TZOFFSETFROM:-0500
TZOFFSETTO:-0400
TZNAME:EDT
DTSTART:20250309T070000
END:DAYLIGHT
BEGIN:STANDARD
TZOFFSETFROM:-0400
TZOFFSETTO:-0500
TZNAME:EST
DTSTART:20251102T060000
END:STANDARD
BEGIN:DAYLIGHT
TZOFFSETFROM:-0500
TZOFFSETTO:-0400
TZNAME:EDT
DTSTART:20260308T070000
END:DAYLIGHT
BEGIN:STANDARD
TZOFFSETFROM:-0400
TZOFFSETTO:-0500
TZNAME:EST
DTSTART:20261101T060000
END:STANDARD
BEGIN:DAYLIGHT
TZOFFSETFROM:-0500
TZOFFSETTO:-0400
TZNAME:EDT
DTSTART:20270314T070000
END:DAYLIGHT
BEGIN:STANDARD
TZOFFSETFROM:-0400
TZOFFSETTO:-0500
TZNAME:EST
DTSTART:20271107T060000
END:STANDARD
END:VTIMEZONE
BEGIN:VEVENT
DTSTART;TZID=America/New_York:20260422T141500
DTEND;TZID=America/New_York:20260422T151500
DTSTAMP:20260420T150710
CREATED:20260303T141319Z
LAST-MODIFIED:20260303T141319Z
UID:911547-1776867300-1776870900@sjahillsdale.org
SUMMARY:Lego Challenge Club
DESCRIPTION:
URL:https://sjahillsdale.org/event/lego-challenge-club-2/2026-04-22/
CATEGORIES:General
END:VEVENT
BEGIN:VEVENT
DTSTART;TZID=America/New_York:20260429T141500
DTEND;TZID=America/New_York:20260429T151500
DTSTAMP:20260420T150710
CREATED:20260303T141319Z
LAST-MODIFIED:20260303T141319Z
UID:911548-1777472100-1777475700@sjahillsdale.org
SUMMARY:Lego Challenge Club
DESCRIPTION:
URL:https://sjahillsdale.org/event/lego-challenge-club-2/2026-04-29/
CATEGORIES:General
END:VEVENT
BEGIN:VEVENT
DTSTART;TZID=America/New_York:20260506T141500
DTEND;TZID=America/New_York:20260506T151500
DTSTAMP:20260420T150710
CREATED:20260303T141319Z
LAST-MODIFIED:20260303T141319Z
UID:911549-1778076900-1778080500@sjahillsdale.org
SUMMARY:Lego Challenge Club
DESCRIPTION:
URL:https://sjahillsdale.org/event/lego-challenge-club-2/2026-05-06/
CATEGORIES:General
END:VEVENT
END:VCALENDAR