BEGIN:VCALENDAR
VERSION:2.0
PRODID:-//St. John&#039;s Academy - ECPv6.15.17//NONSGML v1.0//EN
CALSCALE:GREGORIAN
METHOD:PUBLISH
X-ORIGINAL-URL:https://sjahillsdale.org
X-WR-CALDESC:Events for St. John&#039;s Academy
REFRESH-INTERVAL;VALUE=DURATION:PT1H
X-Robots-Tag:noindex
X-PUBLISHED-TTL:PT1H
BEGIN:VTIMEZONE
TZID:America/New_York
BEGIN:DAYLIGHT
TZOFFSETFROM:-0500
TZOFFSETTO:-0400
TZNAME:EDT
DTSTART:20240310T070000
END:DAYLIGHT
BEGIN:STANDARD
TZOFFSETFROM:-0400
TZOFFSETTO:-0500
TZNAME:EST
DTSTART:20241103T060000
END:STANDARD
BEGIN:DAYLIGHT
TZOFFSETFROM:-0500
TZOFFSETTO:-0400
TZNAME:EDT
DTSTART:20250309T070000
END:DAYLIGHT
BEGIN:STANDARD
TZOFFSETFROM:-0400
TZOFFSETTO:-0500
TZNAME:EST
DTSTART:20251102T060000
END:STANDARD
BEGIN:DAYLIGHT
TZOFFSETFROM:-0500
TZOFFSETTO:-0400
TZNAME:EDT
DTSTART:20260308T070000
END:DAYLIGHT
BEGIN:STANDARD
TZOFFSETFROM:-0400
TZOFFSETTO:-0500
TZNAME:EST
DTSTART:20261101T060000
END:STANDARD
END:VTIMEZONE
BEGIN:VEVENT
DTSTART;TZID=America/New_York:20250212T141500
DTEND;TZID=America/New_York:20250212T150000
DTSTAMP:20260420T151935
CREATED:20241114T191843Z
LAST-MODIFIED:20241114T191843Z
UID:47805-1739369700-1739372400@sjahillsdale.org
SUMMARY:Homework Helpers (Room 306)
DESCRIPTION:
URL:https://sjahillsdale.org/event/homework-helpers-room-306-3/2025-02-12/
CATEGORIES:General
END:VEVENT
BEGIN:VEVENT
DTSTART;TZID=America/New_York:20250129T141500
DTEND;TZID=America/New_York:20250129T150000
DTSTAMP:20260420T151935
CREATED:20241114T191843Z
LAST-MODIFIED:20241114T191843Z
UID:47803-1738160100-1738162800@sjahillsdale.org
SUMMARY:Homework Helpers (Room 306)
DESCRIPTION:
URL:https://sjahillsdale.org/event/homework-helpers-room-306-3/2025-01-29/
CATEGORIES:General
END:VEVENT
BEGIN:VEVENT
DTSTART;TZID=America/New_York:20250122T141500
DTEND;TZID=America/New_York:20250122T150000
DTSTAMP:20260420T151935
CREATED:20241114T191843Z
LAST-MODIFIED:20241114T191843Z
UID:47802-1737555300-1737558000@sjahillsdale.org
SUMMARY:Homework Helpers (Room 306)
DESCRIPTION:
URL:https://sjahillsdale.org/event/homework-helpers-room-306-3/2025-01-22/
CATEGORIES:General
END:VEVENT
BEGIN:VEVENT
DTSTART;TZID=America/New_York:20250115T141500
DTEND;TZID=America/New_York:20250115T150000
DTSTAMP:20260420T151935
CREATED:20241114T191843Z
LAST-MODIFIED:20241114T191843Z
UID:47801-1736950500-1736953200@sjahillsdale.org
SUMMARY:Homework Helpers (Room 306)
DESCRIPTION:
URL:https://sjahillsdale.org/event/homework-helpers-room-306-3/2025-01-15/
CATEGORIES:General
END:VEVENT
BEGIN:VEVENT
DTSTART;TZID=America/New_York:20250108T141500
DTEND;TZID=America/New_York:20250108T150000
DTSTAMP:20260420T151935
CREATED:20241114T191843Z
LAST-MODIFIED:20241114T191843Z
UID:47800-1736345700-1736348400@sjahillsdale.org
SUMMARY:Homework Helpers (Room 306)
DESCRIPTION:
URL:https://sjahillsdale.org/event/homework-helpers-room-306-3/2025-01-08/
CATEGORIES:General
END:VEVENT
END:VCALENDAR