BEGIN:VCALENDAR
VERSION:2.0
PRODID:-//St. John&#039;s Academy - ECPv6.15.17//NONSGML v1.0//EN
CALSCALE:GREGORIAN
METHOD:PUBLISH
X-ORIGINAL-URL:https://sjahillsdale.org
X-WR-CALDESC:Events for St. John&#039;s Academy
REFRESH-INTERVAL;VALUE=DURATION:PT1H
X-Robots-Tag:noindex
X-PUBLISHED-TTL:PT1H
BEGIN:VTIMEZONE
TZID:America/New_York
BEGIN:DAYLIGHT
TZOFFSETFROM:-0500
TZOFFSETTO:-0400
TZNAME:EDT
DTSTART:20250309T070000
END:DAYLIGHT
BEGIN:STANDARD
TZOFFSETFROM:-0400
TZOFFSETTO:-0500
TZNAME:EST
DTSTART:20251102T060000
END:STANDARD
BEGIN:DAYLIGHT
TZOFFSETFROM:-0500
TZOFFSETTO:-0400
TZNAME:EDT
DTSTART:20260308T070000
END:DAYLIGHT
BEGIN:STANDARD
TZOFFSETFROM:-0400
TZOFFSETTO:-0500
TZNAME:EST
DTSTART:20261101T060000
END:STANDARD
BEGIN:DAYLIGHT
TZOFFSETFROM:-0500
TZOFFSETTO:-0400
TZNAME:EDT
DTSTART:20270314T070000
END:DAYLIGHT
BEGIN:STANDARD
TZOFFSETFROM:-0400
TZOFFSETTO:-0500
TZNAME:EST
DTSTART:20271107T060000
END:STANDARD
END:VTIMEZONE
BEGIN:VEVENT
DTSTART;TZID=America/New_York:20260423T141500
DTEND;TZID=America/New_York:20260423T153000
DTSTAMP:20260421T122515
CREATED:20260305T012943Z
LAST-MODIFIED:20260305T012943Z
UID:911657-1776953700-1776958200@sjahillsdale.org
SUMMARY:Art & Gardening Enrichment (Grades PreK4 - 8th)
DESCRIPTION:
URL:https://sjahillsdale.org/event/art-gardening-enrichment-grades-prek4-8th-2/2026-04-23/
CATEGORIES:General
END:VEVENT
BEGIN:VEVENT
DTSTART;TZID=America/New_York:20260430T141500
DTEND;TZID=America/New_York:20260430T153000
DTSTAMP:20260421T122515
CREATED:20260305T012943Z
LAST-MODIFIED:20260305T012943Z
UID:911658-1777558500-1777563000@sjahillsdale.org
SUMMARY:Art & Gardening Enrichment (Grades PreK4 - 8th)
DESCRIPTION:
URL:https://sjahillsdale.org/event/art-gardening-enrichment-grades-prek4-8th-2/2026-04-30/
CATEGORIES:General
END:VEVENT
BEGIN:VEVENT
DTSTART;TZID=America/New_York:20260507T141500
DTEND;TZID=America/New_York:20260507T153000
DTSTAMP:20260421T122515
CREATED:20260305T012943Z
LAST-MODIFIED:20260305T012943Z
UID:911659-1778163300-1778167800@sjahillsdale.org
SUMMARY:Art & Gardening Enrichment (Grades PreK4 - 8th)
DESCRIPTION:
URL:https://sjahillsdale.org/event/art-gardening-enrichment-grades-prek4-8th-2/2026-05-07/
CATEGORIES:General
END:VEVENT
BEGIN:VEVENT
DTSTART;TZID=America/New_York:20260514T141500
DTEND;TZID=America/New_York:20260514T153000
DTSTAMP:20260421T122515
CREATED:20260305T012943Z
LAST-MODIFIED:20260305T012943Z
UID:911660-1778768100-1778772600@sjahillsdale.org
SUMMARY:Art & Gardening Enrichment (Grades PreK4 - 8th)
DESCRIPTION:
URL:https://sjahillsdale.org/event/art-gardening-enrichment-grades-prek4-8th-2/2026-05-14/
CATEGORIES:General
END:VEVENT
BEGIN:VEVENT
DTSTART;TZID=America/New_York:20260521T141500
DTEND;TZID=America/New_York:20260521T153000
DTSTAMP:20260421T122515
CREATED:20260305T012943Z
LAST-MODIFIED:20260305T012943Z
UID:911661-1779372900-1779377400@sjahillsdale.org
SUMMARY:Art & Gardening Enrichment (Grades PreK4 - 8th)
DESCRIPTION:
URL:https://sjahillsdale.org/event/art-gardening-enrichment-grades-prek4-8th-2/2026-05-21/
CATEGORIES:General
END:VEVENT
END:VCALENDAR